Workbook

Sheet Haftalık Görünüm
A1: Randevu Defteri — Haftalık Görünüm
A2: Ücretsiz şablon · İşletme Yönetim · isletmeyonetim.com — Programda tutmak için tıklayın (250 kayıt ücretsiz)
A3: Haftanın ilk günü → | B3: 46286 | C3: Tarihi değiştirin; tablo o haftanın randevularını gösterir. Dolu saatler renklenir, randevunun başladığı hücrede müşteri adı yazar.
A5: Saat | B5: Pazartesi | C5: Salı | D5: Çarşamba | E5: Perşembe | F5: Cuma | G5: Cumartesi | H5: Pazar
B6: =$B$3+0 | C6: =$B$3+1 | D6: =$B$3+2 | E6: =$B$3+3 | F6: =$B$3+4 | G6: =$B$3+5 | H6: =$B$3+6
A7: 0.33333333 | B7: =IF(SUMPRODUCT(MAX((Randevular!$A$5:$A$1504=B$6)*(ABS(Randevular!$B$5:$B$1504-$A7)<0.0001)*(Randevular!$J$5:$J$1504<>"İptal")*(ROW(Randevular!$A$5:$A$1504)-4)))=0,"",INDEX(Randevular!$E$5:$E$1504,SUMPRODUCT(MAX((Randevular!$A$5:$A$1504=B$6)*(ABS(Randevular!$B$5:$B$1504-$A7)<0.0001)*(Randevular!$J$5:$J$1504<>"İptal")*(ROW(Randevular!$A$5:$A$1504)-4))))&IF(INDEX(Randevular!$H$5:$H$1504,SUMPRODUCT(MAX((Randevular!$A$5:$A$1504=B$6)*(ABS(Randevular!$B$5:$B$1504-$A7)<0.0001)*(Randevular!$J$5:$J$1504<>"İptal")*(ROW(Randevular!$A$5:$A$1504)-4))))="",""," · "&INDEX(Randevular!$H$5:$H$1504,SUMPRODUCT(MAX((Randevular!$A$5:$A$1504=B$6)*(ABS(Randevular!$B$5:$B$1504-$A7)<0.0001)*(Randevular!$J$5:$J$1504<>"İptal")*(ROW(Randevular!$A$5:$A$1504)-4)))))) | C7: =IF(SUMPRODUCT(MAX((Randevular!$A$5:$A$1504=C$6)*(ABS(Randevular!$B$5:$B$1504-$A7)<0.0001)*(Randevular!$J$5:$J$1504<>"İptal")*(ROW(Randevular!$A$5:$A$1504)-4)))=0,"",INDEX(Randevular!$E$5:$E$1504,SUMPRODUCT(MAX((Randevular!$A$5:$A$1504=C$6)*(ABS(Randevular!$B$5:$B$1504-$A7)<0.0001)*(Randevular!$J$5:$J$1504<>"İptal")*(ROW(Randevular!$A$5:$A$1504)-4))))&IF(INDEX(Randevular!$H$5:$H$1504,SUMPRODUCT(MAX((Randevular!$A$5:$A$1504=C$6)*(ABS(Randevular!$B$5:$B$1504-$A7)<0.0001)*(Randevular!$J$5:$J$1504<>"İptal")*(ROW(Randevular!$A$5:$A$1504)-4))))="",""," · "&INDEX(Randevular!$H$5:$H$1504,SUMPRODUCT(MAX((Randevular!$A$5:$A$1504=C$6)*(ABS(Randevular!$B$5:$B$1504-$A7)<0.0001)*(Randevular!$J$5:$J$1504<>"İptal")*(ROW(Randevular!$A$5:$A$1504)-4)))))) | D7: =IF(SUMPRODUCT(MAX((Randevular!$A$5:$A$1504=D$6)*(ABS(Randevular!$B$5:$B$1504-$A7)<0.0001)*(Randevular!$J$5:$J$1504<>"İptal")*(ROW(Randevular!$A$5:$A$1504)-4)))=0,"",INDEX(Randevular!$E$5:$E$1504,SUMPRODUCT(MAX((Randevular!$A$5:$A$1504=D$6)*(ABS(Randevular!$B$5:$B$1504-$A7)<0.0001)*(Randevular!$J$5:$J$1504<>"İptal")*(ROW(Randevular!$A$5:$A$1504)-4))))&IF(INDEX(Randevular!$H$5:$H$1504,SUMPRODUCT(MAX((Randevular!$A$5:$A$1504=D$6)*(ABS(Randevular!$B$5:$B$1504-$A7)<0.0001)*(Randevular!$J$5:$J$1504<>"İptal")*(ROW(Randevular!$A$5:$A$1504)-4))))="",""," · "&INDEX(Randevular!$H$5:$H$1504,SUMPRODUCT(MAX((Randevular!$A$5:$A$1504=D$6)*(ABS(Randevular!$B$5:$B$1504-$A7)<0.0001)*(Randevular!$J$5:$J$1504<>"İptal")*(ROW(Randevular!$A$5:$A$1504)-4)))))) | E7: =IF(SUMPRODUCT(MAX((Randevular!$A$5:$A$1504=E$6)*(ABS(Randevular!$B$5:$B$1504-$A7)<0.0001)*(Randevular!$J$5:$J$1504<>"İptal")*(ROW(Randevular!$A$5:$A$1504)-4)))=0,"",INDEX(Randevular!$E$5:$E$1504,SUMPRODUCT(MAX((Randevular!$A$5:$A$1504=E$6)*(ABS(Randevular!$B$5:$B$1504-$A7)<0.0001)*(Randevular!$J$5:$J$1504<>"İptal")*(ROW(Randevular!$A$5:$A$1504)-4))))&IF(INDEX(Randevular!$H$5:$H$1504,SUMPRODUCT(MAX((Randevular!$A$5:$A$1504=E$6)*(ABS(Randevular!$B$5:$B$1504-$A7)<0.0001)*(Randevular!$J$5:$J$1504<>"İptal")*(ROW(Randevular!$A$5:$A$1504)-4))))="",""," · "&INDEX(Randevular!$H$5:$H$1504,SUMPRODUCT(MAX((Randevular!$A$5:$A$1504=E$6)*(ABS(Randevular!$B$5:$B$1504-$A7)<0.0001)*(Randevular!$J$5:$J$1504<>"İptal")*(ROW(Randevular!$A$5:$A$1504)-4)))))) | F7: =IF(SUMPRODUCT(MAX((Randevular!$A$5:$A$1504=F$6)*(ABS(Randevular!$B$5:$B$1504-$A7)<0.0001)*(Randevular!$J$5:$J$1504<>"İptal")*(ROW(Randevular!$A$5:$A$1504)-4)))=0,"",INDEX(Randevular!$E$5:$E$1504,SUMPRODUCT(MAX((Randevular!$A$5:$A$1504=F$6)*(ABS(Randevular!$B$5:$B$1504-$A7)<0.0001)*(Randevular!$J$5:$J$1504<>"İptal")*(ROW(Randevular!$A$5:$A$1504)-4))))&IF(INDEX(Randevular!$H$5:$H$1504,SUMPRODUCT(MAX((Randevular!$A$5:$A$1504=F$6)*(ABS(Randevular!$B$5:$B$1504-$A7)<0.0001)*(Randevular!$J$5:$J$1504<>"İptal")*(ROW(Randevular!$A$5:$A$1504)-4))))="",""," · "&INDEX(Randevular!$H$5:$H$1504,SUMPRODUCT(MAX((Randevular!$A$5:$A$1504=F$6)*(ABS(Randevular!$B$5:$B$1504-$A7)<0.0001)*(Randevular!$J$5:$J$1504<>"İptal")*(ROW(Randevular!$A$5:$A$1504)-4)))))) | G7: =IF(SUMPRODUCT(MAX((Randevular!$A$5:$A$1504=G$6)*(ABS(Randevular!$B$5:$B$1504-$A7)<0.0001)*(Randevular!$J$5:$J$1504<>"İptal")*(ROW(Randevular!$A$5:$A$1504)-4)))=0,"",INDEX(Randevular!$E$5:$E$1504,SUMPRODUCT(MAX((Randevular!$A$5:$A$1504=G$6)*(ABS(Randevular!$B$5:$B$1504-$A7)<0.0001)*(Randevular!$J$5:$J$1504<>"İptal")*(ROW(Randevular!$A$5:$A$1504)-4))))&IF(INDEX(Randevular!$H$5:$H$1504,SUMPRODUCT(MAX((Randevular!$A$5:$A$1504=G$6)*(ABS(Randevular!$B$5:$B$1504-$A7)<0.0001)*(Randevular!$J$5:$J$1504<>"İptal")*(ROW(Randevular!$A$5:$A$1504)-4))))="",""," · "&INDEX(Randevular!$H$5:$H$1504,SUMPRODUCT(MAX((Randevular!$A$5:$A$1504=G$6)*(ABS(Randevular!$B$5:$B$1504-$A7)<0.0001)*(Randevular!$J$5:$J$1504<>"İptal")*(ROW(Randevular!$A$5:$A$1504)-4)))))) | H7: =IF(SUMPRODUCT(MAX((Randevular!$A$5:$A$1504=H$6)*(ABS(Randevular!$B$5:$B$1504-$A7)<0.0001)*(Randevular!$J$5:$J$1504<>"İptal")*(ROW(Randevular!$A$5:$A$1504)-4)))=0,"",INDEX(Randevular!$E$5:$E$1504,SUMPRODUCT(MAX((Randevular!$A$5:$A$1504=H$6)*(ABS(Randevular!$B$5:$B$1504-$A7)<0.0001)*(Randevular!$J$5:$J$1504<>"İptal")*(ROW(Randevular!$A$5:$A$1504)-4))))&IF(INDEX(Randevular!$H$5:$H$1504,SUMPRODUCT(MAX((Randevular!$A$5:$A$1504=H$6)*(ABS(Randevular!$B$5:$B$1504-$A7)<0.0001)*(Randevular!$J$5:$J$1504<>"İptal")*(ROW(Randevular!$A$5:$A$1504)-4))))="",""," · "&INDEX(Randevular!$H$5:$H$1504,SUMPRODUCT(MAX((Randevular!$A$5:$A$1504=H$6)*(ABS(Randevular!$B$5:$B$1504-$A7)<0.0001)*(Randevular!$J$5:$J$1504<>"İptal")*(ROW(Randevular!$A$5:$A$1504)-4))))))
A8: 0.35416667 | B8: =IF(SUMPRODUCT(MAX((Randevular!$A$5:$A$1504=B$6)*(ABS(Randevular!$B$5:$B$1504-$A8)<0.0001)*(Randevular!$J$5:$J$1504<>"İptal")*(ROW(Randevular!$A$5:$A$1504)-4)))=0,"",INDEX(Randevular!$E$5:$E$1504,SUMPRODUCT(MAX((Randevular!$A$5:$A$1504=B$6)*(ABS(Randevular!$B$5:$B$1504-$A8)<0.0001)*(Randevular!$J$5:$J$1504<>"İptal")*(ROW(Randevular!$A$5:$A$1504)-4))))&IF(INDEX(Randevular!$H$5:$H$1504,SUMPRODUCT(MAX((Randevular!$A$5:$A$1504=B$6)*(ABS(Randevular!$B$5:$B$1504-$A8)<0.0001)*(Randevular!$J$5:$J$1504<>"İptal")*(ROW(Randevular!$A$5:$A$1504)-4))))="",""," · "&INDEX(Randevular!$H$5:$H$1504,SUMPRODUCT(MAX((Randevular!$A$5:$A$1504=B$6)*(ABS(Randevular!$B$5:$B$1504-$A8)<0.0001)*(Randevular!$J$5:$J$1504<>"İptal")*(ROW(Randevular!$A$5:$A$1504)-4)))))) | C8: =IF(SUMPRODUCT(MAX((Randevular!$A$5:$A$1504=C$6)*(ABS(Randevular!$B$5:$B$1504-$A8)<0.0001)*(Randevular!$J$5:$J$1504<>"İptal")*(ROW(Randevular!$A$5:$A$1504)-4)))=0,"",INDEX(Randevular!$E$5:$E$1504,SUMPRODUCT(MAX((Randevular!$A$5:$A$1504=C$6)*(ABS(Randevular!$B$5:$B$1504-$A8)<0.0001)*(Randevular!$J$5:$J$1504<>"İptal")*(ROW(Randevular!$A$5:$A$1504)-4))))&IF(INDEX(Randevular!$H$5:$H$1504,SUMPRODUCT(MAX((Randevular!$A$5:$A$1504=C$6)*(ABS(Randevular!$B$5:$B$1504-$A8)<0.0001)*(Randevular!$J$5:$J$1504<>"İptal")*(ROW(Randevular!$A$5:$A$1504)-4))))="",""," · "&INDEX(Randevular!$H$5:$H$1504,SUMPRODUCT(MAX((Randevular!$A$5:$A$1504=C$6)*(ABS(Randevular!$B$5:$B$1504-$A8)<0.0001)*(Randevular!$J$5:$J$1504<>"İptal")*(ROW(Randevular!$A$5:$A$1504)-4)))))) | D8: =IF(SUMPRODUCT(MAX((Randevular!$A$5:$A$1504=D$6)*(ABS(Randevular!$B$5:$B$1504-$A8)<0.0001)*(Randevular!$J$5:$J$1504<>"İptal")*(ROW(Randevular!$A$5:$A$1504)-4)))=0,"",INDEX(Randevular!$E$5:$E$1504,SUMPRODUCT(MAX((Randevular!$A$5:$A$1504=D$6)*(ABS(Randevular!$B$5:$B$1504-$A8)<0.0001)*(Randevular!$J$5:$J$1504<>"İptal")*(ROW(Randevular!$A$5:$A$1504)-4))))&IF(INDEX(Randevular!$H$5:$H$1504,SUMPRODUCT(MAX((Randevular!$A$5:$A$1504=D$6)*(ABS(Randevular!$B$5:$B$1504-$A8)<0.0001)*(Randevular!$J$5:$J$1504<>"İptal")*(ROW(Randevular!$A$5:$A$1504)-4))))="",""," · "&INDEX(Randevular!$H$5:$H$1504,SUMPRODUCT(MAX((Randevular!$A$5:$A$1504=D$6)*(ABS(Randevular!$B$5:$B$1504-$A8)<0.0001)*(Randevular!$J$5:$J$1504<>"İptal")*(ROW(Randevular!$A$5:$A$1504)-4)))))) | E8: =IF(SUMPRODUCT(MAX((Randevular!$A$5:$A$1504=E$6)*(ABS(Randevular!$B$5:$B$1504-$A8)<0.0001)*(Randevular!$J$5:$J$1504<>"İptal")*(ROW(Randevular!$A$5:$A$1504)-4)))=0,"",INDEX(Randevular!$E$5:$E$1504,SUMPRODUCT(MAX((Randevular!$A$5:$A$1504=E$6)*(ABS(Randevular!$B$5:$B$1504-$A8)<0.0001)*(Randevular!$J$5:$J$1504<>"İptal")*(ROW(Randevular!$A$5:$A$1504)-4))))&IF(INDEX(Randevular!$H$5:$H$1504,SUMPRODUCT(MAX((Randevular!$A$5:$A$1504=E$6)*(ABS(Randevular!$B$5:$B$1504-$A8)<0.0001)*(Randevular!$J$5:$J$1504<>"İptal")*(ROW(Randevular!$A$5:$A$1504)-4))))="",""," · "&INDEX(Randevular!$H$5:$H$1504,SUMPRODUCT(MAX((Randevular!$A$5:$A$1504=E$6)*(ABS(Randevular!$B$5:$B$1504-$A8)<0.0001)*(Randevular!$J$5:$J$1504<>"İptal")*(ROW(Randevular!$A$5:$A$1504)-4)))))) | F8: =IF(SUMPRODUCT(MAX((Randevular!$A$5:$A$1504=F$6)*(ABS(Randevular!$B$5:$B$1504-$A8)<0.0001)*(Randevular!$J$5:$J$1504<>"İptal")*(ROW(Randevular!$A$5:$A$1504)-4)))=0,"",INDEX(Randevular!$E$5:$E$1504,SUMPRODUCT(MAX((Randevular!$A$5:$A$1504=F$6)*(ABS(Randevular!$B$5:$B$1504-$A8)<0.0001)*(Randevular!$J$5:$J$1504<>"İptal")*(ROW(Randevular!$A$5:$A$1504)-4))))&IF(INDEX(Randevular!$H$5:$H$1504,SUMPRODUCT(MAX((Randevular!$A$5:$A$1504=F$6)*(ABS(Randevular!$B$5:$B$1504-$A8)<0.0001)*(Randevular!$J$5:$J$1504<>"İptal")*(ROW(Randevular!$A$5:$A$1504)-4))))="",""," · "&INDEX(Randevular!$H$5:$H$1504,SUMPRODUCT(MAX((Randevular!$A$5:$A$1504=F$6)*(ABS(Randevular!$B$5:$B$1504-$A8)<0.0001)*(Randevular!$J$5:$J$1504<>"İptal")*(ROW(Randevular!$A$5:$A$1504)-4)))))) | G8: =IF(SUMPRODUCT(MAX((Randevular!$A$5:$A$1504=G$6)*(ABS(Randevular!$B$5:$B$1504-$A8)<0.0001)*(Randevular!$J$5:$J$1504<>"İptal")*(ROW(Randevular!$A$5:$A$1504)-4)))=0,"",INDEX(Randevular!$E$5:$E$1504,SUMPRODUCT(MAX((Randevular!$A$5:$A$1504=G$6)*(ABS(Randevular!$B$5:$B$1504-$A8)<0.0001)*(Randevular!$J$5:$J$1504<>"İptal")*(ROW(Randevular!$A$5:$A$1504)-4))))&IF(INDEX(Randevular!$H$5:$H$1504,SUMPRODUCT(MAX((Randevular!$A$5:$A$1504=G$6)*(ABS(Randevular!$B$5:$B$1504-$A8)<0.0001)*(Randevular!$J$5:$J$1504<>"İptal")*(ROW(Randevular!$A$5:$A$1504)-4))))="",""," · "&INDEX(Randevular!$H$5:$H$1504,SUMPRODUCT(MAX((Randevular!$A$5:$A$1504=G$6)*(ABS(Randevular!$B$5:$B$1504-$A8)<0.0001)*(Randevular!$J$5:$J$1504<>"İptal")*(ROW(Randevular!$A$5:$A$1504)-4)))))) | H8: =IF(SUMPRODUCT(MAX((Randevular!$A$5:$A$1504=H$6)*(ABS(Randevular!$B$5:$B$1504-$A8)<0.0001)*(Randevular!$J$5:$J$1504<>"İptal")*(ROW(Randevular!$A$5:$A$1504)-4)))=0,"",INDEX(Randevular!$E$5:$E$1504,SUMPRODUCT(MAX((Randevular!$A$5:$A$1504=H$6)*(ABS(Randevular!$B$5:$B$1504-$A8)<0.0001)*(Randevular!$J$5:$J$1504<>"İptal")*(ROW(Randevular!$A$5:$A$1504)-4))))&IF(INDEX(Randevular!$H$5:$H$1504,SUMPRODUCT(MAX((Randevular!$A$5:$A$1504=H$6)*(ABS(Randevular!$B$5:$B$1504-$A8)<0.0001)*(Randevular!$J$5:$J$1504<>"İptal")*(ROW(Randevular!$A$5:$A$1504)-4))))="",""," · "&INDEX(Randevular!$H$5:$H$1504,SUMPRODUCT(MAX((Randevular!$A$5:$A$1504=H$6)*(ABS(Randevular!$B$5:$B$1504-$A8)<0.0001)*(Randevular!$J$5:$J$1504<>"İptal")*(ROW(Randevular!$A$5:$A$1504)-4))))))
A9: 0.375 | B9: =IF(SUMPRODUCT(MAX((Randevular!$A$5:$A$1504=B$6)*(ABS(Randevular!$B$5:$B$1504-$A9)<0.0001)*(Randevular!$J$5:$J$1504<>"İptal")*(ROW(Randevular!$A$5:$A$1504)-4)))=0,"",INDEX(Randevular!$E$5:$E$1504,SUMPRODUCT(MAX((Randevular!$A$5:$A$1504=B$6)*(ABS(Randevular!$B$5:$B$1504-$A9)<0.0001)*(Randevular!$J$5:$J$1504<>"İptal")*(ROW(Randevular!$A$5:$A$1504)-4))))&IF(INDEX(Randevular!$H$5:$H$1504,SUMPRODUCT(MAX((Randevular!$A$5:$A$1504=B$6)*(ABS(Randevular!$B$5:$B$1504-$A9)<0.0001)*(Randevular!$J$5:$J$1504<>"İptal")*(ROW(Randevular!$A$5:$A$1504)-4))))="",""," · "&INDEX(Randevular!$H$5:$H$1504,SUMPRODUCT(MAX((Randevular!$A$5:$A$1504=B$6)*(ABS(Randevular!$B$5:$B$1504-$A9)<0.0001)*(Randevular!$J$5:$J$1504<>"İptal")*(ROW(Randevular!$A$5:$A$1504)-4)))))) | C9: =IF(SUMPRODUCT(MAX((Randevular!$A$5:$A$1504=C$6)*(ABS(Randevular!$B$5:$B$1504-$A9)<0.0001)*(Randevular!$J$5:$J$1504<>"İptal")*(ROW(Randevular!$A$5:$A$1504)-4)))=0,"",INDEX(Randevular!$E$5:$E$1504,SUMPRODUCT(MAX((Randevular!$A$5:$A$1504=C$6)*(ABS(Randevular!$B$5:$B$1504-$A9)<0.0001)*(Randevular!$J$5:$J$1504<>"İptal")*(ROW(Randevular!$A$5:$A$1504)-4))))&IF(INDEX(Randevular!$H$5:$H$1504,SUMPRODUCT(MAX((Randevular!$A$5:$A$1504=C$6)*(ABS(Randevular!$B$5:$B$1504-$A9)<0.0001)*(Randevular!$J$5:$J$1504<>"İptal")*(ROW(Randevular!$A$5:$A$1504)-4))))="",""," · "&INDEX(Randevular!$H$5:$H$1504,SUMPRODUCT(MAX((Randevular!$A$5:$A$1504=C$6)*(ABS(Randevular!$B$5:$B$1504-$A9)<0.0001)*(Randevular!$J$5:$J$1504<>"İptal")*(ROW(Randevular!$A$5:$A$1504)-4)))))) | D9: =IF(SUMPRODUCT(MAX((Randevular!$A$5:$A$1504=D$6)*(ABS(Randevular!$B$5:$B$1504-$A9)<0.0001)*(Randevular!$J$5:$J$1504<>"İptal")*(ROW(Randevular!$A$5:$A$1504)-4)))=0,"",INDEX(Randevular!$E$5:$E$1504,SUMPRODUCT(MAX((Randevular!$A$5:$A$1504=D$6)*(ABS(Randevular!$B$5:$B$1504-$A9)<0.0001)*(Randevular!$J$5:$J$1504<>"İptal")*(ROW(Randevular!$A$5:$A$1504)-4))))&IF(INDEX(Randevular!$H$5:$H$1504,SUMPRODUCT(MAX((Randevular!$A$5:$A$1504=D$6)*(ABS(Randevular!$B$5:$B$1504-$A9)<0.0001)*(Randevular!$J$5:$J$1504<>"İptal")*(ROW(Randevular!$A$5:$A$1504)-4))))="",""," · "&INDEX(Randevular!$H$5:$H$1504,SUMPRODUCT(MAX((Randevular!$A$5:$A$1504=D$6)*(ABS(Randevular!$B$5:$B$1504-$A9)<0.0001)*(Randevular!$J$5:$J$1504<>"İptal")*(ROW(Randevular!$A$5:$A$1504)-4)))))) | E9: =IF(SUMPRODUCT(MAX((Randevular!$A$5:$A$1504=E$6)*(ABS(Randevular!$B$5:$B$1504-$A9)<0.0001)*(Randevular!$J$5:$J$1504<>"İptal")*(ROW(Randevular!$A$5:$A$1504)-4)))=0,"",INDEX(Randevular!$E$5:$E$1504,SUMPRODUCT(MAX((Randevular!$A$5:$A$1504=E$6)*(ABS(Randevular!$B$5:$B$1504-$A9)<0.0001)*(Randevular!$J$5:$J$1504<>"İptal")*(ROW(Randevular!$A$5:$A$1504)-4))))&IF(INDEX(Randevular!$H$5:$H$1504,SUMPRODUCT(MAX((Randevular!$A$5:$A$1504=E$6)*(ABS(Randevular!$B$5:$B$1504-$A9)<0.0001)*(Randevular!$J$5:$J$1504<>"İptal")*(ROW(Randevular!$A$5:$A$1504)-4))))="",""," · "&INDEX(Randevular!$H$5:$H$1504,SUMPRODUCT(MAX((Randevular!$A$5:$A$1504=E$6)*(ABS(Randevular!$B$5:$B$1504-$A9)<0.0001)*(Randevular!$J$5:$J$1504<>"İptal")*(ROW(Randevular!$A$5:$A$1504)-4)))))) | F9: =IF(SUMPRODUCT(MAX((Randevular!$A$5:$A$1504=F$6)*(ABS(Randevular!$B$5:$B$1504-$A9)<0.0001)*(Randevular!$J$5:$J$1504<>"İptal")*(ROW(Randevular!$A$5:$A$1504)-4)))=0,"",INDEX(Randevular!$E$5:$E$1504,SUMPRODUCT(MAX((Randevular!$A$5:$A$1504=F$6)*(ABS(Randevular!$B$5:$B$1504-$A9)<0.0001)*(Randevular!$J$5:$J$1504<>"İptal")*(ROW(Randevular!$A$5:$A$1504)-4))))&IF(INDEX(Randevular!$H$5:$H$1504,SUMPRODUCT(MAX((Randevular!$A$5:$A$1504=F$6)*(ABS(Randevular!$B$5:$B$1504-$A9)<0.0001)*(Randevular!$J$5:$J$1504<>"İptal")*(ROW(Randevular!$A$5:$A$1504)-4))))="",""," · "&INDEX(Randevular!$H$5:$H$1504,SUMPRODUCT(MAX((Randevular!$A$5:$A$1504=F$6)*(ABS(Randevular!$B$5:$B$1504-$A9)<0.0001)*(Randevular!$J$5:$J$1504<>"İptal")*(ROW(Randevular!$A$5:$A$1504)-4)))))) | G9: =IF(SUMPRODUCT(MAX((Randevular!$A$5:$A$1504=G$6)*(ABS(Randevular!$B$5:$B$1504-$A9)<0.0001)*(Randevular!$J$5:$J$1504<>"İptal")*(ROW(Randevular!$A$5:$A$1504)-4)))=0,"",INDEX(Randevular!$E$5:$E$1504,SUMPRODUCT(MAX((Randevular!$A$5:$A$1504=G$6)*(ABS(Randevular!$B$5:$B$1504-$A9)<0.0001)*(Randevular!$J$5:$J$1504<>"İptal")*(ROW(Randevular!$A$5:$A$1504)-4))))&IF(INDEX(Randevular!$H$5:$H$1504,SUMPRODUCT(MAX((Randevular!$A$5:$A$1504=G$6)*(ABS(Randevular!$B$5:$B$1504-$A9)<0.0001)*(Randevular!$J$5:$J$1504<>"İptal")*(ROW(Randevular!$A$5:$A$1504)-4))))="",""," · "&INDEX(Randevular!$H$5:$H$1504,SUMPRODUCT(MAX((Randevular!$A$5:$A$1504=G$6)*(ABS(Randevular!$B$5:$B$1504-$A9)<0.0001)*(Randevular!$J$5:$J$1504<>"İptal")*(ROW(Randevular!$A$5:$A$1504)-4)))))) | H9: =IF(SUMPRODUCT(MAX((Randevular!$A$5:$A$1504=H$6)*(ABS(Randevular!$B$5:$B$1504-$A9)<0.0001)*(Randevular!$J$5:$J$1504<>"İptal")*(ROW(Randevular!$A$5:$A$1504)-4)))=0,"",INDEX(Randevular!$E$5:$E$1504,SUMPRODUCT(MAX((Randevular!$A$5:$A$1504=H$6)*(ABS(Randevular!$B$5:$B$1504-$A9)<0.0001)*(Randevular!$J$5:$J$1504<>"İptal")*(ROW(Randevular!$A$5:$A$1504)-4))))&IF(INDEX(Randevular!$H$5:$H$1504,SUMPRODUCT(MAX((Randevular!$A$5:$A$1504=H$6)*(ABS(Randevular!$B$5:$B$1504-$A9)<0.0001)*(Randevular!$J$5:$J$1504<>"İptal")*(ROW(Randevular!$A$5:$A$1504)-4))))="",""," · "&INDEX(Randevular!$H$5:$H$1504,SUMPRODUCT(MAX((Randevular!$A$5:$A$1504=H$6)*(ABS(Randevular!$B$5:$B$1504-$A9)<0.0001)*(Randevular!$J$5:$J$1504<>"İptal")*(ROW(Randevular!$A$5:$A$1504)-4))))))
A10: 0.39583333 | B10: =IF(SUMPRODUCT(MAX((Randevular!$A$5:$A$1504=B$6)*(ABS(Randevular!$B$5:$B$1504-$A10)<0.0001)*(Randevular!$J$5:$J$1504<>"İptal")*(ROW(Randevular!$A$5:$A$1504)-4)))=0,"",INDEX(Randevular!$E$5:$E$1504,SUMPRODUCT(MAX((Randevular!$A$5:$A$1504=B$6)*(ABS(Randevular!$B$5:$B$1504-$A10)<0.0001)*(Randevular!$J$5:$J$1504<>"İptal")*(ROW(Randevular!$A$5:$A$1504)-4))))&IF(INDEX(Randevular!$H$5:$H$1504,SUMPRODUCT(MAX((Randevular!$A$5:$A$1504=B$6)*(ABS(Randevular!$B$5:$B$1504-$A10)<0.0001)*(Randevular!$J$5:$J$1504<>"İptal")*(ROW(Randevular!$A$5:$A$1504)-4))))="",""," · "&INDEX(Randevular!$H$5:$H$1504,SUMPRODUCT(MAX((Randevular!$A$5:$A$1504=B$6)*(ABS(Randevular!$B$5:$B$1504-$A10)<0.0001)*(Randevular!$J$5:$J$1504<>"İptal")*(ROW(Randevular!$A$5:$A$1504)-4)))))) | C10: =IF(SUMPRODUCT(MAX((Randevular!$A$5:$A$1504=C$6)*(ABS(Randevular!$B$5:$B$1504-$A10)<0.0001)*(Randevular!$J$5:$J$1504<>"İptal")*(ROW(Randevular!$A$5:$A$1504)-4)))=0,"",INDEX(Randevular!$E$5:$E$1504,SUMPRODUCT(MAX((Randevular!$A$5:$A$1504=C$6)*(ABS(Randevular!$B$5:$B$1504-$A10)<0.0001)*(Randevular!$J$5:$J$1504<>"İptal")*(ROW(Randevular!$A$5:$A$1504)-4))))&IF(INDEX(Randevular!$H$5:$H$1504,SUMPRODUCT(MAX((Randevular!$A$5:$A$1504=C$6)*(ABS(Randevular!$B$5:$B$1504-$A10)<0.0001)*(Randevular!$J$5:$J$1504<>"İptal")*(ROW(Randevular!$A$5:$A$1504)-4))))="",""," · "&INDEX(Randevular!$H$5:$H$1504,SUMPRODUCT(MAX((Randevular!$A$5:$A$1504=C$6)*(ABS(Randevular!$B$5:$B$1504-$A10)<0.0001)*(Randevular!$J$5:$J$1504<>"İptal")*(ROW(Randevular!$A$5:$A$1504)-4)))))) | D10: =IF(SUMPRODUCT(MAX((Randevular!$A$5:$A$1504=D$6)*(ABS(Randevular!$B$5:$B$1504-$A10)<0.0001)*(Randevular!$J$5:$J$1504<>"İptal")*(ROW(Randevular!$A$5:$A$1504)-4)))=0,"",INDEX(Randevular!$E$5:$E$1504,SUMPRODUCT(MAX((Randevular!$A$5:$A$1504=D$6)*(ABS(Randevular!$B$5:$B$1504-$A10)<0.0001)*(Randevular!$J$5:$J$1504<>"İptal")*(ROW(Randevular!$A$5:$A$1504)-4))))&IF(INDEX(Randevular!$H$5:$H$1504,SUMPRODUCT(MAX((Randevular!$A$5:$A$1504=D$6)*(ABS(Randevular!$B$5:$B$1504-$A10)<0.0001)*(Randevular!$J$5:$J$1504<>"İptal")*(ROW(Randevular!$A$5:$A$1504)-4))))="",""," · "&INDEX(Randevular!$H$5:$H$1504,SUMPRODUCT(MAX((Randevular!$A$5:$A$1504=D$6)*(ABS(Randevular!$B$5:$B$1504-$A10)<0.0001)*(Randevular!$J$5:$J$1504<>"İptal")*(ROW(Randevular!$A$5:$A$1504)-4)))))) | E10: =IF(SUMPRODUCT(MAX((Randevular!$A$5:$A$1504=E$6)*(ABS(Randevular!$B$5:$B$1504-$A10)<0.0001)*(Randevular!$J$5:$J$1504<>"İptal")*(ROW(Randevular!$A$5:$A$1504)-4)))=0,"",INDEX(Randevular!$E$5:$E$1504,SUMPRODUCT(MAX((Randevular!$A$5:$A$1504=E$6)*(ABS(Randevular!$B$5:$B$1504-$A10)<0.0001)*(Randevular!$J$5:$J$1504<>"İptal")*(ROW(Randevular!$A$5:$A$1504)-4))))&IF(INDEX(Randevular!$H$5:$H$1504,SUMPRODUCT(MAX((Randevular!$A$5:$A$1504=E$6)*(ABS(Randevular!$B$5:$B$1504-$A10)<0.0001)*(Randevular!$J$5:$J$1504<>"İptal")*(ROW(Randevular!$A$5:$A$1504)-4))))="",""," · "&INDEX(Randevular!$H$5:$H$1504,SUMPRODUCT(MAX((Randevular!$A$5:$A$1504=E$6)*(ABS(Randevular!$B$5:$B$1504-$A10)<0.0001)*(Randevular!$J$5:$J$1504<>"İptal")*(ROW(Randevular!$A$5:$A$1504)-4)))))) | F10: =IF(SUMPRODUCT(MAX((Randevular!$A$5:$A$1504=F$6)*(ABS(Randevular!$B$5:$B$1504-$A10)<0.0001)*(Randevular!$J$5:$J$1504<>"İptal")*(ROW(Randevular!$A$5:$A$1504)-4)))=0,"",INDEX(Randevular!$E$5:$E$1504,SUMPRODUCT(MAX((Randevular!$A$5:$A$1504=F$6)*(ABS(Randevular!$B$5:$B$1504-$A10)<0.0001)*(Randevular!$J$5:$J$1504<>"İptal")*(ROW(Randevular!$A$5:$A$1504)-4))))&IF(INDEX(Randevular!$H$5:$H$1504,SUMPRODUCT(MAX((Randevular!$A$5:$A$1504=F$6)*(ABS(Randevular!$B$5:$B$1504-$A10)<0.0001)*(Randevular!$J$5:$J$1504<>"İptal")*(ROW(Randevular!$A$5:$A$1504)-4))))="",""," · "&INDEX(Randevular!$H$5:$H$1504,SUMPRODUCT(MAX((Randevular!$A$5:$A$1504=F$6)*(ABS(Randevular!$B$5:$B$1504-$A10)<0.0001)*(Randevular!$J$5:$J$1504<>"İptal")*(ROW(Randevular!$A$5:$A$1504)-4)))))) | G10: =IF(SUMPRODUCT(MAX((Randevular!$A$5:$A$1504=G$6)*(ABS(Randevular!$B$5:$B$1504-$A10)<0.0001)*(Randevular!$J$5:$J$1504<>"İptal")*(ROW(Randevular!$A$5:$A$1504)-4)))=0,"",INDEX(Randevular!$E$5:$E$1504,SUMPRODUCT(MAX((Randevular!$A$5:$A$1504=G$6)*(ABS(Randevular!$B$5:$B$1504-$A10)<0.0001)*(Randevular!$J$5:$J$1504<>"İptal")*(ROW(Randevular!$A$5:$A$1504)-4))))&IF(INDEX(Randevular!$H$5:$H$1504,SUMPRODUCT(MAX((Randevular!$A$5:$A$1504=G$6)*(ABS(Randevular!$B$5:$B$1504-$A10)<0.0001)*(Randevular!$J$5:$J$1504<>"İptal")*(ROW(Randevular!$A$5:$A$1504)-4))))="",""," · "&INDEX(Randevular!$H$5:$H$1504,SUMPRODUCT(MAX((Randevular!$A$5:$A$1504=G$6)*(ABS(Randevular!$B$5:$B$1504-$A10)<0.0001)*(Randevular!$J$5:$J$1504<>"İptal")*(ROW(Randevular!$A$5:$A$1504)-4)))))) | H10: =IF(SUMPRODUCT(MAX((Randevular!$A$5:$A$1504=H$6)*(ABS(Randevular!$B$5:$B$1504-$A10)<0.0001)*(Randevular!$J$5:$J$1504<>"İptal")*(ROW(Randevular!$A$5:$A$1504)-4)))=0,"",INDEX(Randevular!$E$5:$E$1504,SUMPRODUCT(MAX((Randevular!$A$5:$A$1504=H$6)*(ABS(Randevular!$B$5:$B$1504-$A10)<0.0001)*(Randevular!$J$5:$J$1504<>"İptal")*(ROW(Randevular!$A$5:$A$1504)-4))))&IF(INDEX(Randevular!$H$5:$H$1504,SUMPRODUCT(MAX((Randevular!$A$5:$A$1504=H$6)*(ABS(Randevular!$B$5:$B$1504-$A10)<0.0001)*(Randevular!$J$5:$J$1504<>"İptal")*(ROW(Randevular!$A$5:$A$1504)-4))))="",""," · "&INDEX(Randevular!$H$5:$H$1504,SUMPRODUCT(MAX((Randevular!$A$5:$A$1504=H$6)*(ABS(Randevular!$B$5:$B$1504-$A10)<0.0001)*(Randevular!$J$5:$J$1504<>"İptal")*(ROW(Randevular!$A$5:$A$1504)-4))))))
A11: 0.41666667 | B11: =IF(SUMPRODUCT(MAX((Randevular!$A$5:$A$1504=B$6)*(ABS(Randevular!$B$5:$B$1504-$A11)<0.0001)*(Randevular!$J$5:$J$1504<>"İptal")*(ROW(Randevular!$A$5:$A$1504)-4)))=0,"",INDEX(Randevular!$E$5:$E$1504,SUMPRODUCT(MAX((Randevular!$A$5:$A$1504=B$6)*(ABS(Randevular!$B$5:$B$1504-$A11)<0.0001)*(Randevular!$J$5:$J$1504<>"İptal")*(ROW(Randevular!$A$5:$A$1504)-4))))&IF(INDEX(Randevular!$H$5:$H$1504,SUMPRODUCT(MAX((Randevular!$A$5:$A$1504=B$6)*(ABS(Randevular!$B$5:$B$1504-$A11)<0.0001)*(Randevular!$J$5:$J$1504<>"İptal")*(ROW(Randevular!$A$5:$A$1504)-4))))="",""," · "&INDEX(Randevular!$H$5:$H$1504,SUMPRODUCT(MAX((Randevular!$A$5:$A$1504=B$6)*(ABS(Randevular!$B$5:$B$1504-$A11)<0.0001)*(Randevular!$J$5:$J$1504<>"İptal")*(ROW(Randevular!$A$5:$A$1504)-4)))))) | C11: =IF(SUMPRODUCT(MAX((Randevular!$A$5:$A$1504=C$6)*(ABS(Randevular!$B$5:$B$1504-$A11)<0.0001)*(Randevular!$J$5:$J$1504<>"İptal")*(ROW(Randevular!$A$5:$A$1504)-4)))=0,"",INDEX(Randevular!$E$5:$E$1504,SUMPRODUCT(MAX((Randevular!$A$5:$A$1504=C$6)*(ABS(Randevular!$B$5:$B$1504-$A11)<0.0001)*(Randevular!$J$5:$J$1504<>"İptal")*(ROW(Randevular!$A$5:$A$1504)-4))))&IF(INDEX(Randevular!$H$5:$H$1504,SUMPRODUCT(MAX((Randevular!$A$5:$A$1504=C$6)*(ABS(Randevular!$B$5:$B$1504-$A11)<0.0001)*(Randevular!$J$5:$J$1504<>"İptal")*(ROW(Randevular!$A$5:$A$1504)-4))))="",""," · "&INDEX(Randevular!$H$5:$H$1504,SUMPRODUCT(MAX((Randevular!$A$5:$A$1504=C$6)*(ABS(Randevular!$B$5:$B$1504-$A11)<0.0001)*(Randevular!$J$5:$J$1504<>"İptal")*(ROW(Randevular!$A$5:$A$1504)-4)))))) | D11: =IF(SUMPRODUCT(MAX((Randevular!$A$5:$A$1504=D$6)*(ABS(Randevular!$B$5:$B$1504-$A11)<0.0001)*(Randevular!$J$5:$J$1504<>"İptal")*(ROW(Randevular!$A$5:$A$1504)-4)))=0,"",INDEX(Randevular!$E$5:$E$1504,SUMPRODUCT(MAX((Randevular!$A$5:$A$1504=D$6)*(ABS(Randevular!$B$5:$B$1504-$A11)<0.0001)*(Randevular!$J$5:$J$1504<>"İptal")*(ROW(Randevular!$A$5:$A$1504)-4))))&IF(INDEX(Randevular!$H$5:$H$1504,SUMPRODUCT(MAX((Randevular!$A$5:$A$1504=D$6)*(ABS(Randevular!$B$5:$B$1504-$A11)<0.0001)*(Randevular!$J$5:$J$1504<>"İptal")*(ROW(Randevular!$A$5:$A$1504)-4))))="",""," · "&INDEX(Randevular!$H$5:$H$1504,SUMPRODUCT(MAX((Randevular!$A$5:$A$1504=D$6)*(ABS(Randevular!$B$5:$B$1504-$A11)<0.0001)*(Randevular!$J$5:$J$1504<>"İptal")*(ROW(Randevular!$A$5:$A$1504)-4)))))) | E11: =IF(SUMPRODUCT(MAX((Randevular!$A$5:$A$1504=E$6)*(ABS(Randevular!$B$5:$B$1504-$A11)<0.0001)*(Randevular!$J$5:$J$1504<>"İptal")*(ROW(Randevular!$A$5:$A$1504)-4)))=0,"",INDEX(Randevular!$E$5:$E$1504,SUMPRODUCT(MAX((Randevular!$A$5:$A$1504=E$6)*(ABS(Randevular!$B$5:$B$1504-$A11)<0.0001)*(Randevular!$J$5:$J$1504<>"İptal")*(ROW(Randevular!$A$5:$A$1504)-4))))&IF(INDEX(Randevular!$H$5:$H$1504,SUMPRODUCT(MAX((Randevular!$A$5:$A$1504=E$6)*(ABS(Randevular!$B$5:$B$1504-$A11)<0.0001)*(Randevular!$J$5:$J$1504<>"İptal")*(ROW(Randevular!$A$5:$A$1504)-4))))="",""," · "&INDEX(Randevular!$H$5:$H$1504,SUMPRODUCT(MAX((Randevular!$A$5:$A$1504=E$6)*(ABS(Randevular!$B$5:$B$1504-$A11)<0.0001)*(Randevular!$J$5:$J$1504<>"İptal")*(ROW(Randevular!$A$5:$A$1504)-4)))))) | F11: =IF(SUMPRODUCT(MAX((Randevular!$A$5:$A$1504=F$6)*(ABS(Randevular!$B$5:$B$1504-$A11)<0.0001)*(Randevular!$J$5:$J$1504<>"İptal")*(ROW(Randevular!$A$5:$A$1504)-4)))=0,"",INDEX(Randevular!$E$5:$E$1504,SUMPRODUCT(MAX((Randevular!$A$5:$A$1504=F$6)*(ABS(Randevular!$B$5:$B$1504-$A11)<0.0001)*(Randevular!$J$5:$J$1504<>"İptal")*(ROW(Randevular!$A$5:$A$1504)-4))))&IF(INDEX(Randevular!$H$5:$H$1504,SUMPRODUCT(MAX((Randevular!$A$5:$A$1504=F$6)*(ABS(Randevular!$B$5:$B$1504-$A11)<0.0001)*(Randevular!$J$5:$J$1504<>"İptal")*(ROW(Randevular!$A$5:$A$1504)-4))))="",""," · "&INDEX(Randevular!$H$5:$H$1504,SUMPRODUCT(MAX((Randevular!$A$5:$A$1504=F$6)*(ABS(Randevular!$B$5:$B$1504-$A11)<0.0001)*(Randevular!$J$5:$J$1504<>"İptal")*(ROW(Randevular!$A$5:$A$1504)-4)))))) | G11: =IF(SUMPRODUCT(MAX((Randevular!$A$5:$A$1504=G$6)*(ABS(Randevular!$B$5:$B$1504-$A11)<0.0001)*(Randevular!$J$5:$J$1504<>"İptal")*(ROW(Randevular!$A$5:$A$1504)-4)))=0,"",INDEX(Randevular!$E$5:$E$1504,SUMPRODUCT(MAX((Randevular!$A$5:$A$1504=G$6)*(ABS(Randevular!$B$5:$B$1504-$A11)<0.0001)*(Randevular!$J$5:$J$1504<>"İptal")*(ROW(Randevular!$A$5:$A$1504)-4))))&IF(INDEX(Randevular!$H$5:$H$1504,SUMPRODUCT(MAX((Randevular!$A$5:$A$1504=G$6)*(ABS(Randevular!$B$5:$B$1504-$A11)<0.0001)*(Randevular!$J$5:$J$1504<>"İptal")*(ROW(Randevular!$A$5:$A$1504)-4))))="",""," · "&INDEX(Randevular!$H$5:$H$1504,SUMPRODUCT(MAX((Randevular!$A$5:$A$1504=G$6)*(ABS(Randevular!$B$5:$B$1504-$A11)<0.0001)*(Randevular!$J$5:$J$1504<>"İptal")*(ROW(Randevular!$A$5:$A$1504)-4)))))) | H11: =IF(SUMPRODUCT(MAX((Randevular!$A$5:$A$1504=H$6)*(ABS(Randevular!$B$5:$B$1504-$A11)<0.0001)*(Randevular!$J$5:$J$1504<>"İptal")*(ROW(Randevular!$A$5:$A$1504)-4)))=0,"",INDEX(Randevular!$E$5:$E$1504,SUMPRODUCT(MAX((Randevular!$A$5:$A$1504=H$6)*(ABS(Randevular!$B$5:$B$1504-$A11)<0.0001)*(Randevular!$J$5:$J$1504<>"İptal")*(ROW(Randevular!$A$5:$A$1504)-4))))&IF(INDEX(Randevular!$H$5:$H$1504,SUMPRODUCT(MAX((Randevular!$A$5:$A$1504=H$6)*(ABS(Randevular!$B$5:$B$1504-$A11)<0.0001)*(Randevular!$J$5:$J$1504<>"İptal")*(ROW(Randevular!$A$5:$A$1504)-4))))="",""," · "&INDEX(Randevular!$H$5:$H$1504,SUMPRODUCT(MAX((Randevular!$A$5:$A$1504=H$6)*(ABS(Randevular!$B$5:$B$1504-$A11)<0.0001)*(Randevular!$J$5:$J$1504<>"İptal")*(ROW(Randevular!$A$5:$A$1504)-4))))))
A12: 0.4375 | B12: =IF(SUMPRODUCT(MAX((Randevular!$A$5:$A$1504=B$6)*(ABS(Randevular!$B$5:$B$1504-$A12)<0.0001)*(Randevular!$J$5:$J$1504<>"İptal")*(ROW(Randevular!$A$5:$A$1504)-4)))=0,"",INDEX(Randevular!$E$5:$E$1504,SUMPRODUCT(MAX((Randevular!$A$5:$A$1504=B$6)*(ABS(Randevular!$B$5:$B$1504-$A12)<0.0001)*(Randevular!$J$5:$J$1504<>"İptal")*(ROW(Randevular!$A$5:$A$1504)-4))))&IF(INDEX(Randevular!$H$5:$H$1504,SUMPRODUCT(MAX((Randevular!$A$5:$A$1504=B$6)*(ABS(Randevular!$B$5:$B$1504-$A12)<0.0001)*(Randevular!$J$5:$J$1504<>"İptal")*(ROW(Randevular!$A$5:$A$1504)-4))))="",""," · "&INDEX(Randevular!$H$5:$H$1504,SUMPRODUCT(MAX((Randevular!$A$5:$A$1504=B$6)*(ABS(Randevular!$B$5:$B$1504-$A12)<0.0001)*(Randevular!$J$5:$J$1504<>"İptal")*(ROW(Randevular!$A$5:$A$1504)-4)))))) | C12: =IF(SUMPRODUCT(MAX((Randevular!$A$5:$A$1504=C$6)*(ABS(Randevular!$B$5:$B$1504-$A12)<0.0001)*(Randevular!$J$5:$J$1504<>"İptal")*(ROW(Randevular!$A$5:$A$1504)-4)))=0,"",INDEX(Randevular!$E$5:$E$1504,SUMPRODUCT(MAX((Randevular!$A$5:$A$1504=C$6)*(ABS(Randevular!$B$5:$B$1504-$A12)<0.0001)*(Randevular!$J$5:$J$1504<>"İptal")*(ROW(Randevular!$A$5:$A$1504)-4))))&IF(INDEX(Randevular!$H$5:$H$1504,SUMPRODUCT(MAX((Randevular!$A$5:$A$1504=C$6)*(ABS(Randevular!$B$5:$B$1504-$A12)<0.0001)*(Randevular!$J$5:$J$1504<>"İptal")*(ROW(Randevular!$A$5:$A$1504)-4))))="",""," · "&INDEX(Randevular!$H$5:$H$1504,SUMPRODUCT(MAX((Randevular!$A$5:$A$1504=C$6)*(ABS(Randevular!$B$5:$B$1504-$A12)<0.0001)*(Randevular!$J$5:$J$1504<>"İptal")*(ROW(Randevular!$A$5:$A$1504)-4)))))) | D12: =IF(SUMPRODUCT(MAX((Randevular!$A$5:$A$1504=D$6)*(ABS(Randevular!$B$5:$B$1504-$A12)<0.0001)*(Randevular!$J$5:$J$1504<>"İptal")*(ROW(Randevular!$A$5:$A$1504)-4)))=0,"",INDEX(Randevular!$E$5:$E$1504,SUMPRODUCT(MAX((Randevular!$A$5:$A$1504=D$6)*(ABS(Randevular!$B$5:$B$1504-$A12)<0.0001)*(Randevular!$J$5:$J$1504<>"İptal")*(ROW(Randevular!$A$5:$A$1504)-4))))&IF(INDEX(Randevular!$H$5:$H$1504,SUMPRODUCT(MAX((Randevular!$A$5:$A$1504=D$6)*(ABS(Randevular!$B$5:$B$1504-$A12)<0.0001)*(Randevular!$J$5:$J$1504<>"İptal")*(ROW(Randevular!$A$5:$A$1504)-4))))="",""," · "&INDEX(Randevular!$H$5:$H$1504,SUMPRODUCT(MAX((Randevular!$A$5:$A$1504=D$6)*(ABS(Randevular!$B$5:$B$1504-$A12)<0.0001)*(Randevular!$J$5:$J$1504<>"İptal")*(ROW(Randevular!$A$5:$A$1504)-4)))))) | E12: =IF(SUMPRODUCT(MAX((Randevular!$A$5:$A$1504=E$6)*(ABS(Randevular!$B$5:$B$1504-$A12)<0.0001)*(Randevular!$J$5:$J$1504<>"İptal")*(ROW(Randevular!$A$5:$A$1504)-4)))=0,"",INDEX(Randevular!$E$5:$E$1504,SUMPRODUCT(MAX((Randevular!$A$5:$A$1504=E$6)*(ABS(Randevular!$B$5:$B$1504-$A12)<0.0001)*(Randevular!$J$5:$J$1504<>"İptal")*(ROW(Randevular!$A$5:$A$1504)-4))))&IF(INDEX(Randevular!$H$5:$H$1504,SUMPRODUCT(MAX((Randevular!$A$5:$A$1504=E$6)*(ABS(Randevular!$B$5:$B$1504-$A12)<0.0001)*(Randevular!$J$5:$J$1504<>"İptal")*(ROW(Randevular!$A$5:$A$1504)-4))))="",""," · "&INDEX(Randevular!$H$5:$H$1504,SUMPRODUCT(MAX((Randevular!$A$5:$A$1504=E$6)*(ABS(Randevular!$B$5:$B$1504-$A12)<0.0001)*(Randevular!$J$5:$J$1504<>"İptal")*(ROW(Randevular!$A$5:$A$1504)-4)))))) | F12: =IF(SUMPRODUCT(MAX((Randevular!$A$5:$A$1504=F$6)*(ABS(Randevular!$B$5:$B$1504-$A12)<0.0001)*(Randevular!$J$5:$J$1504<>"İptal")*(ROW(Randevular!$A$5:$A$1504)-4)))=0,"",INDEX(Randevular!$E$5:$E$1504,SUMPRODUCT(MAX((Randevular!$A$5:$A$1504=F$6)*(ABS(Randevular!$B$5:$B$1504-$A12)<0.0001)*(Randevular!$J$5:$J$1504<>"İptal")*(ROW(Randevular!$A$5:$A$1504)-4))))&IF(INDEX(Randevular!$H$5:$H$1504,SUMPRODUCT(MAX((Randevular!$A$5:$A$1504=F$6)*(ABS(Randevular!$B$5:$B$1504-$A12)<0.0001)*(Randevular!$J$5:$J$1504<>"İptal")*(ROW(Randevular!$A$5:$A$1504)-4))))="",""," · "&INDEX(Randevular!$H$5:$H$1504,SUMPRODUCT(MAX((Randevular!$A$5:$A$1504=F$6)*(ABS(Randevular!$B$5:$B$1504-$A12)<0.0001)*(Randevular!$J$5:$J$1504<>"İptal")*(ROW(Randevular!$A$5:$A$1504)-4)))))) | G12: =IF(SUMPRODUCT(MAX((Randevular!$A$5:$A$1504=G$6)*(ABS(Randevular!$B$5:$B$1504-$A12)<0.0001)*(Randevular!$J$5:$J$1504<>"İptal")*(ROW(Randevular!$A$5:$A$1504)-4)))=0,"",INDEX(Randevular!$E$5:$E$1504,SUMPRODUCT(MAX((Randevular!$A$5:$A$1504=G$6)*(ABS(Randevular!$B$5:$B$1504-$A12)<0.0001)*(Randevular!$J$5:$J$1504<>"İptal")*(ROW(Randevular!$A$5:$A$1504)-4))))&IF(INDEX(Randevular!$H$5:$H$1504,SUMPRODUCT(MAX((Randevular!$A$5:$A$1504=G$6)*(ABS(Randevular!$B$5:$B$1504-$A12)<0.0001)*(Randevular!$J$5:$J$1504<>"İptal")*(ROW(Randevular!$A$5:$A$1504)-4))))="",""," · "&INDEX(Randevular!$H$5:$H$1504,SUMPRODUCT(MAX((Randevular!$A$5:$A$1504=G$6)*(ABS(Randevular!$B$5:$B$1504-$A12)<0.0001)*(Randevular!$J$5:$J$1504<>"İptal")*(ROW(Randevular!$A$5:$A$1504)-4)))))) | H12: =IF(SUMPRODUCT(MAX((Randevular!$A$5:$A$1504=H$6)*(ABS(Randevular!$B$5:$B$1504-$A12)<0.0001)*(Randevular!$J$5:$J$1504<>"İptal")*(ROW(Randevular!$A$5:$A$1504)-4)))=0,"",INDEX(Randevular!$E$5:$E$1504,SUMPRODUCT(MAX((Randevular!$A$5:$A$1504=H$6)*(ABS(Randevular!$B$5:$B$1504-$A12)<0.0001)*(Randevular!$J$5:$J$1504<>"İptal")*(ROW(Randevular!$A$5:$A$1504)-4))))&IF(INDEX(Randevular!$H$5:$H$1504,SUMPRODUCT(MAX((Randevular!$A$5:$A$1504=H$6)*(ABS(Randevular!$B$5:$B$1504-$A12)<0.0001)*(Randevular!$J$5:$J$1504<>"İptal")*(ROW(Randevular!$A$5:$A$1504)-4))))="",""," · "&INDEX(Randevular!$H$5:$H$1504,SUMPRODUCT(MAX((Randevular!$A$5:$A$1504=H$6)*(ABS(Randevular!$B$5:$B$1504-$A12)<0.0001)*(Randevular!$J$5:$J$1504<>"İptal")*(ROW(Randevular!$A$5:$A$1504)-4))))))
A13: 0.45833333 | B13: =IF(SUMPRODUCT(MAX((Randevular!$A$5:$A$1504=B$6)*(ABS(Randevular!$B$5:$B$1504-$A13)<0.0001)*(Randevular!$J$5:$J$1504<>"İptal")*(ROW(Randevular!$A$5:$A$1504)-4)))=0,"",INDEX(Randevular!$E$5:$E$1504,SUMPRODUCT(MAX((Randevular!$A$5:$A$1504=B$6)*(ABS(Randevular!$B$5:$B$1504-$A13)<0.0001)*(Randevular!$J$5:$J$1504<>"İptal")*(ROW(Randevular!$A$5:$A$1504)-4))))&IF(INDEX(Randevular!$H$5:$H$1504,SUMPRODUCT(MAX((Randevular!$A$5:$A$1504=B$6)*(ABS(Randevular!$B$5:$B$1504-$A13)<0.0001)*(Randevular!$J$5:$J$1504<>"İptal")*(ROW(Randevular!$A$5:$A$1504)-4))))="",""," · "&INDEX(Randevular!$H$5:$H$1504,SUMPRODUCT(MAX((Randevular!$A$5:$A$1504=B$6)*(ABS(Randevular!$B$5:$B$1504-$A13)<0.0001)*(Randevular!$J$5:$J$1504<>"İptal")*(ROW(Randevular!$A$5:$A$1504)-4)))))) | C13: =IF(SUMPRODUCT(MAX((Randevular!$A$5:$A$1504=C$6)*(ABS(Randevular!$B$5:$B$1504-$A13)<0.0001)*(Randevular!$J$5:$J$1504<>"İptal")*(ROW(Randevular!$A$5:$A$1504)-4)))=0,"",INDEX(Randevular!$E$5:$E$1504,SUMPRODUCT(MAX((Randevular!$A$5:$A$1504=C$6)*(ABS(Randevular!$B$5:$B$1504-$A13)<0.0001)*(Randevular!$J$5:$J$1504<>"İptal")*(ROW(Randevular!$A$5:$A$1504)-4))))&IF(INDEX(Randevular!$H$5:$H$1504,SUMPRODUCT(MAX((Randevular!$A$5:$A$1504=C$6)*(ABS(Randevular!$B$5:$B$1504-$A13)<0.0001)*(Randevular!$J$5:$J$1504<>"İptal")*(ROW(Randevular!$A$5:$A$1504)-4))))="",""," · "&INDEX(Randevular!$H$5:$H$1504,SUMPRODUCT(MAX((Randevular!$A$5:$A$1504=C$6)*(ABS(Randevular!$B$5:$B$1504-$A13)<0.0001)*(Randevular!$J$5:$J$1504<>"İptal")*(ROW(Randevular!$A$5:$A$1504)-4)))))) | D13: =IF(SUMPRODUCT(MAX((Randevular!$A$5:$A$1504=D$6)*(ABS(Randevular!$B$5:$B$1504-$A13)<0.0001)*(Randevular!$J$5:$J$1504<>"İptal")*(ROW(Randevular!$A$5:$A$1504)-4)))=0,"",INDEX(Randevular!$E$5:$E$1504,SUMPRODUCT(MAX((Randevular!$A$5:$A$1504=D$6)*(ABS(Randevular!$B$5:$B$1504-$A13)<0.0001)*(Randevular!$J$5:$J$1504<>"İptal")*(ROW(Randevular!$A$5:$A$1504)-4))))&IF(INDEX(Randevular!$H$5:$H$1504,SUMPRODUCT(MAX((Randevular!$A$5:$A$1504=D$6)*(ABS(Randevular!$B$5:$B$1504-$A13)<0.0001)*(Randevular!$J$5:$J$1504<>"İptal")*(ROW(Randevular!$A$5:$A$1504)-4))))="",""," · "&INDEX(Randevular!$H$5:$H$1504,SUMPRODUCT(MAX((Randevular!$A$5:$A$1504=D$6)*(ABS(Randevular!$B$5:$B$1504-$A13)<0.0001)*(Randevular!$J$5:$J$1504<>"İptal")*(ROW(Randevular!$A$5:$A$1504)-4)))))) | E13: =IF(SUMPRODUCT(MAX((Randevular!$A$5:$A$1504=E$6)*(ABS(Randevular!$B$5:$B$1504-$A13)<0.0001)*(Randevular!$J$5:$J$1504<>"İptal")*(ROW(Randevular!$A$5:$A$1504)-4)))=0,"",INDEX(Randevular!$E$5:$E$1504,SUMPRODUCT(MAX((Randevular!$A$5:$A$1504=E$6)*(ABS(Randevular!$B$5:$B$1504-$A13)<0.0001)*(Randevular!$J$5:$J$1504<>"İptal")*(ROW(Randevular!$A$5:$A$1504)-4))))&IF(INDEX(Randevular!$H$5:$H$1504,SUMPRODUCT(MAX((Randevular!$A$5:$A$1504=E$6)*(ABS(Randevular!$B$5:$B$1504-$A13)<0.0001)*(Randevular!$J$5:$J$1504<>"İptal")*(ROW(Randevular!$A$5:$A$1504)-4))))="",""," · "&INDEX(Randevular!$H$5:$H$1504,SUMPRODUCT(MAX((Randevular!$A$5:$A$1504=E$6)*(ABS(Randevular!$B$5:$B$1504-$A13)<0.0001)*(Randevular!$J$5:$J$1504<>"İptal")*(ROW(Randevular!$A$5:$A$1504)-4)))))) | F13: =IF(SUMPRODUCT(MAX((Randevular!$A$5:$A$1504=F$6)*(ABS(Randevular!$B$5:$B$1504-$A13)<0.0001)*(Randevular!$J$5:$J$1504<>"İptal")*(ROW(Randevular!$A$5:$A$1504)-4)))=0,"",INDEX(Randevular!$E$5:$E$1504,SUMPRODUCT(MAX((Randevular!$A$5:$A$1504=F$6)*(ABS(Randevular!$B$5:$B$1504-$A13)<0.0001)*(Randevular!$J$5:$J$1504<>"İptal")*(ROW(Randevular!$A$5:$A$1504)-4))))&IF(INDEX(Randevular!$H$5:$H$1504,SUMPRODUCT(MAX((Randevular!$A$5:$A$1504=F$6)*(ABS(Randevular!$B$5:$B$1504-$A13)<0.0001)*(Randevular!$J$5:$J$1504<>"İptal")*(ROW(Randevular!$A$5:$A$1504)-4))))="",""," · "&INDEX(Randevular!$H$5:$H$1504,SUMPRODUCT(MAX((Randevular!$A$5:$A$1504=F$6)*(ABS(Randevular!$B$5:$B$1504-$A13)<0.0001)*(Randevular!$J$5:$J$1504<>"İptal")*(ROW(Randevular!$A$5:$A$1504)-4)))))) | G13: =IF(SUMPRODUCT(MAX((Randevular!$A$5:$A$1504=G$6)*(ABS(Randevular!$B$5:$B$1504-$A13)<0.0001)*(Randevular!$J$5:$J$1504<>"İptal")*(ROW(Randevular!$A$5:$A$1504)-4)))=0,"",INDEX(Randevular!$E$5:$E$1504,SUMPRODUCT(MAX((Randevular!$A$5:$A$1504=G$6)*(ABS(Randevular!$B$5:$B$1504-$A13)<0.0001)*(Randevular!$J$5:$J$1504<>"İptal")*(ROW(Randevular!$A$5:$A$1504)-4))))&IF(INDEX(Randevular!$H$5:$H$1504,SUMPRODUCT(MAX((Randevular!$A$5:$A$1504=G$6)*(ABS(Randevular!$B$5:$B$1504-$A13)<0.0001)*(Randevular!$J$5:$J$1504<>"İptal")*(ROW(Randevular!$A$5:$A$1504)-4))))="",""," · "&INDEX(Randevular!$H$5:$H$1504,SUMPRODUCT(MAX((Randevular!$A$5:$A$1504=G$6)*(ABS(Randevular!$B$5:$B$1504-$A13)<0.0001)*(Randevular!$J$5:$J$1504<>"İptal")*(ROW(Randevular!$A$5:$A$1504)-4)))))) | H13: =IF(SUMPRODUCT(MAX((Randevular!$A$5:$A$1504=H$6)*(ABS(Randevular!$B$5:$B$1504-$A13)<0.0001)*(Randevular!$J$5:$J$1504<>"İptal")*(ROW(Randevular!$A$5:$A$1504)-4)))=0,"",INDEX(Randevular!$E$5:$E$1504,SUMPRODUCT(MAX((Randevular!$A$5:$A$1504=H$6)*(ABS(Randevular!$B$5:$B$1504-$A13)<0.0001)*(Randevular!$J$5:$J$1504<>"İptal")*(ROW(Randevular!$A$5:$A$1504)-4))))&IF(INDEX(Randevular!$H$5:$H$1504,SUMPRODUCT(MAX((Randevular!$A$5:$A$1504=H$6)*(ABS(Randevular!$B$5:$B$1504-$A13)<0.0001)*(Randevular!$J$5:$J$1504<>"İptal")*(ROW(Randevular!$A$5:$A$1504)-4))))="",""," · "&INDEX(Randevular!$H$5:$H$1504,SUMPRODUCT(MAX((Randevular!$A$5:$A$1504=H$6)*(ABS(Randevular!$B$5:$B$1504-$A13)<0.0001)*(Randevular!$J$5:$J$1504<>"İptal")*(ROW(Randevular!$A$5:$A$1504)-4))))))
A14: 0.47916667 | B14: =IF(SUMPRODUCT(MAX((Randevular!$A$5:$A$1504=B$6)*(ABS(Randevular!$B$5:$B$1504-$A14)<0.0001)*(Randevular!$J$5:$J$1504<>"İptal")*(ROW(Randevular!$A$5:$A$1504)-4)))=0,"",INDEX(Randevular!$E$5:$E$1504,SUMPRODUCT(MAX((Randevular!$A$5:$A$1504=B$6)*(ABS(Randevular!$B$5:$B$1504-$A14)<0.0001)*(Randevular!$J$5:$J$1504<>"İptal")*(ROW(Randevular!$A$5:$A$1504)-4))))&IF(INDEX(Randevular!$H$5:$H$1504,SUMPRODUCT(MAX((Randevular!$A$5:$A$1504=B$6)*(ABS(Randevular!$B$5:$B$1504-$A14)<0.0001)*(Randevular!$J$5:$J$1504<>"İptal")*(ROW(Randevular!$A$5:$A$1504)-4))))="",""," · "&INDEX(Randevular!$H$5:$H$1504,SUMPRODUCT(MAX((Randevular!$A$5:$A$1504=B$6)*(ABS(Randevular!$B$5:$B$1504-$A14)<0.0001)*(Randevular!$J$5:$J$1504<>"İptal")*(ROW(Randevular!$A$5:$A$1504)-4)))))) | C14: =IF(SUMPRODUCT(MAX((Randevular!$A$5:$A$1504=C$6)*(ABS(Randevular!$B$5:$B$1504-$A14)<0.0001)*(Randevular!$J$5:$J$1504<>"İptal")*(ROW(Randevular!$A$5:$A$1504)-4)))=0,"",INDEX(Randevular!$E$5:$E$1504,SUMPRODUCT(MAX((Randevular!$A$5:$A$1504=C$6)*(ABS(Randevular!$B$5:$B$1504-$A14)<0.0001)*(Randevular!$J$5:$J$1504<>"İptal")*(ROW(Randevular!$A$5:$A$1504)-4))))&IF(INDEX(Randevular!$H$5:$H$1504,SUMPRODUCT(MAX((Randevular!$A$5:$A$1504=C$6)*(ABS(Randevular!$B$5:$B$1504-$A14)<0.0001)*(Randevular!$J$5:$J$1504<>"İptal")*(ROW(Randevular!$A$5:$A$1504)-4))))="",""," · "&INDEX(Randevular!$H$5:$H$1504,SUMPRODUCT(MAX((Randevular!$A$5:$A$1504=C$6)*(ABS(Randevular!$B$5:$B$1504-$A14)<0.0001)*(Randevular!$J$5:$J$1504<>"İptal")*(ROW(Randevular!$A$5:$A$1504)-4)))))) | D14: =IF(SUMPRODUCT(MAX((Randevular!$A$5:$A$1504=D$6)*(ABS(Randevular!$B$5:$B$1504-$A14)<0.0001)*(Randevular!$J$5:$J$1504<>"İptal")*(ROW(Randevular!$A$5:$A$1504)-4)))=0,"",INDEX(Randevular!$E$5:$E$1504,SUMPRODUCT(MAX((Randevular!$A$5:$A$1504=D$6)*(ABS(Randevular!$B$5:$B$1504-$A14)<0.0001)*(Randevular!$J$5:$J$1504<>"İptal")*(ROW(Randevular!$A$5:$A$1504)-4))))&IF(INDEX(Randevular!$H$5:$H$1504,SUMPRODUCT(MAX((Randevular!$A$5:$A$1504=D$6)*(ABS(Randevular!$B$5:$B$1504-$A14)<0.0001)*(Randevular!$J$5:$J$1504<>"İptal")*(ROW(Randevular!$A$5:$A$1504)-4))))="",""," · "&INDEX(Randevular!$H$5:$H$1504,SUMPRODUCT(MAX((Randevular!$A$5:$A$1504=D$6)*(ABS(Randevular!$B$5:$B$1504-$A14)<0.0001)*(Randevular!$J$5:$J$1504<>"İptal")*(ROW(Randevular!$A$5:$A$1504)-4)))))) | E14: =IF(SUMPRODUCT(MAX((Randevular!$A$5:$A$1504=E$6)*(ABS(Randevular!$B$5:$B$1504-$A14)<0.0001)*(Randevular!$J$5:$J$1504<>"İptal")*(ROW(Randevular!$A$5:$A$1504)-4)))=0,"",INDEX(Randevular!$E$5:$E$1504,SUMPRODUCT(MAX((Randevular!$A$5:$A$1504=E$6)*(ABS(Randevular!$B$5:$B$1504-$A14)<0.0001)*(Randevular!$J$5:$J$1504<>"İptal")*(ROW(Randevular!$A$5:$A$1504)-4))))&IF(INDEX(Randevular!$H$5:$H$1504,SUMPRODUCT(MAX((Randevular!$A$5:$A$1504=E$6)*(ABS(Randevular!$B$5:$B$1504-$A14)<0.0001)*(Randevular!$J$5:$J$1504<>"İptal")*(ROW(Randevular!$A$5:$A$1504)-4))))="",""," · "&INDEX(Randevular!$H$5:$H$1504,SUMPRODUCT(MAX((Randevular!$A$5:$A$1504=E$6)*(ABS(Randevular!$B$5:$B$1504-$A14)<0.0001)*(Randevular!$J$5:$J$1504<>"İptal")*(ROW(Randevular!$A$5:$A$1504)-4)))))) | F14: =IF(SUMPRODUCT(MAX((Randevular!$A$5:$A$1504=F$6)*(ABS(Randevular!$B$5:$B$1504-$A14)<0.0001)*(Randevular!$J$5:$J$1504<>"İptal")*(ROW(Randevular!$A$5:$A$1504)-4)))=0,"",INDEX(Randevular!$E$5:$E$1504,SUMPRODUCT(MAX((Randevular!$A$5:$A$1504=F$6)*(ABS(Randevular!$B$5:$B$1504-$A14)<0.0001)*(Randevular!$J$5:$J$1504<>"İptal")*(ROW(Randevular!$A$5:$A$1504)-4))))&IF(INDEX(Randevular!$H$5:$H$1504,SUMPRODUCT(MAX((Randevular!$A$5:$A$1504=F$6)*(ABS(Randevular!$B$5:$B$1504-$A14)<0.0001)*(Randevular!$J$5:$J$1504<>"İptal")*(ROW(Randevular!$A$5:$A$1504)-4))))="",""," · "&INDEX(Randevular!$H$5:$H$1504,SUMPRODUCT(MAX((Randevular!$A$5:$A$1504=F$6)*(ABS(Randevular!$B$5:$B$1504-$A14)<0.0001)*(Randevular!$J$5:$J$1504<>"İptal")*(ROW(Randevular!$A$5:$A$1504)-4)))))) | G14: =IF(SUMPRODUCT(MAX((Randevular!$A$5:$A$1504=G$6)*(ABS(Randevular!$B$5:$B$1504-$A14)<0.0001)*(Randevular!$J$5:$J$1504<>"İptal")*(ROW(Randevular!$A$5:$A$1504)-4)))=0,"",INDEX(Randevular!$E$5:$E$1504,SUMPRODUCT(MAX((Randevular!$A$5:$A$1504=G$6)*(ABS(Randevular!$B$5:$B$1504-$A14)<0.0001)*(Randevular!$J$5:$J$1504<>"İptal")*(ROW(Randevular!$A$5:$A$1504)-4))))&IF(INDEX(Randevular!$H$5:$H$1504,SUMPRODUCT(MAX((Randevular!$A$5:$A$1504=G$6)*(ABS(Randevular!$B$5:$B$1504-$A14)<0.0001)*(Randevular!$J$5:$J$1504<>"İptal")*(ROW(Randevular!$A$5:$A$1504)-4))))="",""," · "&INDEX(Randevular!$H$5:$H$1504,SUMPRODUCT(MAX((Randevular!$A$5:$A$1504=G$6)*(ABS(Randevular!$B$5:$B$1504-$A14)<0.0001)*(Randevular!$J$5:$J$1504<>"İptal")*(ROW(Randevular!$A$5:$A$1504)-4)))))) | H14: =IF(SUMPRODUCT(MAX((Randevular!$A$5:$A$1504=H$6)*(ABS(Randevular!$B$5:$B$1504-$A14)<0.0001)*(Randevular!$J$5:$J$1504<>"İptal")*(ROW(Randevular!$A$5:$A$1504)-4)))=0,"",INDEX(Randevular!$E$5:$E$1504,SUMPRODUCT(MAX((Randevular!$A$5:$A$1504=H$6)*(ABS(Randevular!$B$5:$B$1504-$A14)<0.0001)*(Randevular!$J$5:$J$1504<>"İptal")*(ROW(Randevular!$A$5:$A$1504)-4))))&IF(INDEX(Randevular!$H$5:$H$1504,SUMPRODUCT(MAX((Randevular!$A$5:$A$1504=H$6)*(ABS(Randevular!$B$5:$B$1504-$A14)<0.0001)*(Randevular!$J$5:$J$1504<>"İptal")*(ROW(Randevular!$A$5:$A$1504)-4))))="",""," · "&INDEX(Randevular!$H$5:$H$1504,SUMPRODUCT(MAX((Randevular!$A$5:$A$1504=H$6)*(ABS(Randevular!$B$5:$B$1504-$A14)<0.0001)*(Randevular!$J$5:$J$1504<>"İptal")*(ROW(Randevular!$A$5:$A$1504)-4))))))
A15: 0.5 | B15: =IF(SUMPRODUCT(MAX((Randevular!$A$5:$A$1504=B$6)*(ABS(Randevular!$B$5:$B$1504-$A15)<0.0001)*(Randevular!$J$5:$J$1504<>"İptal")*(ROW(Randevular!$A$5:$A$1504)-4)))=0,"",INDEX(Randevular!$E$5:$E$1504,SUMPRODUCT(MAX((Randevular!$A$5:$A$1504=B$6)*(ABS(Randevular!$B$5:$B$1504-$A15)<0.0001)*(Randevular!$J$5:$J$1504<>"İptal")*(ROW(Randevular!$A$5:$A$1504)-4))))&IF(INDEX(Randevular!$H$5:$H$1504,SUMPRODUCT(MAX((Randevular!$A$5:$A$1504=B$6)*(ABS(Randevular!$B$5:$B$1504-$A15)<0.0001)*(Randevular!$J$5:$J$1504<>"İptal")*(ROW(Randevular!$A$5:$A$1504)-4))))="",""," · "&INDEX(Randevular!$H$5:$H$1504,SUMPRODUCT(MAX((Randevular!$A$5:$A$1504=B$6)*(ABS(Randevular!$B$5:$B$1504-$A15)<0.0001)*(Randevular!$J$5:$J$1504<>"İptal")*(ROW(Randevular!$A$5:$A$1504)-4)))))) | C15: =IF(SUMPRODUCT(MAX((Randevular!$A$5:$A$1504=C$6)*(ABS(Randevular!$B$5:$B$1504-$A15)<0.0001)*(Randevular!$J$5:$J$1504<>"İptal")*(ROW(Randevular!$A$5:$A$1504)-4)))=0,"",INDEX(Randevular!$E$5:$E$1504,SUMPRODUCT(MAX((Randevular!$A$5:$A$1504=C$6)*(ABS(Randevular!$B$5:$B$1504-$A15)<0.0001)*(Randevular!$J$5:$J$1504<>"İptal")*(ROW(Randevular!$A$5:$A$1504)-4))))&IF(INDEX(Randevular!$H$5:$H$1504,SUMPRODUCT(MAX((Randevular!$A$5:$A$1504=C$6)*(ABS(Randevular!$B$5:$B$1504-$A15)<0.0001)*(Randevular!$J$5:$J$1504<>"İptal")*(ROW(Randevular!$A$5:$A$1504)-4))))="",""," · "&INDEX(Randevular!$H$5:$H$1504,SUMPRODUCT(MAX((Randevular!$A$5:$A$1504=C$6)*(ABS(Randevular!$B$5:$B$1504-$A15)<0.0001)*(Randevular!$J$5:$J$1504<>"İptal")*(ROW(Randevular!$A$5:$A$1504)-4)))))) | D15: =IF(SUMPRODUCT(MAX((Randevular!$A$5:$A$1504=D$6)*(ABS(Randevular!$B$5:$B$1504-$A15)<0.0001)*(Randevular!$J$5:$J$1504<>"İptal")*(ROW(Randevular!$A$5:$A$1504)-4)))=0,"",INDEX(Randevular!$E$5:$E$1504,SUMPRODUCT(MAX((Randevular!$A$5:$A$1504=D$6)*(ABS(Randevular!$B$5:$B$1504-$A15)<0.0001)*(Randevular!$J$5:$J$1504<>"İptal")*(ROW(Randevular!$A$5:$A$1504)-4))))&IF(INDEX(Randevular!$H$5:$H$1504,SUMPRODUCT(MAX((Randevular!$A$5:$A$1504=D$6)*(ABS(Randevular!$B$5:$B$1504-$A15)<0.0001)*(Randevular!$J$5:$J$1504<>"İptal")*(ROW(Randevular!$A$5:$A$1504)-4))))="",""," · "&INDEX(Randevular!$H$5:$H$1504,SUMPRODUCT(MAX((Randevular!$A$5:$A$1504=D$6)*(ABS(Randevular!$B$5:$B$1504-$A15)<0.0001)*(Randevular!$J$5:$J$1504<>"İptal")*(ROW(Randevular!$A$5:$A$1504)-4)))))) | E15: =IF(SUMPRODUCT(MAX((Randevular!$A$5:$A$1504=E$6)*(ABS(Randevular!$B$5:$B$1504-$A15)<0.0001)*(Randevular!$J$5:$J$1504<>"İptal")*(ROW(Randevular!$A$5:$A$1504)-4)))=0,"",INDEX(Randevular!$E$5:$E$1504,SUMPRODUCT(MAX((Randevular!$A$5:$A$1504=E$6)*(ABS(Randevular!$B$5:$B$1504-$A15)<0.0001)*(Randevular!$J$5:$J$1504<>"İptal")*(ROW(Randevular!$A$5:$A$1504)-4))))&IF(INDEX(Randevular!$H$5:$H$1504,SUMPRODUCT(MAX((Randevular!$A$5:$A$1504=E$6)*(ABS(Randevular!$B$5:$B$1504-$A15)<0.0001)*(Randevular!$J$5:$J$1504<>"İptal")*(ROW(Randevular!$A$5:$A$1504)-4))))="",""," · "&INDEX(Randevular!$H$5:$H$1504,SUMPRODUCT(MAX((Randevular!$A$5:$A$1504=E$6)*(ABS(Randevular!$B$5:$B$1504-$A15)<0.0001)*(Randevular!$J$5:$J$1504<>"İptal")*(ROW(Randevular!$A$5:$A$1504)-4)))))) | F15: =IF(SUMPRODUCT(MAX((Randevular!$A$5:$A$1504=F$6)*(ABS(Randevular!$B$5:$B$1504-$A15)<0.0001)*(Randevular!$J$5:$J$1504<>"İptal")*(ROW(Randevular!$A$5:$A$1504)-4)))=0,"",INDEX(Randevular!$E$5:$E$1504,SUMPRODUCT(MAX((Randevular!$A$5:$A$1504=F$6)*(ABS(Randevular!$B$5:$B$1504-$A15)<0.0001)*(Randevular!$J$5:$J$1504<>"İptal")*(ROW(Randevular!$A$5:$A$1504)-4))))&IF(INDEX(Randevular!$H$5:$H$1504,SUMPRODUCT(MAX((Randevular!$A$5:$A$1504=F$6)*(ABS(Randevular!$B$5:$B$1504-$A15)<0.0001)*(Randevular!$J$5:$J$1504<>"İptal")*(ROW(Randevular!$A$5:$A$1504)-4))))="",""," · "&INDEX(Randevular!$H$5:$H$1504,SUMPRODUCT(MAX((Randevular!$A$5:$A$1504=F$6)*(ABS(Randevular!$B$5:$B$1504-$A15)<0.0001)*(Randevular!$J$5:$J$1504<>"İptal")*(ROW(Randevular!$A$5:$A$1504)-4)))))) | G15: =IF(SUMPRODUCT(MAX((Randevular!$A$5:$A$1504=G$6)*(ABS(Randevular!$B$5:$B$1504-$A15)<0.0001)*(Randevular!$J$5:$J$1504<>"İptal")*(ROW(Randevular!$A$5:$A$1504)-4)))=0,"",INDEX(Randevular!$E$5:$E$1504,SUMPRODUCT(MAX((Randevular!$A$5:$A$1504=G$6)*(ABS(Randevular!$B$5:$B$1504-$A15)<0.0001)*(Randevular!$J$5:$J$1504<>"İptal")*(ROW(Randevular!$A$5:$A$1504)-4))))&IF(INDEX(Randevular!$H$5:$H$1504,SUMPRODUCT(MAX((Randevular!$A$5:$A$1504=G$6)*(ABS(Randevular!$B$5:$B$1504-$A15)<0.0001)*(Randevular!$J$5:$J$1504<>"İptal")*(ROW(Randevular!$A$5:$A$1504)-4))))="",""," · "&INDEX(Randevular!$H$5:$H$1504,SUMPRODUCT(MAX((Randevular!$A$5:$A$1504=G$6)*(ABS(Randevular!$B$5:$B$1504-$A15)<0.0001)*(Randevular!$J$5:$J$1504<>"İptal")*(ROW(Randevular!$A$5:$A$1504)-4)))))) | H15: =IF(SUMPRODUCT(MAX((Randevular!$A$5:$A$1504=H$6)*(ABS(Randevular!$B$5:$B$1504-$A15)<0.0001)*(Randevular!$J$5:$J$1504<>"İptal")*(ROW(Randevular!$A$5:$A$1504)-4)))=0,"",INDEX(Randevular!$E$5:$E$1504,SUMPRODUCT(MAX((Randevular!$A$5:$A$1504=H$6)*(ABS(Randevular!$B$5:$B$1504-$A15)<0.0001)*(Randevular!$J$5:$J$1504<>"İptal")*(ROW(Randevular!$A$5:$A$1504)-4))))&IF(INDEX(Randevular!$H$5:$H$1504,SUMPRODUCT(MAX((Randevular!$A$5:$A$1504=H$6)*(ABS(Randevular!$B$5:$B$1504-$A15)<0.0001)*(Randevular!$J$5:$J$1504<>"İptal")*(ROW(Randevular!$A$5:$A$1504)-4))))="",""," · "&INDEX(Randevular!$H$5:$H$1504,SUMPRODUCT(MAX((Randevular!$A$5:$A$1504=H$6)*(ABS(Randevular!$B$5:$B$1504-$A15)<0.0001)*(Randevular!$J$5:$J$1504<>"İptal")*(ROW(Randevular!$A$5:$A$1504)-4))))))
A16: 0.52083333 | B16: =IF(SUMPRODUCT(MAX((Randevular!$A$5:$A$1504=B$6)*(ABS(Randevular!$B$5:$B$1504-$A16)<0.0001)*(Randevular!$J$5:$J$1504<>"İptal")*(ROW(Randevular!$A$5:$A$1504)-4)))=0,"",INDEX(Randevular!$E$5:$E$1504,SUMPRODUCT(MAX((Randevular!$A$5:$A$1504=B$6)*(ABS(Randevular!$B$5:$B$1504-$A16)<0.0001)*(Randevular!$J$5:$J$1504<>"İptal")*(ROW(Randevular!$A$5:$A$1504)-4))))&IF(INDEX(Randevular!$H$5:$H$1504,SUMPRODUCT(MAX((Randevular!$A$5:$A$1504=B$6)*(ABS(Randevular!$B$5:$B$1504-$A16)<0.0001)*(Randevular!$J$5:$J$1504<>"İptal")*(ROW(Randevular!$A$5:$A$1504)-4))))="",""," · "&INDEX(Randevular!$H$5:$H$1504,SUMPRODUCT(MAX((Randevular!$A$5:$A$1504=B$6)*(ABS(Randevular!$B$5:$B$1504-$A16)<0.0001)*(Randevular!$J$5:$J$1504<>"İptal")*(ROW(Randevular!$A$5:$A$1504)-4)))))) | C16: =IF(SUMPRODUCT(MAX((Randevular!$A$5:$A$1504=C$6)*(ABS(Randevular!$B$5:$B$1504-$A16)<0.0001)*(Randevular!$J$5:$J$1504<>"İptal")*(ROW(Randevular!$A$5:$A$1504)-4)))=0,"",INDEX(Randevular!$E$5:$E$1504,SUMPRODUCT(MAX((Randevular!$A$5:$A$1504=C$6)*(ABS(Randevular!$B$5:$B$1504-$A16)<0.0001)*(Randevular!$J$5:$J$1504<>"İptal")*(ROW(Randevular!$A$5:$A$1504)-4))))&IF(INDEX(Randevular!$H$5:$H$1504,SUMPRODUCT(MAX((Randevular!$A$5:$A$1504=C$6)*(ABS(Randevular!$B$5:$B$1504-$A16)<0.0001)*(Randevular!$J$5:$J$1504<>"İptal")*(ROW(Randevular!$A$5:$A$1504)-4))))="",""," · "&INDEX(Randevular!$H$5:$H$1504,SUMPRODUCT(MAX((Randevular!$A$5:$A$1504=C$6)*(ABS(Randevular!$B$5:$B$1504-$A16)<0.0001)*(Randevular!$J$5:$J$1504<>"İptal")*(ROW(Randevular!$A$5:$A$1504)-4)))))) | D16: =IF(SUMPRODUCT(MAX((Randevular!$A$5:$A$1504=D$6)*(ABS(Randevular!$B$5:$B$1504-$A16)<0.0001)*(Randevular!$J$5:$J$1504<>"İptal")*(ROW(Randevular!$A$5:$A$1504)-4)))=0,"",INDEX(Randevular!$E$5:$E$1504,SUMPRODUCT(MAX((Randevular!$A$5:$A$1504=D$6)*(ABS(Randevular!$B$5:$B$1504-$A16)<0.0001)*(Randevular!$J$5:$J$1504<>"İptal")*(ROW(Randevular!$A$5:$A$1504)-4))))&IF(INDEX(Randevular!$H$5:$H$1504,SUMPRODUCT(MAX((Randevular!$A$5:$A$1504=D$6)*(ABS(Randevular!$B$5:$B$1504-$A16)<0.0001)*(Randevular!$J$5:$J$1504<>"İptal")*(ROW(Randevular!$A$5:$A$1504)-4))))="",""," · "&INDEX(Randevular!$H$5:$H$1504,SUMPRODUCT(MAX((Randevular!$A$5:$A$1504=D$6)*(ABS(Randevular!$B$5:$B$1504-$A16)<0.0001)*(Randevular!$J$5:$J$1504<>"İptal")*(ROW(Randevular!$A$5:$A$1504)-4)))))) | E16: =IF(SUMPRODUCT(MAX((Randevular!$A$5:$A$1504=E$6)*(ABS(Randevular!$B$5:$B$1504-$A16)<0.0001)*(Randevular!$J$5:$J$1504<>"İptal")*(ROW(Randevular!$A$5:$A$1504)-4)))=0,"",INDEX(Randevular!$E$5:$E$1504,SUMPRODUCT(MAX((Randevular!$A$5:$A$1504=E$6)*(ABS(Randevular!$B$5:$B$1504-$A16)<0.0001)*(Randevular!$J$5:$J$1504<>"İptal")*(ROW(Randevular!$A$5:$A$1504)-4))))&IF(INDEX(Randevular!$H$5:$H$1504,SUMPRODUCT(MAX((Randevular!$A$5:$A$1504=E$6)*(ABS(Randevular!$B$5:$B$1504-$A16)<0.0001)*(Randevular!$J$5:$J$1504<>"İptal")*(ROW(Randevular!$A$5:$A$1504)-4))))="",""," · "&INDEX(Randevular!$H$5:$H$1504,SUMPRODUCT(MAX((Randevular!$A$5:$A$1504=E$6)*(ABS(Randevular!$B$5:$B$1504-$A16)<0.0001)*(Randevular!$J$5:$J$1504<>"İptal")*(ROW(Randevular!$A$5:$A$1504)-4)))))) | F16: =IF(SUMPRODUCT(MAX((Randevular!$A$5:$A$1504=F$6)*(ABS(Randevular!$B$5:$B$1504-$A16)<0.0001)*(Randevular!$J$5:$J$1504<>"İptal")*(ROW(Randevular!$A$5:$A$1504)-4)))=0,"",INDEX(Randevular!$E$5:$E$1504,SUMPRODUCT(MAX((Randevular!$A$5:$A$1504=F$6)*(ABS(Randevular!$B$5:$B$1504-$A16)<0.0001)*(Randevular!$J$5:$J$1504<>"İptal")*(ROW(Randevular!$A$5:$A$1504)-4))))&IF(INDEX(Randevular!$H$5:$H$1504,SUMPRODUCT(MAX((Randevular!$A$5:$A$1504=F$6)*(ABS(Randevular!$B$5:$B$1504-$A16)<0.0001)*(Randevular!$J$5:$J$1504<>"İptal")*(ROW(Randevular!$A$5:$A$1504)-4))))="",""," · "&INDEX(Randevular!$H$5:$H$1504,SUMPRODUCT(MAX((Randevular!$A$5:$A$1504=F$6)*(ABS(Randevular!$B$5:$B$1504-$A16)<0.0001)*(Randevular!$J$5:$J$1504<>"İptal")*(ROW(Randevular!$A$5:$A$1504)-4)))))) | G16: =IF(SUMPRODUCT(MAX((Randevular!$A$5:$A$1504=G$6)*(ABS(Randevular!$B$5:$B$1504-$A16)<0.0001)*(Randevular!$J$5:$J$1504<>"İptal")*(ROW(Randevular!$A$5:$A$1504)-4)))=0,"",INDEX(Randevular!$E$5:$E$1504,SUMPRODUCT(MAX((Randevular!$A$5:$A$1504=G$6)*(ABS(Randevular!$B$5:$B$1504-$A16)<0.0001)*(Randevular!$J$5:$J$1504<>"İptal")*(ROW(Randevular!$A$5:$A$1504)-4))))&IF(INDEX(Randevular!$H$5:$H$1504,SUMPRODUCT(MAX((Randevular!$A$5:$A$1504=G$6)*(ABS(Randevular!$B$5:$B$1504-$A16)<0.0001)*(Randevular!$J$5:$J$1504<>"İptal")*(ROW(Randevular!$A$5:$A$1504)-4))))="",""," · "&INDEX(Randevular!$H$5:$H$1504,SUMPRODUCT(MAX((Randevular!$A$5:$A$1504=G$6)*(ABS(Randevular!$B$5:$B$1504-$A16)<0.0001)*(Randevular!$J$5:$J$1504<>"İptal")*(ROW(Randevular!$A$5:$A$1504)-4)))))) | H16: =IF(SUMPRODUCT(MAX((Randevular!$A$5:$A$1504=H$6)*(ABS(Randevular!$B$5:$B$1504-$A16)<0.0001)*(Randevular!$J$5:$J$1504<>"İptal")*(ROW(Randevular!$A$5:$A$1504)-4)))=0,"",INDEX(Randevular!$E$5:$E$1504,SUMPRODUCT(MAX((Randevular!$A$5:$A$1504=H$6)*(ABS(Randevular!$B$5:$B$1504-$A16)<0.0001)*(Randevular!$J$5:$J$1504<>"İptal")*(ROW(Randevular!$A$5:$A$1504)-4))))&IF(INDEX(Randevular!$H$5:$H$1504,SUMPRODUCT(MAX((Randevular!$A$5:$A$1504=H$6)*(ABS(Randevular!$B$5:$B$1504-$A16)<0.0001)*(Randevular!$J$5:$J$1504<>"İptal")*(ROW(Randevular!$A$5:$A$1504)-4))))="",""," · "&INDEX(Randevular!$H$5:$H$1504,SUMPRODUCT(MAX((Randevular!$A$5:$A$1504=H$6)*(ABS(Randevular!$B$5:$B$1504-$A16)<0.0001)*(Randevular!$J$5:$J$1504<>"İptal")*(ROW(Randevular!$A$5:$A$1504)-4))))))
A17: 0.54166667 | B17: =IF(SUMPRODUCT(MAX((Randevular!$A$5:$A$1504=B$6)*(ABS(Randevular!$B$5:$B$1504-$A17)<0.0001)*(Randevular!$J$5:$J$1504<>"İptal")*(ROW(Randevular!$A$5:$A$1504)-4)))=0,"",INDEX(Randevular!$E$5:$E$1504,SUMPRODUCT(MAX((Randevular!$A$5:$A$1504=B$6)*(ABS(Randevular!$B$5:$B$1504-$A17)<0.0001)*(Randevular!$J$5:$J$1504<>"İptal")*(ROW(Randevular!$A$5:$A$1504)-4))))&IF(INDEX(Randevular!$H$5:$H$1504,SUMPRODUCT(MAX((Randevular!$A$5:$A$1504=B$6)*(ABS(Randevular!$B$5:$B$1504-$A17)<0.0001)*(Randevular!$J$5:$J$1504<>"İptal")*(ROW(Randevular!$A$5:$A$1504)-4))))="",""," · "&INDEX(Randevular!$H$5:$H$1504,SUMPRODUCT(MAX((Randevular!$A$5:$A$1504=B$6)*(ABS(Randevular!$B$5:$B$1504-$A17)<0.0001)*(Randevular!$J$5:$J$1504<>"İptal")*(ROW(Randevular!$A$5:$A$1504)-4)))))) | C17: =IF(SUMPRODUCT(MAX((Randevular!$A$5:$A$1504=C$6)*(ABS(Randevular!$B$5:$B$1504-$A17)<0.0001)*(Randevular!$J$5:$J$1504<>"İptal")*(ROW(Randevular!$A$5:$A$1504)-4)))=0,"",INDEX(Randevular!$E$5:$E$1504,SUMPRODUCT(MAX((Randevular!$A$5:$A$1504=C$6)*(ABS(Randevular!$B$5:$B$1504-$A17)<0.0001)*(Randevular!$J$5:$J$1504<>"İptal")*(ROW(Randevular!$A$5:$A$1504)-4))))&IF(INDEX(Randevular!$H$5:$H$1504,SUMPRODUCT(MAX((Randevular!$A$5:$A$1504=C$6)*(ABS(Randevular!$B$5:$B$1504-$A17)<0.0001)*(Randevular!$J$5:$J$1504<>"İptal")*(ROW(Randevular!$A$5:$A$1504)-4))))="",""," · "&INDEX(Randevular!$H$5:$H$1504,SUMPRODUCT(MAX((Randevular!$A$5:$A$1504=C$6)*(ABS(Randevular!$B$5:$B$1504-$A17)<0.0001)*(Randevular!$J$5:$J$1504<>"İptal")*(ROW(Randevular!$A$5:$A$1504)-4)))))) | D17: =IF(SUMPRODUCT(MAX((Randevular!$A$5:$A$1504=D$6)*(ABS(Randevular!$B$5:$B$1504-$A17)<0.0001)*(Randevular!$J$5:$J$1504<>"İptal")*(ROW(Randevular!$A$5:$A$1504)-4)))=0,"",INDEX(Randevular!$E$5:$E$1504,SUMPRODUCT(MAX((Randevular!$A$5:$A$1504=D$6)*(ABS(Randevular!$B$5:$B$1504-$A17)<0.0001)*(Randevular!$J$5:$J$1504<>"İptal")*(ROW(Randevular!$A$5:$A$1504)-4))))&IF(INDEX(Randevular!$H$5:$H$1504,SUMPRODUCT(MAX((Randevular!$A$5:$A$1504=D$6)*(ABS(Randevular!$B$5:$B$1504-$A17)<0.0001)*(Randevular!$J$5:$J$1504<>"İptal")*(ROW(Randevular!$A$5:$A$1504)-4))))="",""," · "&INDEX(Randevular!$H$5:$H$1504,SUMPRODUCT(MAX((Randevular!$A$5:$A$1504=D$6)*(ABS(Randevular!$B$5:$B$1504-$A17)<0.0001)*(Randevular!$J$5:$J$1504<>"İptal")*(ROW(Randevular!$A$5:$A$1504)-4)))))) | E17: =IF(SUMPRODUCT(MAX((Randevular!$A$5:$A$1504=E$6)*(ABS(Randevular!$B$5:$B$1504-$A17)<0.0001)*(Randevular!$J$5:$J$1504<>"İptal")*(ROW(Randevular!$A$5:$A$1504)-4)))=0,"",INDEX(Randevular!$E$5:$E$1504,SUMPRODUCT(MAX((Randevular!$A$5:$A$1504=E$6)*(ABS(Randevular!$B$5:$B$1504-$A17)<0.0001)*(Randevular!$J$5:$J$1504<>"İptal")*(ROW(Randevular!$A$5:$A$1504)-4))))&IF(INDEX(Randevular!$H$5:$H$1504,SUMPRODUCT(MAX((Randevular!$A$5:$A$1504=E$6)*(ABS(Randevular!$B$5:$B$1504-$A17)<0.0001)*(Randevular!$J$5:$J$1504<>"İptal")*(ROW(Randevular!$A$5:$A$1504)-4))))="",""," · "&INDEX(Randevular!$H$5:$H$1504,SUMPRODUCT(MAX((Randevular!$A$5:$A$1504=E$6)*(ABS(Randevular!$B$5:$B$1504-$A17)<0.0001)*(Randevular!$J$5:$J$1504<>"İptal")*(ROW(Randevular!$A$5:$A$1504)-4)))))) | F17: =IF(SUMPRODUCT(MAX((Randevular!$A$5:$A$1504=F$6)*(ABS(Randevular!$B$5:$B$1504-$A17)<0.0001)*(Randevular!$J$5:$J$1504<>"İptal")*(ROW(Randevular!$A$5:$A$1504)-4)))=0,"",INDEX(Randevular!$E$5:$E$1504,SUMPRODUCT(MAX((Randevular!$A$5:$A$1504=F$6)*(ABS(Randevular!$B$5:$B$1504-$A17)<0.0001)*(Randevular!$J$5:$J$1504<>"İptal")*(ROW(Randevular!$A$5:$A$1504)-4))))&IF(INDEX(Randevular!$H$5:$H$1504,SUMPRODUCT(MAX((Randevular!$A$5:$A$1504=F$6)*(ABS(Randevular!$B$5:$B$1504-$A17)<0.0001)*(Randevular!$J$5:$J$1504<>"İptal")*(ROW(Randevular!$A$5:$A$1504)-4))))="",""," · "&INDEX(Randevular!$H$5:$H$1504,SUMPRODUCT(MAX((Randevular!$A$5:$A$1504=F$6)*(ABS(Randevular!$B$5:$B$1504-$A17)<0.0001)*(Randevular!$J$5:$J$1504<>"İptal")*(ROW(Randevular!$A$5:$A$1504)-4)))))) | G17: =IF(SUMPRODUCT(MAX((Randevular!$A$5:$A$1504=G$6)*(ABS(Randevular!$B$5:$B$1504-$A17)<0.0001)*(Randevular!$J$5:$J$1504<>"İptal")*(ROW(Randevular!$A$5:$A$1504)-4)))=0,"",INDEX(Randevular!$E$5:$E$1504,SUMPRODUCT(MAX((Randevular!$A$5:$A$1504=G$6)*(ABS(Randevular!$B$5:$B$1504-$A17)<0.0001)*(Randevular!$J$5:$J$1504<>"İptal")*(ROW(Randevular!$A$5:$A$1504)-4))))&IF(INDEX(Randevular!$H$5:$H$1504,SUMPRODUCT(MAX((Randevular!$A$5:$A$1504=G$6)*(ABS(Randevular!$B$5:$B$1504-$A17)<0.0001)*(Randevular!$J$5:$J$1504<>"İptal")*(ROW(Randevular!$A$5:$A$1504)-4))))="",""," · "&INDEX(Randevular!$H$5:$H$1504,SUMPRODUCT(MAX((Randevular!$A$5:$A$1504=G$6)*(ABS(Randevular!$B$5:$B$1504-$A17)<0.0001)*(Randevular!$J$5:$J$1504<>"İptal")*(ROW(Randevular!$A$5:$A$1504)-4)))))) | H17: =IF(SUMPRODUCT(MAX((Randevular!$A$5:$A$1504=H$6)*(ABS(Randevular!$B$5:$B$1504-$A17)<0.0001)*(Randevular!$J$5:$J$1504<>"İptal")*(ROW(Randevular!$A$5:$A$1504)-4)))=0,"",INDEX(Randevular!$E$5:$E$1504,SUMPRODUCT(MAX((Randevular!$A$5:$A$1504=H$6)*(ABS(Randevular!$B$5:$B$1504-$A17)<0.0001)*(Randevular!$J$5:$J$1504<>"İptal")*(ROW(Randevular!$A$5:$A$1504)-4))))&IF(INDEX(Randevular!$H$5:$H$1504,SUMPRODUCT(MAX((Randevular!$A$5:$A$1504=H$6)*(ABS(Randevular!$B$5:$B$1504-$A17)<0.0001)*(Randevular!$J$5:$J$1504<>"İptal")*(ROW(Randevular!$A$5:$A$1504)-4))))="",""," · "&INDEX(Randevular!$H$5:$H$1504,SUMPRODUCT(MAX((Randevular!$A$5:$A$1504=H$6)*(ABS(Randevular!$B$5:$B$1504-$A17)<0.0001)*(Randevular!$J$5:$J$1504<>"İptal")*(ROW(Randevular!$A$5:$A$1504)-4))))))
