Workbook

Sheet Haftalık Görünüm
A1: Randevu Defteri — Haftalık Görünüm
A2: Ücretsiz şablon · İşletme Yönetim · isletmeyonetim.com — Programda tutmak için tıklayın (250 kayıt ücretsiz)
A3: Haftanın ilk günü → | B3: 46286 | C3: Tarihi değiştirin; tablo o haftanın randevularını gösterir. Dolu saatler renklenir, randevunun başladığı hücrede müşteri adı yazar.
A5: Saat | B5: Pazartesi | C5: Salı | D5: Çarşamba | E5: Perşembe | F5: Cuma | G5: Cumartesi | H5: Pazar
B6: =$B$3+0 | C6: =$B$3+1 | D6: =$B$3+2 | E6: =$B$3+3 | F6: =$B$3+4 | G6: =$B$3+5 | H6: =$B$3+6
A7: 0.33333333 | B7: =IF(SUMPRODUCT(MAX((Randevular!$A$5:$A$1504=B$6)*(ABS(Randevular!$B$5:$B$1504-$A7)<0.0001)*(Randevular!$J$5:$J$1504<>"İptal")*(ROW(Randevular!$A$5:$A$1504)-4)))=0,"",INDEX(Randevular!$E$5:$E$1504,SUMPRODUCT(MAX((Randevular!$A$5:$A$1504=B$6)*(ABS(Randevular!$B$5:$B$1504-$A7)<0.0001)*(Randevular!$J$5:$J$1504<>"İptal")*(ROW(Randevular!$A$5:$A$1504)-4))))&IF(INDEX(Randevular!$H$5:$H$1504,SUMPRODUCT(MAX((Randevular!$A$5:$A$1504=B$6)*(ABS(Randevular!$B$5:$B$1504-$A7)<0.0001)*(Randevular!$J$5:$J$1504<>"İptal")*(ROW(Randevular!$A$5:$A$1504)-4))))="",""," · "&INDEX(Randevular!$H$5:$H$1504,SUMPRODUCT(MAX((Randevular!$A$5:$A$1504=B$6)*(ABS(Randevular!$B$5:$B$1504-$A7)<0.0001)*(Randevular!$J$5:$J$1504<>"İptal")*(ROW(Randevular!$A$5:$A$1504)-4)))))) | C7: =IF(SUMPRODUCT(MAX((Randevular!$A$5:$A$1504=C$6)*(ABS(Randevular!$B$5:$B$1504-$A7)<0.0001)*(Randevular!$J$5:$J$1504<>"İptal")*(ROW(Randevular!$A$5:$A$1504)-4)))=0,"",INDEX(Randevular!$E$5:$E$1504,SUMPRODUCT(MAX((Randevular!$A$5:$A$1504=C$6)*(ABS(Randevular!$B$5:$B$1504-$A7)<0.0001)*(Randevular!$J$5:$J$1504<>"İptal")*(ROW(Randevular!$A$5:$A$1504)-4))))&IF(INDEX(Randevular!$H$5:$H$1504,SUMPRODUCT(MAX((Randevular!$A$5:$A$1504=C$6)*(ABS(Randevular!$B$5:$B$1504-$A7)<0.0001)*(Randevular!$J$5:$J$1504<>"İptal")*(ROW(Randevular!$A$5:$A$1504)-4))))="",""," · "&INDEX(Randevular!$H$5:$H$1504,SUMPRODUCT(MAX((Randevular!$A$5:$A$1504=C$6)*(ABS(Randevular!$B$5:$B$1504-$A7)<0.0001)*(Randevular!$J$5:$J$1504<>"İptal")*(ROW(Randevular!$A$5:$A$1504)-4)))))) | D7: =IF(SUMPRODUCT(MAX((Randevular!$A$5:$A$1504=D$6)*(ABS(Randevular!$B$5:$B$1504-$A7)<0.0001)*(Randevular!$J$5:$J$1504<>"İptal")*(ROW(Randevular!$A$5:$A$1504)-4)))=0,"",INDEX(Randevular!$E$5:$E$1504,SUMPRODUCT(MAX((Randevular!$A$5:$A$1504=D$6)*(ABS(Randevular!$B$5:$B$1504-$A7)<0.0001)*(Randevular!$J$5:$J$1504<>"İptal")*(ROW(Randevular!$A$5:$A$1504)-4))))&IF(INDEX(Randevular!$H$5:$H$1504,SUMPRODUCT(MAX((Randevular!$A$5:$A$1504=D$6)*(ABS(Randevular!$B$5:$B$1504-$A7)<0.0001)*(Randevular!$J$5:$J$1504<>"İptal")*(ROW(Randevular!$A$5:$A$1504)-4))))="",""," · "&INDEX(Randevular!$H$5:$H$1504,SUMPRODUCT(MAX((Randevular!$A$5:$A$1504=D$6)*(ABS(Randevular!$B$5:$B$1504-$A7)<0.0001)*(Randevular!$J$5:$J$1504<>"İptal")*(ROW(Randevular!$A$5:$A$1504)-4)))))) | E7: =IF(SUMPRODUCT(MAX((Randevular!$A$5:$A$1504=E$6)*(ABS(Randevular!$B$5:$B$1504-$A7)<0.0001)*(Randevular!$J$5:$J$1504<>"İptal")*(ROW(Randevular!$A$5:$A$1504)-4)))=0,"",INDEX(Randevular!$E$5:$E$1504,SUMPRODUCT(MAX((Randevular!$A$5:$A$1504=E$6)*(ABS(Randevular!$B$5:$B$1504-$A7)<0.0001)*(Randevular!$J$5:$J$1504<>"İptal")*(ROW(Randevular!$A$5:$A$1504)-4))))&IF(INDEX(Randevular!$H$5:$H$1504,SUMPRODUCT(MAX((Randevular!$A$5:$A$1504=E$6)*(ABS(Randevular!$B$5:$B$1504-$A7)<0.0001)*(Randevular!$J$5:$J$1504<>"İptal")*(ROW(Randevular!$A$5:$A$1504)-4))))="",""," · "&INDEX(Randevular!$H$5:$H$1504,SUMPRODUCT(MAX((Randevular!$A$5:$A$1504=E$6)*(ABS(Randevular!$B$5:$B$1504-$A7)<0.0001)*(Randevular!$J$5:$J$1504<>"İptal")*(ROW(Randevular!$A$5:$A$1504)-4)))))) | F7: =IF(SUMPRODUCT(MAX((Randevular!$A$5:$A$1504=F$6)*(ABS(Randevular!$B$5:$B$1504-$A7)<0.0001)*(Randevular!$J$5:$J$1504<>"İptal")*(ROW(Randevular!$A$5:$A$1504)-4)))=0,"",INDEX(Randevular!$E$5:$E$1504,SUMPRODUCT(MAX((Randevular!$A$5:$A$1504=F$6)*(ABS(Randevular!$B$5:$B$1504-$A7)<0.0001)*(Randevular!$J$5:$J$1504<>"İptal")*(ROW(Randevular!$A$5:$A$1504)-4))))&IF(INDEX(Randevular!$H$5:$H$1504,SUMPRODUCT(MAX((Randevular!$A$5:$A$1504=F$6)*(ABS(Randevular!$B$5:$B$1504-$A7)<0.0001)*(Randevular!$J$5:$J$1504<>"İptal")*(ROW(Randevular!$A$5:$A$1504)-4))))="",""," · "&INDEX(Randevular!$H$5:$H$1504,SUMPRODUCT(MAX((Randevular!$A$5:$A$1504=F$6)*(ABS(Randevular!$B$5:$B$1504-$A7)<0.0001)*(Randevular!$J$5:$J$1504<>"İptal")*(ROW(Randevular!$A$5:$A$1504)-4)))))) | G7: =IF(SUMPRODUCT(MAX((Randevular!$A$5:$A$1504=G$6)*(ABS(Randevular!$B$5:$B$1504-$A7)<0.0001)*(Randevular!$J$5:$J$1504<>"İptal")*(ROW(Randevular!$A$5:$A$1504)-4)))=0,"",INDEX(Randevular!$E$5:$E$1504,SUMPRODUCT(MAX((Randevular!$A$5:$A$1504=G$6)*(ABS(Randevular!$B$5:$B$1504-$A7)<0.0001)*(Randevular!$J$5:$J$1504<>"İptal")*(ROW(Randevular!$A$5:$A$1504)-4))))&IF(INDEX(Randevular!$H$5:$H$1504,SUMPRODUCT(MAX((Randevular!$A$5:$A$1504=G$6)*(ABS(Randevular!$B$5:$B$1504-$A7)<0.0001)*(Randevular!$J$5:$J$1504<>"İptal")*(ROW(Randevular!$A$5:$A$1504)-4))))="",""," · "&INDEX(Randevular!$H$5:$H$1504,SUMPRODUCT(MAX((Randevular!$A$5:$A$1504=G$6)*(ABS(Randevular!$B$5:$B$1504-$A7)<0.0001)*(Randevular!$J$5:$J$1504<>"İptal")*(ROW(Randevular!$A$5:$A$1504)-4)))))) | H7: =IF(SUMPRODUCT(MAX((Randevular!$A$5:$A$1504=H$6)*(ABS(Randevular!$B$5:$B$1504-$A7)<0.0001)*(Randevular!$J$5:$J$1504<>"İptal")*(ROW(Randevular!$A$5:$A$1504)-4)))=0,"",INDEX(Randevular!$E$5:$E$1504,SUMPRODUCT(MAX((Randevular!$A$5:$A$1504=H$6)*(ABS(Randevular!$B$5:$B$1504-$A7)<0.0001)*(Randevular!$J$5:$J$1504<>"İptal")*(ROW(Randevular!$A$5:$A$1504)-4))))&IF(INDEX(Randevular!$H$5:$H$1504,SUMPRODUCT(MAX((Randevular!$A$5:$A$1504=H$6)*(ABS(Randevular!$B$5:$B$1504-$A7)<0.0001)*(Randevular!$J$5:$J$1504<>"İptal")*(ROW(Randevular!$A$5:$A$1504)-4))))="",""," · "&INDEX(Randevular!$H$5:$H$1504,SUMPRODUCT(MAX((Randevular!$A$5:$A$1504=H$6)*(ABS(Randevular!$B$5:$B$1504-$A7)<0.0001)*(Randevular!$J$5:$J$1504<>"İptal")*(ROW(Randevular!$A$5:$A$1504)-4))))))
A8: 0.35416667 | B8: =IF(SUMPRODUCT(MAX((Randevular!$A$5:$A$1504=B$6)*(ABS(Randevular!$B$5:$B$1504-$A8)<0.0001)*(Randevular!$J$5:$J$1504<>"İptal")*(ROW(Randevular!$A$5:$A$1504)-4)))=0,"",INDEX(Randevular!$E$5:$E$1504,SUMPRODUCT(MAX((Randevular!$A$5:$A$1504=B$6)*(ABS(Randevular!$B$5:$B$1504-$A8)<0.0001)*(Randevular!$J$5:$J$1504<>"İptal")*(ROW(Randevular!$A$5:$A$1504)-4))))&IF(INDEX(Randevular!$H$5:$H$1504,SUMPRODUCT(MAX((Randevular!$A$5:$A$1504=B$6)*(ABS(Randevular!$B$5:$B$1504-$A8)<0.0001)*(Randevular!$J$5:$J$1504<>"İptal")*(ROW(Randevular!$A$5:$A$1504)-4))))="",""," · "&INDEX(Randevular!$H$5:$H$1504,SUMPRODUCT(MAX((Randevular!$A$5:$A$1504=B$6)*(ABS(Randevular!$B$5:$B$1504-$A8)<0.0001)*(Randevular!$J$5:$J$1504<>"İptal")*(ROW(Randevular!$A$5:$A$1504)-4)))))) | C8: =IF(SUMPRODUCT(MAX((Randevular!$A$5:$A$1504=C$6)*(ABS(Randevular!$B$5:$B$1504-$A8)<0.0001)*(Randevular!$J$5:$J$1504<>"İptal")*(ROW(Randevular!$A$5:$A$1504)-4)))=0,"",INDEX(Randevular!$E$5:$E$1504,SUMPRODUCT(MAX((Randevular!$A$5:$A$1504=C$6)*(ABS(Randevular!$B$5:$B$1504-$A8)<0.0001)*(Randevular!$J$5:$J$1504<>"İptal")*(ROW(Randevular!$A$5:$A$1504)-4))))&IF(INDEX(Randevular!$H$5:$H$1504,SUMPRODUCT(MAX((Randevular!$A$5:$A$1504=C$6)*(ABS(Randevular!$B$5:$B$1504-$A8)<0.0001)*(Randevular!$J$5:$J$1504<>"İptal")*(ROW(Randevular!$A$5:$A$1504)-4))))="",""," · "&INDEX(Randevular!$H$5:$H$1504,SUMPRODUCT(MAX((Randevular!$A$5:$A$1504=C$6)*(ABS(Randevular!$B$5:$B$1504-$A8)<0.0001)*(Randevular!$J$5:$J$1504<>"İptal")*(ROW(Randevular!$A$5:$A$1504)-4)))))) | D8: =IF(SUMPRODUCT(MAX((Randevular!$A$5:$A$1504=D$6)*(ABS(Randevular!$B$5:$B$1504-$A8)<0.0001)*(Randevular!$J$5:$J$1504<>"İptal")*(ROW(Randevular!$A$5:$A$1504)-4)))=0,"",INDEX(Randevular!$E$5:$E$1504,SUMPRODUCT(MAX((Randevular!$A$5:$A$1504=D$6)*(ABS(Randevular!$B$5:$B$1504-$A8)<0.0001)*(Randevular!$J$5:$J$1504<>"İptal")*(ROW(Randevular!$A$5:$A$1504)-4))))&IF(INDEX(Randevular!$H$5:$H$1504,SUMPRODUCT(MAX((Randevular!$A$5:$A$1504=D$6)*(ABS(Randevular!$B$5:$B$1504-$A8)<0.0001)*(Randevular!$J$5:$J$1504<>"İptal")*(ROW(Randevular!$A$5:$A$1504)-4))))="",""," · "&INDEX(Randevular!$H$5:$H$1504,SUMPRODUCT(MAX((Randevular!$A$5:$A$1504=D$6)*(ABS(Randevular!$B$5:$B$1504-$A8)<0.0001)*(Randevular!$J$5:$J$1504<>"İptal")*(ROW(Randevular!$A$5:$A$1504)-4)))))) | E8: =IF(SUMPRODUCT(MAX((Randevular!$A$5:$A$1504=E$6)*(ABS(Randevular!$B$5:$B$1504-$A8)<0.0001)*(Randevular!$J$5:$J$1504<>"İptal")*(ROW(Randevular!$A$5:$A$1504)-4)))=0,"",INDEX(Randevular!$E$5:$E$1504,SUMPRODUCT(MAX((Randevular!$A$5:$A$1504=E$6)*(ABS(Randevular!$B$5:$B$1504-$A8)<0.0001)*(Randevular!$J$5:$J$1504<>"İptal")*(ROW(Randevular!$A$5:$A$1504)-4))))&IF(INDEX(Randevular!$H$5:$H$1504,SUMPRODUCT(MAX((Randevular!$A$5:$A$1504=E$6)*(ABS(Randevular!$B$5:$B$1504-$A8)<0.0001)*(Randevular!$J$5:$J$1504<>"İptal")*(ROW(Randevular!$A$5:$A$1504)-4))))="",""," · "&INDEX(Randevular!$H$5:$H$1504,SUMPRODUCT(MAX((Randevular!$A$5:$A$1504=E$6)*(ABS(Randevular!$B$5:$B$1504-$A8)<0.0001)*(Randevular!$J$5:$J$1504<>"İptal")*(ROW(Randevular!$A$5:$A$1504)-4)))))) | F8: =IF(SUMPRODUCT(MAX((Randevular!$A$5:$A$1504=F$6)*(ABS(Randevular!$B$5:$B$1504-$A8)<0.0001)*(Randevular!$J$5:$J$1504<>"İptal")*(ROW(Randevular!$A$5:$A$1504)-4)))=0,"",INDEX(Randevular!$E$5:$E$1504,SUMPRODUCT(MAX((Randevular!$A$5:$A$1504=F$6)*(ABS(Randevular!$B$5:$B$1504-$A8)<0.0001)*(Randevular!$J$5:$J$1504<>"İptal")*(ROW(Randevular!$A$5:$A$1504)-4))))&IF(INDEX(Randevular!$H$5:$H$1504,SUMPRODUCT(MAX((Randevular!$A$5:$A$1504=F$6)*(ABS(Randevular!$B$5:$B$1504-$A8)<0.0001)*(Randevular!$J$5:$J$1504<>"İptal")*(ROW(Randevular!$A$5:$A$1504)-4))))="",""," · "&INDEX(Randevular!$H$5:$H$1504,SUMPRODUCT(MAX((Randevular!$A$5:$A$1504=F$6)*(ABS(Randevular!$B$5:$B$1504-$A8)<0.0001)*(Randevular!$J$5:$J$1504<>"İptal")*(ROW(Randevular!$A$5:$A$1504)-4)))))) | G8: =IF(SUMPRODUCT(MAX((Randevular!$A$5:$A$1504=G$6)*(ABS(Randevular!$B$5:$B$1504-$A8)<0.0001)*(Randevular!$J$5:$J$1504<>"İptal")*(ROW(Randevular!$A$5:$A$1504)-4)))=0,"",INDEX(Randevular!$E$5:$E$1504,SUMPRODUCT(MAX((Randevular!$A$5:$A$1504=G$6)*(ABS(Randevular!$B$5:$B$1504-$A8)<0.0001)*(Randevular!$J$5:$J$1504<>"İptal")*(ROW(Randevular!$A$5:$A$1504)-4))))&IF(INDEX(Randevular!$H$5:$H$1504,SUMPRODUCT(MAX((Randevular!$A$5:$A$1504=G$6)*(ABS(Randevular!$B$5:$B$1504-$A8)<0.0001)*(Randevular!$J$5:$J$1504<>"İptal")*(ROW(Randevular!$A$5:$A$1504)-4))))="",""," · "&INDEX(Randevular!$H$5:$H$1504,SUMPRODUCT(MAX((Randevular!$A$5:$A$1504=G$6)*(ABS(Randevular!$B$5:$B$1504-$A8)<0.0001)*(Randevular!$J$5:$J$1504<>"İptal")*(ROW(Randevular!$A$5:$A$1504)-4)))))) | H8: =IF(SUMPRODUCT(MAX((Randevular!$A$5:$A$1504=H$6)*(ABS(Randevular!$B$5:$B$1504-$A8)<0.0001)*(Randevular!$J$5:$J$1504<>"İptal")*(ROW(Randevular!$A$5:$A$1504)-4)))=0,"",INDEX(Randevular!$E$5:$E$1504,SUMPRODUCT(MAX((Randevular!$A$5:$A$1504=H$6)*(ABS(Randevular!$B$5:$B$1504-$A8)<0.0001)*(Randevular!$J$5:$J$1504<>"İptal")*(ROW(Randevular!$A$5:$A$1504)-4))))&IF(INDEX(Randevular!$H$5:$H$1504,SUMPRODUCT(MAX((Randevular!$A$5:$A$1504=H$6)*(ABS(Randevular!$B$5:$B$1504-$A8)<0.0001)*(Randevular!$J$5:$J$1504<>"İptal")*(ROW(Randevular!$A$5:$A$1504)-4))))="",""," · "&INDEX(Randevular!$H$5:$H$1504,SUMPRODUCT(MAX((Randevular!$A$5:$A$1504=H$6)*(ABS(Randevular!$B$5:$B$1504-$A8)<0.0001)*(Randevular!$J$5:$J$1504<>"İptal")*(ROW(Randevular!$A$5:$A$1504)-4))))))
A9: 0.375 | B9: =IF(SUMPRODUCT(MAX((Randevular!$A$5:$A$1504=B$6)*(ABS(Randevular!$B$5:$B$1504-$A9)<0.0001)*(Randevular!$J$5:$J$1504<>"İptal")*(ROW(Randevular!$A$5:$A$1504)-4)))=0,"",INDEX(Randevular!$E$5:$E$1504,SUMPRODUCT(MAX((Randevular!$A$5:$A$1504=B$6)*(ABS(Randevular!$B$5:$B$1504-$A9)<0.0001)*(Randevular!$J$5:$J$1504<>"İptal")*(ROW(Randevular!$A$5:$A$1504)-4))))&IF(INDEX(Randevular!$H$5:$H$1504,SUMPRODUCT(MAX((Randevular!$A$5:$A$1504=B$6)*(ABS(Randevular!$B$5:$B$1504-$A9)<0.0001)*(Randevular!$J$5:$J$1504<>"İptal")*(ROW(Randevular!$A$5:$A$1504)-4))))="",""," · "&INDEX(Randevular!$H$5:$H$1504,SUMPRODUCT(MAX((Randevular!$A$5:$A$1504=B$6)*(ABS(Randevular!$B$5:$B$1504-$A9)<0.0001)*(Randevular!$J$5:$J$1504<>"İptal")*(ROW(Randevular!$A$5:$A$1504)-4)))))) | C9: =IF(SUMPRODUCT(MAX((Randevular!$A$5:$A$1504=C$6)*(ABS(Randevular!$B$5:$B$1504-$A9)<0.0001)*(Randevular!$J$5:$J$1504<>"İptal")*(ROW(Randevular!$A$5:$A$1504)-4)))=0,"",INDEX(Randevular!$E$5:$E$1504,SUMPRODUCT(MAX((Randevular!$A$5:$A$1504=C$6)*(ABS(Randevular!$B$5:$B$1504-$A9)<0.0001)*(Randevular!$J$5:$J$1504<>"İptal")*(ROW(Randevular!$A$5:$A$1504)-4))))&IF(INDEX(Randevular!$H$5:$H$1504,SUMPRODUCT(MAX((Randevular!$A$5:$A$1504=C$6)*(ABS(Randevular!$B$5:$B$1504-$A9)<0.0001)*(Randevular!$J$5:$J$1504<>"İptal")*(ROW(Randevular!$A$5:$A$1504)-4))))="",""," · "&INDEX(Randevular!$H$5:$H$1504,SUMPRODUCT(MAX((Randevular!$A$5:$A$1504=C$6)*(ABS(Randevular!$B$5:$B$1504-$A9)<0.0001)*(Randevular!$J$5:$J$1504<>"İptal")*(ROW(Randevular!$A$5:$A$1504)-4)))))) | D9: =IF(SUMPRODUCT(MAX((Randevular!$A$5:$A$1504=D$6)*(ABS(Randevular!$B$5:$B$1504-$A9)<0.0001)*(Randevular!$J$5:$J$1504<>"İptal")*(ROW(Randevular!$A$5:$A$1504)-4)))=0,"",INDEX(Randevular!$E$5:$E$1504,SUMPRODUCT(MAX((Randevular!$A$5:$A$1504=D$6)*(ABS(Randevular!$B$5:$B$1504-$A9)<0.0001)*(Randevular!$J$5:$J$1504<>"İptal")*(ROW(Randevular!$A$5:$A$1504)-4))))&IF(INDEX(Randevular!$H$5:$H$1504,SUMPRODUCT(MAX((Randevular!$A$5:$A$1504=D$6)*(ABS(Randevular!$B$5:$B$1504-$A9)<0.0001)*(Randevular!$J$5:$J$1504<>"İptal")*(ROW(Randevular!$A$5:$A$1504)-4))))="",""," · "&INDEX(Randevular!$H$5:$H$1504,SUMPRODUCT(MAX((Randevular!$A$5:$A$1504=D$6)*(ABS(Randevular!$B$5:$B$1504-$A9)<0.0001)*(Randevular!$J$5:$J$1504<>"İptal")*(ROW(Randevular!$A$5:$A$1504)-4)))))) | E9: =IF(SUMPRODUCT(MAX((Randevular!$A$5:$A$1504=E$6)*(ABS(Randevular!$B$5:$B$1504-$A9)<0.0001)*(Randevular!$J$5:$J$1504<>"İptal")*(ROW(Randevular!$A$5:$A$1504)-4)))=0,"",INDEX(Randevular!$E$5:$E$1504,SUMPRODUCT(MAX((Randevular!$A$5:$A$1504=E$6)*(ABS(Randevular!$B$5:$B$1504-$A9)<0.0001)*(Randevular!$J$5:$J$1504<>"İptal")*(ROW(Randevular!$A$5:$A$1504)-4))))&IF(INDEX(Randevular!$H$5:$H$1504,SUMPRODUCT(MAX((Randevular!$A$5:$A$1504=E$6)*(ABS(Randevular!$B$5:$B$1504-$A9)<0.0001)*(Randevular!$J$5:$J$1504<>"İptal")*(ROW(Randevular!$A$5:$A$1504)-4))))="",""," · "&INDEX(Randevular!$H$5:$H$1504,SUMPRODUCT(MAX((Randevular!$A$5:$A$1504=E$6)*(ABS(Randevular!$B$5:$B$1504-$A9)<0.0001)*(Randevular!$J$5:$J$1504<>"İptal")*(ROW(Randevular!$A$5:$A$1504)-4)))))) | F9: =IF(SUMPRODUCT(MAX((Randevular!$A$5:$A$1504=F$6)*(ABS(Randevular!$B$5:$B$1504-$A9)<0.0001)*(Randevular!$J$5:$J$1504<>"İptal")*(ROW(Randevular!$A$5:$A$1504)-4)))=0,"",INDEX(Randevular!$E$5:$E$1504,SUMPRODUCT(MAX((Randevular!$A$5:$A$1504=F$6)*(ABS(Randevular!$B$5:$B$1504-$A9)<0.0001)*(Randevular!$J$5:$J$1504<>"İptal")*(ROW(Randevular!$A$5:$A$1504)-4))))&IF(INDEX(Randevular!$H$5:$H$1504,SUMPRODUCT(MAX((Randevular!$A$5:$A$1504=F$6)*(ABS(Randevular!$B$5:$B$1504-$A9)<0.0001)*(Randevular!$J$5:$J$1504<>"İptal")*(ROW(Randevular!$A$5:$A$1504)-4))))="",""," · "&INDEX(Randevular!$H$5:$H$1504,SUMPRODUCT(MAX((Randevular!$A$5:$A$1504=F$6)*(ABS(Randevular!$B$5:$B$1504-$A9)<0.0001)*(Randevular!$J$5:$J$1504<>"İptal")*(ROW(Randevular!$A$5:$A$1504)-4)))))) | G9: =IF(SUMPRODUCT(MAX((Randevular!$A$5:$A$1504=G$6)*(ABS(Randevular!$B$5:$B$1504-$A9)<0.0001)*(Randevular!$J$5:$J$1504<>"İptal")*(ROW(Randevular!$A$5:$A$1504)-4)))=0,"",INDEX(Randevular!$E$5:$E$1504,SUMPRODUCT(MAX((Randevular!$A$5:$A$1504=G$6)*(ABS(Randevular!$B$5:$B$1504-$A9)<0.0001)*(Randevular!$J$5:$J$1504<>"İptal")*(ROW(Randevular!$A$5:$A$1504)-4))))&IF(INDEX(Randevular!$H$5:$H$1504,SUMPRODUCT(MAX((Randevular!$A$5:$A$1504=G$6)*(ABS(Randevular!$B$5:$B$1504-$A9)<0.0001)*(Randevular!$J$5:$J$1504<>"İptal")*(ROW(Randevular!$A$5:$A$1504)-4))))="",""," · "&INDEX(Randevular!$H$5:$H$1504,SUMPRODUCT(MAX((Randevular!$A$5:$A$1504=G$6)*(ABS(Randevular!$B$5:$B$1504-$A9)<0.0001)*(Randevular!$J$5:$J$1504<>"İptal")*(ROW(Randevular!$A$5:$A$1504)-4)))))) | H9: =IF(SUMPRODUCT(MAX((Randevular!$A$5:$A$1504=H$6)*(ABS(Randevular!$B$5:$B$1504-$A9)<0.0001)*(Randevular!$J$5:$J$1504<>"İptal")*(ROW(Randevular!$A$5:$A$1504)-4)))=0,"",INDEX(Randevular!$E$5:$E$1504,SUMPRODUCT(MAX((Randevular!$A$5:$A$1504=H$6)*(ABS(Randevular!$B$5:$B$1504-$A9)<0.0001)*(Randevular!$J$5:$J$1504<>"İptal")*(ROW(Randevular!$A$5:$A$1504)-4))))&IF(INDEX(Randevular!$H$5:$H$1504,SUMPRODUCT(MAX((Randevular!$A$5:$A$1504=H$6)*(ABS(Randevular!$B$5:$B$1504-$A9)<0.0001)*(Randevular!$J$5:$J$1504<>"İptal")*(ROW(Randevular!$A$5:$A$1504)-4))))="",""," · "&INDEX(Randevular!$H$5:$H$1504,SUMPRODUCT(MAX((Randevular!$A$5:$A$1504=H$6)*(ABS(Randevular!$B$5:$B$1504-$A9)<0.0001)*(Randevular!$J$5:$J$1504<>"İptal")*(ROW(Randevular!$A$5:$A$1504)-4))))))
A10: 0.39583333 | B10: =IF(SUMPRODUCT(MAX((Randevular!$A$5:$A$1504=B$6)*(ABS(Randevular!$B$5:$B$1504-$A10)<0.0001)*(Randevular!$J$5:$J$1504<>"İptal")*(ROW(Randevular!$A$5:$A$1504)-4)))=0,"",INDEX(Randevular!$E$5:$E$1504,SUMPRODUCT(MAX((Randevular!$A$5:$A$1504=B$6)*(ABS(Randevular!$B$5:$B$1504-$A10)<0.0001)*(Randevular!$J$5:$J$1504<>"İptal")*(ROW(Randevular!$A$5:$A$1504)-4))))&IF(INDEX(Randevular!$H$5:$H$1504,SUMPRODUCT(MAX((Randevular!$A$5:$A$1504=B$6)*(ABS(Randevular!$B$5:$B$1504-$A10)<0.0001)*(Randevular!$J$5:$J$1504<>"İptal")*(ROW(Randevular!$A$5:$A$1504)-4))))="",""," · "&INDEX(Randevular!$H$5:$H$1504,SUMPRODUCT(MAX((Randevular!$A$5:$A$1504=B$6)*(ABS(Randevular!$B$5:$B$1504-$A10)<0.0001)*(Randevular!$J$5:$J$1504<>"İptal")*(ROW(Randevular!$A$5:$A$1504)-4)))))) | C10: =IF(SUMPRODUCT(MAX((Randevular!$A$5:$A$1504=C$6)*(ABS(Randevular!$B$5:$B$1504-$A10)<0.0001)*(Randevular!$J$5:$J$1504<>"İptal")*(ROW(Randevular!$A$5:$A$1504)-4)))=0,"",INDEX(Randevular!$E$5:$E$1504,SUMPRODUCT(MAX((Randevular!$A$5:$A$1504=C$6)*(ABS(Randevular!$B$5:$B$1504-$A10)<0.0001)*(Randevular!$J$5:$J$1504<>"İptal")*(ROW(Randevular!$A$5:$A$1504)-4))))&IF(INDEX(Randevular!$H$5:$H$1504,SUMPRODUCT(MAX((Randevular!$A$5:$A$1504=C$6)*(ABS(Randevular!$B$5:$B$1504-$A10)<0.0001)*(Randevular!$J$5:$J$1504<>"İptal")*(ROW(Randevular!$A$5:$A$1504)-4))))="",""," · "&INDEX(Randevular!$H$5:$H$1504,SUMPRODUCT(MAX((Randevular!$A$5:$A$1504=C$6)*(ABS(Randevular!$B$5:$B$1504-$A10)<0.0001)*(Randevular!$J$5:$J$1504<>"İptal")*(ROW(Randevular!$A$5:$A$1504)-4)))))) | D10: =IF(SUMPRODUCT(MAX((Randevular!$A$5:$A$1504=D$6)*(ABS(Randevular!$B$5:$B$1504-$A10)<0.0001)*(Randevular!$J$5:$J$1504<>"İptal")*(ROW(Randevular!$A$5:$A$1504)-4)))=0,"",INDEX(Randevular!$E$5:$E$1504,SUMPRODUCT(MAX((Randevular!$A$5:$A$1504=D$6)*(ABS(Randevular!$B$5:$B$1504-$A10)<0.0001)*(Randevular!$J$5:$J$1504<>"İptal")*(ROW(Randevular!$A$5:$A$1504)-4))))&IF(INDEX(Randevular!$H$5:$H$1504,SUMPRODUCT(MAX((Randevular!$A$5:$A$1504=D$6)*(ABS(Randevular!$B$5:$B$1504-$A10)<0.0001)*(Randevular!$J$5:$J$1504<>"İptal")*(ROW(Randevular!$A$5:$A$1504)-4))))="",""," · "&INDEX(Randevular!$H$5:$H$1504,SUMPRODUCT(MAX((Randevular!$A$5:$A$1504=D$6)*(ABS(Randevular!$B$5:$B$1504-$A10)<0.0001)*(Randevular!$J$5:$J$1504<>"İptal")*(ROW(Randevular!$A$5:$A$1504)-4)))))) | E10: =IF(SUMPRODUCT(MAX((Randevular!$A$5:$A$1504=E$6)*(ABS(Randevular!$B$5:$B$1504-$A10)<0.0001)*(Randevular!$J$5:$J$1504<>"İptal")*(ROW(Randevular!$A$5:$A$1504)-4)))=0,"",INDEX(Randevular!$E$5:$E$1504,SUMPRODUCT(MAX((Randevular!$A$5:$A$1504=E$6)*(ABS(Randevular!$B$5:$B$1504-$A10)<0.0001)*(Randevular!$J$5:$J$1504<>"İptal")*(ROW(Randevular!$A$5:$A$1504)-4))))&IF(INDEX(Randevular!$H$5:$H$1504,SUMPRODUCT(MAX((Randevular!$A$5:$A$1504=E$6)*(ABS(Randevular!$B$5:$B$1504-$A10)<0.0001)*(Randevular!$J$5:$J$1504<>"İptal")*(ROW(Randevular!$A$5:$A$1504)-4))))="",""," · "&INDEX(Randevular!$H$5:$H$1504,SUMPRODUCT(MAX((Randevular!$A$5:$A$1504=E$6)*(ABS(Randevular!$B$5:$B$1504-$A10)<0.0001)*(Randevular!$J$5:$J$1504<>"İptal")*(ROW(Randevular!$A$5:$A$1504)-4)))))) | F10: =IF(SUMPRODUCT(MAX((Randevular!$A$5:$A$1504=F$6)*(ABS(Randevular!$B$5:$B$1504-$A10)<0.0001)*(Randevular!$J$5:$J$1504<>"İptal")*(ROW(Randevular!$A$5:$A$1504)-4)))=0,"",INDEX(Randevular!$E$5:$E$1504,SUMPRODUCT(MAX((Randevular!$A$5:$A$1504=F$6)*(ABS(Randevular!$B$5:$B$1504-$A10)<0.0001)*(Randevular!$J$5:$J$1504<>"İptal")*(ROW(Randevular!$A$5:$A$1504)-4))))&IF(INDEX(Randevular!$H$5:$H$1504,SUMPRODUCT(MAX((Randevular!$A$5:$A$1504=F$6)*(ABS(Randevular!$B$5:$B$1504-$A10)<0.0001)*(Randevular!$J$5:$J$1504<>"İptal")*(ROW(Randevular!$A$5:$A$1504)-4))))="",""," · "&INDEX(Randevular!$H$5:$H$1504,SUMPRODUCT(MAX((Randevular!$A$5:$A$1504=F$6)*(ABS(Randevular!$B$5:$B$1504-$A10)<0.0001)*(Randevular!$J$5:$J$1504<>"İptal")*(ROW(Randevular!$A$5:$A$1504)-4)))))) | G10: =IF(SUMPRODUCT(MAX((Randevular!$A$5:$A$1504=G$6)*(ABS(Randevular!$B$5:$B$1504-$A10)<0.0001)*(Randevular!$J$5:$J$1504<>"İptal")*(ROW(Randevular!$A$5:$A$1504)-4)))=0,"",INDEX(Randevular!$E$5:$E$1504,SUMPRODUCT(MAX((Randevular!$A$5:$A$1504=G$6)*(ABS(Randevular!$B$5:$B$1504-$A10)<0.0001)*(Randevular!$J$5:$J$1504<>"İptal")*(ROW(Randevular!$A$5:$A$1504)-4))))&IF(INDEX(Randevular!$H$5:$H$1504,SUMPRODUCT(MAX((Randevular!$A$5:$A$1504=G$6)*(ABS(Randevular!$B$5:$B$1504-$A10)<0.0001)*(Randevular!$J$5:$J$1504<>"İptal")*(ROW(Randevular!$A$5:$A$1504)-4))))="",""," · "&INDEX(Randevular!$H$5:$H$1504,SUMPRODUCT(MAX((Randevular!$A$5:$A$1504=G$6)*(ABS(Randevular!$B$5:$B$1504-$A10)<0.0001)*(Randevular!$J$5:$J$1504<>"İptal")*(ROW(Randevular!$A$5:$A$1504)-4)))))) | H10: =IF(SUMPRODUCT(MAX((Randevular!$A$5:$A$1504=H$6)*(ABS(Randevular!$B$5:$B$1504-$A10)<0.0001)*(Randevular!$J$5:$J$1504<>"İptal")*(ROW(Randevular!$A$5:$A$1504)-4)))=0,"",INDEX(Randevular!$E$5:$E$1504,SUMPRODUCT(MAX((Randevular!$A$5:$A$1504=H$6)*(ABS(Randevular!$B$5:$B$1504-$A10)<0.0001)*(Randevular!$J$5:$J$1504<>"İptal")*(ROW(Randevular!$A$5:$A$1504)-4))))&IF(INDEX(Randevular!$H$5:$H$1504,SUMPRODUCT(MAX((Randevular!$A$5:$A$1504=H$6)*(ABS(Randevular!$B$5:$B$1504-$A10)<0.0001)*(Randevular!$J$5:$J$1504<>"İptal")*(ROW(Randevular!$A$5:$A$1504)-4))))="",""," · "&INDEX(Randevular!$H$5:$H$1504,SUMPRODUCT(MAX((Randevular!$A$5:$A$1504=H$6)*(ABS(Randevular!$B$5:$B$1504-$A10)<0.0001)*(Randevular!$J$5:$J$1504<>"İptal")*(ROW(Randevular!$A$5:$A$1504)-4))))))
A11: 0.41666667 | B11: =IF(SUMPRODUCT(MAX((Randevular!$A$5:$A$1504=B$6)*(ABS(Randevular!$B$5:$B$1504-$A11)<0.0001)*(Randevular!$J$5:$J$1504<>"İptal")*(ROW(Randevular!$A$5:$A$1504)-4)))=0,"",INDEX(Randevular!$E$5:$E$1504,SUMPRODUCT(MAX((Randevular!$A$5:$A$1504=B$6)*(ABS(Randevular!$B$5:$B$1504-$A11)<0.0001)*(Randevular!$J$5:$J$1504<>"İptal")*(ROW(Randevular!$A$5:$A$1504)-4))))&IF(INDEX(Randevular!$H$5:$H$1504,SUMPRODUCT(MAX((Randevular!$A$5:$A$1504=B$6)*(ABS(Randevular!$B$5:$B$1504-$A11)<0.0001)*(Randevular!$J$5:$J$1504<>"İptal")*(ROW(Randevular!$A$5:$A$1504)-4))))="",""," · "&INDEX(Randevular!$H$5:$H$1504,SUMPRODUCT(MAX((Randevular!$A$5:$A$1504=B$6)*(ABS(Randevular!$B$5:$B$1504-$A11)<0.0001)*(Randevular!$J$5:$J$1504<>"İptal")*(ROW(Randevular!$A$5:$A$1504)-4)))))) | C11: =IF(SUMPRODUCT(MAX((Randevular!$A$5:$A$1504=C$6)*(ABS(Randevular!$B$5:$B$1504-$A11)<0.0001)*(Randevular!$J$5:$J$1504<>"İptal")*(ROW(Randevular!$A$5:$A$1504)-4)))=0,"",INDEX(Randevular!$E$5:$E$1504,SUMPRODUCT(MAX((Randevular!$A$5:$A$1504=C$6)*(ABS(Randevular!$B$5:$B$1504-$A11)<0.0001)*(Randevular!$J$5:$J$1504<>"İptal")*(ROW(Randevular!$A$5:$A$1504)-4))))&IF(INDEX(Randevular!$H$5:$H$1504,SUMPRODUCT(MAX((Randevular!$A$5:$A$1504=C$6)*(ABS(Randevular!$B$5:$B$1504-$A11)<0.0001)*(Randevular!$J$5:$J$1504<>"İptal")*(ROW(Randevular!$A$5:$A$1504)-4))))="",""," · "&INDEX(Randevular!$H$5:$H$1504,SUMPRODUCT(MAX((Randevular!$A$5:$A$1504=C$6)*(ABS(Randevular!$B$5:$B$1504-$A11)<0.0001)*(Randevular!$J$5:$J$1504<>"İptal")*(ROW(Randevular!$A$5:$A$1504)-4)))))) | D11: =IF(SUMPRODUCT(MAX((Randevular!$A$5:$A$1504=D$6)*(ABS(Randevular!$B$5:$B$1504-$A11)<0.0001)*(Randevular!$J$5:$J$1504<>"İptal")*(ROW(Randevular!$A$5:$A$1504)-4)))=0,"",INDEX(Randevular!$E$5:$E$1504,SUMPRODUCT(MAX((Randevular!$A$5:$A$1504=D$6)*(ABS(Randevular!$B$5:$B$1504-$A11)<0.0001)*(Randevular!$J$5:$J$1504<>"İptal")*(ROW(Randevular!$A$5:$A$1504)-4))))&IF(INDEX(Randevular!$H$5:$H$1504,SUMPRODUCT(MAX((Randevular!$A$5:$A$1504=D$6)*(ABS(Randevular!$B$5:$B$1504-$A11)<0.0001)*(Randevular!$J$5:$J$1504<>"İptal")*(ROW(Randevular!$A$5:$A$1504)-4))))="",""," · "&INDEX(Randevular!$H$5:$H$1504,SUMPRODUCT(MAX((Randevular!$A$5:$A$1504=D$6)*(ABS(Randevular!$B$5:$B$1504-$A11)<0.0001)*(Randevular!$J$5:$J$1504<>"İptal")*(ROW(Randevular!$A$5:$A$1504)-4)))))) | E11: =IF(SUMPRODUCT(MAX((Randevular!$A$5:$A$1504=E$6)*(ABS(Randevular!$B$5:$B$1504-$A11)<0.0001)*(Randevular!$J$5:$J$1504<>"İptal")*(ROW(Randevular!$A$5:$A$1504)-4)))=0,"",INDEX(Randevular!$E$5:$E$1504,SUMPRODUCT(MAX((Randevular!$A$5:$A$1504=E$6)*(ABS(Randevular!$B$5:$B$1504-$A11)<0.0001)*(Randevular!$J$5:$J$1504<>"İptal")*(ROW(Randevular!$A$5:$A$1504)-4))))&IF(INDEX(Randevular!$H$5:$H$1504,SUMPRODUCT(MAX((Randevular!$A$5:$A$1504=E$6)*(ABS(Randevular!$B$5:$B$1504-$A11)<0.0001)*(Randevular!$J$5:$J$1504<>"İptal")*(ROW(Randevular!$A$5:$A$1504)-4))))="",""," · "&INDEX(Randevular!$H$5:$H$1504,SUMPRODUCT(MAX((Randevular!$A$5:$A$1504=E$6)*(ABS(Randevular!$B$5:$B$1504-$A11)<0.0001)*(Randevular!$J$5:$J$1504<>"İptal")*(ROW(Randevular!$A$5:$A$1504)-4)))))) | F11: =IF(SUMPRODUCT(MAX((Randevular!$A$5:$A$1504=F$6)*(ABS(Randevular!$B$5:$B$1504-$A11)<0.0001)*(Randevular!$J$5:$J$1504<>"İptal")*(ROW(Randevular!$A$5:$A$1504)-4)))=0,"",INDEX(Randevular!$E$5:$E$1504,SUMPRODUCT(MAX((Randevular!$A$5:$A$1504=F$6)*(ABS(Randevular!$B$5:$B$1504-$A11)<0.0001)*(Randevular!$J$5:$J$1504<>"İptal")*(ROW(Randevular!$A$5:$A$1504)-4))))&IF(INDEX(Randevular!$H$5:$H$1504,SUMPRODUCT(MAX((Randevular!$A$5:$A$1504=F$6)*(ABS(Randevular!$B$5:$B$1504-$A11)<0.0001)*(Randevular!$J$5:$J$1504<>"İptal")*(ROW(Randevular!$A$5:$A$1504)-4))))="",""," · "&INDEX(Randevular!$H$5:$H$1504,SUMPRODUCT(MAX((Randevular!$A$5:$A$1504=F$6)*(ABS(Randevular!$B$5:$B$1504-$A11)<0.0001)*(Randevular!$J$5:$J$1504<>"İptal")*(ROW(Randevular!$A$5:$A$1504)-4)))))) | G11: =IF(SUMPRODUCT(MAX((Randevular!$A$5:$A$1504=G$6)*(ABS(Randevular!$B$5:$B$1504-$A11)<0.0001)*(Randevular!$J$5:$J$1504<>"İptal")*(ROW(Randevular!$A$5:$A$1504)-4)))=0,"",INDEX(Randevular!$E$5:$E$1504,SUMPRODUCT(MAX((Randevular!$A$5:$A$1504=G$6)*(ABS(Randevular!$B$5:$B$1504-$A11)<0.0001)*(Randevular!$J$5:$J$1504<>"İptal")*(ROW(Randevular!$A$5:$A$1504)-4))))&IF(INDEX(Randevular!$H$5:$H$1504,SUMPRODUCT(MAX((Randevular!$A$5:$A$1504=G$6)*(ABS(Randevular!$B$5:$B$1504-$A11)<0.0001)*(Randevular!$J$5:$J$1504<>"İptal")*(ROW(Randevular!$A$5:$A$1504)-4))))="",""," · "&INDEX(Randevular!$H$5:$H$1504,SUMPRODUCT(MAX((Randevular!$A$5:$A$1504=G$6)*(ABS(Randevular!$B$5:$B$1504-$A11)<0.0001)*(Randevular!$J$5:$J$1504<>"İptal")*(ROW(Randevular!$A$5:$A$1504)-4)))))) | H11: =IF(SUMPRODUCT(MAX((Randevular!$A$5:$A$1504=H$6)*(ABS(Randevular!$B$5:$B$1504-$A11)<0.0001)*(Randevular!$J$5:$J$1504<>"İptal")*(ROW(Randevular!$A$5:$A$1504)-4)))=0,"",INDEX(Randevular!$E$5:$E$1504,SUMPRODUCT(MAX((Randevular!$A$5:$A$1504=H$6)*(ABS(Randevular!$B$5:$B$1504-$A11)<0.0001)*(Randevular!$J$5:$J$1504<>"İptal")*(ROW(Randevular!$A$5:$A$1504)-4))))&IF(INDEX(Randevular!$H$5:$H$1504,SUMPRODUCT(MAX((Randevular!$A$5:$A$1504=H$6)*(ABS(Randevular!$B$5:$B$1504-$A11)<0.0001)*(Randevular!$J$5:$J$1504<>"İptal")*(ROW(Randevular!$A$5:$A$1504)-4))))="",""," · "&INDEX(Randevular!$H$5:$H$1504,SUMPRODUCT(MAX((Randevular!$A$5:$A$1504=H$6)*(ABS(Randevular!$B$5:$B$1504-$A11)<0.0001)*(Randevular!$J$5:$J$1504<>"İptal")*(ROW(Randevular!$A$5:$A$1504)-4))))))
A12: 0.4375 | B12: =IF(SUMPRODUCT(MAX((Randevular!$A$5:$A$1504=B$6)*(ABS(Randevular!$B$5:$B$1504-$A12)<0.0001)*(Randevular!$J$5:$J$1504<>"İptal")*(ROW(Randevular!$A$5:$A$1504)-4)))=0,"",INDEX(Randevular!$E$5:$E$1504,SUMPRODUCT(MAX((Randevular!$A$5:$A$1504=B$6)*(ABS(Randevular!$B$5:$B$1504-$A12)<0.0001)*(Randevular!$J$5:$J$1504<>"İptal")*(ROW(Randevular!$A$5:$A$1504)-4))))&IF(INDEX(Randevular!$H$5:$H$1504,SUMPRODUCT(MAX((Randevular!$A$5:$A$1504=B$6)*(ABS(Randevular!$B$5:$B$1504-$A12)<0.0001)*(Randevular!$J$5:$J$1504<>"İptal")*(ROW(Randevular!$A$5:$A$1504)-4))))="",""," · "&INDEX(Randevular!$H$5:$H$1504,SUMPRODUCT(MAX((Randevular!$A$5:$A$1504=B$6)*(ABS(Randevular!$B$5:$B$1504-$A12)<0.0001)*(Randevular!$J$5:$J$1504<>"İptal")*(ROW(Randevular!$A$5:$A$1504)-4)))))) | C12: =IF(SUMPRODUCT(MAX((Randevular!$A$5:$A$1504=C$6)*(ABS(Randevular!$B$5:$B$1504-$A12)<0.0001)*(Randevular!$J$5:$J$1504<>"İptal")*(ROW(Randevular!$A$5:$A$1504)-4)))=0,"",INDEX(Randevular!$E$5:$E$1504,SUMPRODUCT(MAX((Randevular!$A$5:$A$1504=C$6)*(ABS(Randevular!$B$5:$B$1504-$A12)<0.0001)*(Randevular!$J$5:$J$1504<>"İptal")*(ROW(Randevular!$A$5:$A$1504)-4))))&IF(INDEX(Randevular!$H$5:$H$1504,SUMPRODUCT(MAX((Randevular!$A$5:$A$1504=C$6)*(ABS(Randevular!$B$5:$B$1504-$A12)<0.0001)*(Randevular!$J$5:$J$1504<>"İptal")*(ROW(Randevular!$A$5:$A$1504)-4))))="",""," · "&INDEX(Randevular!$H$5:$H$1504,SUMPRODUCT(MAX((Randevular!$A$5:$A$1504=C$6)*(ABS(Randevular!$B$5:$B$1504-$A12)<0.0001)*(Randevular!$J$5:$J$1504<>"İptal")*(ROW(Randevular!$A$5:$A$1504)-4)))))) | D12: =IF(SUMPRODUCT(MAX((Randevular!$A$5:$A$1504=D$6)*(ABS(Randevular!$B$5:$B$1504-$A12)<0.0001)*(Randevular!$J$5:$J$1504<>"İptal")*(ROW(Randevular!$A$5:$A$1504)-4)))=0,"",INDEX(Randevular!$E$5:$E$1504,SUMPRODUCT(MAX((Randevular!$A$5:$A$1504=D$6)*(ABS(Randevular!$B$5:$B$1504-$A12)<0.0001)*(Randevular!$J$5:$J$1504<>"İptal")*(ROW(Randevular!$A$5:$A$1504)-4))))&IF(INDEX(Randevular!$H$5:$H$1504,SUMPRODUCT(MAX((Randevular!$A$5:$A$1504=D$6)*(ABS(Randevular!$B$5:$B$1504-$A12)<0.0001)*(Randevular!$J$5:$J$1504<>"İptal")*(ROW(Randevular!$A$5:$A$1504)-4))))="",""," · "&INDEX(Randevular!$H$5:$H$1504,SUMPRODUCT(MAX((Randevular!$A$5:$A$1504=D$6)*(ABS(Randevular!$B$5:$B$1504-$A12)<0.0001)*(Randevular!$J$5:$J$1504<>"İptal")*(ROW(Randevular!$A$5:$A$1504)-4)))))) | E12: =IF(SUMPRODUCT(MAX((Randevular!$A$5:$A$1504=E$6)*(ABS(Randevular!$B$5:$B$1504-$A12)<0.0001)*(Randevular!$J$5:$J$1504<>"İptal")*(ROW(Randevular!$A$5:$A$1504)-4)))=0,"",INDEX(Randevular!$E$5:$E$1504,SUMPRODUCT(MAX((Randevular!$A$5:$A$1504=E$6)*(ABS(Randevular!$B$5:$B$1504-$A12)<0.0001)*(Randevular!$J$5:$J$1504<>"İptal")*(ROW(Randevular!$A$5:$A$1504)-4))))&IF(INDEX(Randevular!$H$5:$H$1504,SUMPRODUCT(MAX((Randevular!$A$5:$A$1504=E$6)*(ABS(Randevular!$B$5:$B$1504-$A12)<0.0001)*(Randevular!$J$5:$J$1504<>"İptal")*(ROW(Randevular!$A$5:$A$1504)-4))))="",""," · "&INDEX(Randevular!$H$5:$H$1504,SUMPRODUCT(MAX((Randevular!$A$5:$A$1504=E$6)*(ABS(Randevular!$B$5:$B$1504-$A12)<0.0001)*(Randevular!$J$5:$J$1504<>"İptal")*(ROW(Randevular!$A$5:$A$1504)-4)))))) | F12: =IF(SUMPRODUCT(MAX((Randevular!$A$5:$A$1504=F$6)*(ABS(Randevular!$B$5:$B$1504-$A12)<0.0001)*(Randevular!$J$5:$J$1504<>"İptal")*(ROW(Randevular!$A$5:$A$1504)-4)))=0,"",INDEX(Randevular!$E$5:$E$1504,SUMPRODUCT(MAX((Randevular!$A$5:$A$1504=F$6)*(ABS(Randevular!$B$5:$B$1504-$A12)<0.0001)*(Randevular!$J$5:$J$1504<>"İptal")*(ROW(Randevular!$A$5:$A$1504)-4))))&IF(INDEX(Randevular!$H$5:$H$1504,SUMPRODUCT(MAX((Randevular!$A$5:$A$1504=F$6)*(ABS(Randevular!$B$5:$B$1504-$A12)<0.0001)*(Randevular!$J$5:$J$1504<>"İptal")*(ROW(Randevular!$A$5:$A$1504)-4))))="",""," · "&INDEX(Randevular!$H$5:$H$1504,SUMPRODUCT(MAX((Randevular!$A$5:$A$1504=F$6)*(ABS(Randevular!$B$5:$B$1504-$A12)<0.0001)*(Randevular!$J$5:$J$1504<>"İptal")*(ROW(Randevular!$A$5:$A$1504)-4)))))) | G12: =IF(SUMPRODUCT(MAX((Randevular!$A$5:$A$1504=G$6)*(ABS(Randevular!$B$5:$B$1504-$A12)<0.0001)*(Randevular!$J$5:$J$1504<>"İptal")*(ROW(Randevular!$A$5:$A$1504)-4)))=0,"",INDEX(Randevular!$E$5:$E$1504,SUMPRODUCT(MAX((Randevular!$A$5:$A$1504=G$6)*(ABS(Randevular!$B$5:$B$1504-$A12)<0.0001)*(Randevular!$J$5:$J$1504<>"İptal")*(ROW(Randevular!$A$5:$A$1504)-4))))&IF(INDEX(Randevular!$H$5:$H$1504,SUMPRODUCT(MAX((Randevular!$A$5:$A$1504=G$6)*(ABS(Randevular!$B$5:$B$1504-$A12)<0.0001)*(Randevular!$J$5:$J$1504<>"İptal")*(ROW(Randevular!$A$5:$A$1504)-4))))="",""," · "&INDEX(Randevular!$H$5:$H$1504,SUMPRODUCT(MAX((Randevular!$A$5:$A$1504=G$6)*(ABS(Randevular!$B$5:$B$1504-$A12)<0.0001)*(Randevular!$J$5:$J$1504<>"İptal")*(ROW(Randevular!$A$5:$A$1504)-4)))))) | H12: =IF(SUMPRODUCT(MAX((Randevular!$A$5:$A$1504=H$6)*(ABS(Randevular!$B$5:$B$1504-$A12)<0.0001)*(Randevular!$J$5:$J$1504<>"İptal")*(ROW(Randevular!$A$5:$A$1504)-4)))=0,"",INDEX(Randevular!$E$5:$E$1504,SUMPRODUCT(MAX((Randevular!$A$5:$A$1504=H$6)*(ABS(Randevular!$B$5:$B$1504-$A12)<0.0001)*(Randevular!$J$5:$J$1504<>"İptal")*(ROW(Randevular!$A$5:$A$1504)-4))))&IF(INDEX(Randevular!$H$5:$H$1504,SUMPRODUCT(MAX((Randevular!$A$5:$A$1504=H$6)*(ABS(Randevular!$B$5:$B$1504-$A12)<0.0001)*(Randevular!$J$5:$J$1504<>"İptal")*(ROW(Randevular!$A$5:$A$1504)-4))))="",""," · "&INDEX(Randevular!$H$5:$H$1504,SUMPRODUCT(MAX((Randevular!$A$5:$A$1504=H$6)*(ABS(Randevular!$B$5:$B$1504-$A12)<0.0001)*(Randevular!$J$5:$J$1504<>"İptal")*(ROW(Randevular!$A$5:$A$1504)-4))))))
A13: 0.45833333 | B13: =IF(SUMPRODUCT(MAX((Randevular!$A$5:$A$1504=B$6)*(ABS(Randevular!$B$5:$B$1504-$A13)<0.0001)*(Randevular!$J$5:$J$1504<>"İptal")*(ROW(Randevular!$A$5:$A$1504)-4)))=0,"",INDEX(Randevular!$E$5:$E$1504,SUMPRODUCT(MAX((Randevular!$A$5:$A$1504=B$6)*(ABS(Randevular!$B$5:$B$1504-$A13)<0.0001)*(Randevular!$J$5:$J$1504<>"İptal")*(ROW(Randevular!$A$5:$A$1504)-4))))&IF(INDEX(Randevular!$H$5:$H$1504,SUMPRODUCT(MAX((Randevular!$A$5:$A$1504=B$6)*(ABS(Randevular!$B$5:$B$1504-$A13)<0.0001)*(Randevular!$J$5:$J$1504<>"İptal")*(ROW(Randevular!$A$5:$A$1504)-4))))="",""," · "&INDEX(Randevular!$H$5:$H$1504,SUMPRODUCT(MAX((Randevular!$A$5:$A$1504=B$6)*(ABS(Randevular!$B$5:$B$1504-$A13)<0.0001)*(Randevular!$J$5:$J$1504<>"İptal")*(ROW(Randevular!$A$5:$A$1504)-4)))))) | C13: =IF(SUMPRODUCT(MAX((Randevular!$A$5:$A$1504=C$6)*(ABS(Randevular!$B$5:$B$1504-$A13)<0.0001)*(Randevular!$J$5:$J$1504<>"İptal")*(ROW(Randevular!$A$5:$A$1504)-4)))=0,"",INDEX(Randevular!$E$5:$E$1504,SUMPRODUCT(MAX((Randevular!$A$5:$A$1504=C$6)*(ABS(Randevular!$B$5:$B$1504-$A13)<0.0001)*(Randevular!$J$5:$J$1504<>"İptal")*(ROW(Randevular!$A$5:$A$1504)-4))))&IF(INDEX(Randevular!$H$5:$H$1504,SUMPRODUCT(MAX((Randevular!$A$5:$A$1504=C$6)*(ABS(Randevular!$B$5:$B$1504-$A13)<0.0001)*(Randevular!$J$5:$J$1504<>"İptal")*(ROW(Randevular!$A$5:$A$1504)-4))))="",""," · "&INDEX(Randevular!$H$5:$H$1504,SUMPRODUCT(MAX((Randevular!$A$5:$A$1504=C$6)*(ABS(Randevular!$B$5:$B$1504-$A13)<0.0001)*(Randevular!$J$5:$J$1504<>"İptal")*(ROW(Randevular!$A$5:$A$1504)-4)))))) | D13: =IF(SUMPRODUCT(MAX((Randevular!$A$5:$A$1504=D$6)*(ABS(Randevular!$B$5:$B$1504-$A13)<0.0001)*(Randevular!$J$5:$J$1504<>"İptal")*(ROW(Randevular!$A$5:$A$1504)-4)))=0,"",INDEX(Randevular!$E$5:$E$1504,SUMPRODUCT(MAX((Randevular!$A$5:$A$1504=D$6)*(ABS(Randevular!$B$5:$B$1504-$A13)<0.0001)*(Randevular!$J$5:$J$1504<>"İptal")*(ROW(Randevular!$A$5:$A$1504)-4))))&IF(INDEX(Randevular!$H$5:$H$1504,SUMPRODUCT(MAX((Randevular!$A$5:$A$1504=D$6)*(ABS(Randevular!$B$5:$B$1504-$A13)<0.0001)*(Randevular!$J$5:$J$1504<>"İptal")*(ROW(Randevular!$A$5:$A$1504)-4))))="",""," · "&INDEX(Randevular!$H$5:$H$1504,SUMPRODUCT(MAX((Randevular!$A$5:$A$1504=D$6)*(ABS(Randevular!$B$5:$B$1504-$A13)<0.0001)*(Randevular!$J$5:$J$1504<>"İptal")*(ROW(Randevular!$A$5:$A$1504)-4)))))) | E13: =IF(SUMPRODUCT(MAX((Randevular!$A$5:$A$1504=E$6)*(ABS(Randevular!$B$5:$B$1504-$A13)<0.0001)*(Randevular!$J$5:$J$1504<>"İptal")*(ROW(Randevular!$A$5:$A$1504)-4)))=0,"",INDEX(Randevular!$E$5:$E$1504,SUMPRODUCT(MAX((Randevular!$A$5:$A$1504=E$6)*(ABS(Randevular!$B$5:$B$1504-$A13)<0.0001)*(Randevular!$J$5:$J$1504<>"İptal")*(ROW(Randevular!$A$5:$A$1504)-4))))&IF(INDEX(Randevular!$H$5:$H$1504,SUMPRODUCT(MAX((Randevular!$A$5:$A$1504=E$6)*(ABS(Randevular!$B$5:$B$1504-$A13)<0.0001)*(Randevular!$J$5:$J$1504<>"İptal")*(ROW(Randevular!$A$5:$A$1504)-4))))="",""," · "&INDEX(Randevular!$H$5:$H$1504,SUMPRODUCT(MAX((Randevular!$A$5:$A$1504=E$6)*(ABS(Randevular!$B$5:$B$1504-$A13)<0.0001)*(Randevular!$J$5:$J$1504<>"İptal")*(ROW(Randevular!$A$5:$A$1504)-4)))))) | F13: =IF(SUMPRODUCT(MAX((Randevular!$A$5:$A$1504=F$6)*(ABS(Randevular!$B$5:$B$1504-$A13)<0.0001)*(Randevular!$J$5:$J$1504<>"İptal")*(ROW(Randevular!$A$5:$A$1504)-4)))=0,"",INDEX(Randevular!$E$5:$E$1504,SUMPRODUCT(MAX((Randevular!$A$5:$A$1504=F$6)*(ABS(Randevular!$B$5:$B$1504-$A13)<0.0001)*(Randevular!$J$5:$J$1504<>"İptal")*(ROW(Randevular!$A$5:$A$1504)-4))))&IF(INDEX(Randevular!$H$5:$H$1504,SUMPRODUCT(MAX((Randevular!$A$5:$A$1504=F$6)*(ABS(Randevular!$B$5:$B$1504-$A13)<0.0001)*(Randevular!$J$5:$J$1504<>"İptal")*(ROW(Randevular!$A$5:$A$1504)-4))))="",""," · "&INDEX(Randevular!$H$5:$H$1504,SUMPRODUCT(MAX((Randevular!$A$5:$A$1504=F$6)*(ABS(Randevular!$B$5:$B$1504-$A13)<0.0001)*(Randevular!$J$5:$J$1504<>"İptal")*(ROW(Randevular!$A$5:$A$1504)-4)))))) | G13: =IF(SUMPRODUCT(MAX((Randevular!$A$5:$A$1504=G$6)*(ABS(Randevular!$B$5:$B$1504-$A13)<0.0001)*(Randevular!$J$5:$J$1504<>"İptal")*(ROW(Randevular!$A$5:$A$1504)-4)))=0,"",INDEX(Randevular!$E$5:$E$1504,SUMPRODUCT(MAX((Randevular!$A$5:$A$1504=G$6)*(ABS(Randevular!$B$5:$B$1504-$A13)<0.0001)*(Randevular!$J$5:$J$1504<>"İptal")*(ROW(Randevular!$A$5:$A$1504)-4))))&IF(INDEX(Randevular!$H$5:$H$1504,SUMPRODUCT(MAX((Randevular!$A$5:$A$1504=G$6)*(ABS(Randevular!$B$5:$B$1504-$A13)<0.0001)*(Randevular!$J$5:$J$1504<>"İptal")*(ROW(Randevular!$A$5:$A$1504)-4))))="",""," · "&INDEX(Randevular!$H$5:$H$1504,SUMPRODUCT(MAX((Randevular!$A$5:$A$1504=G$6)*(ABS(Randevular!$B$5:$B$1504-$A13)<0.0001)*(Randevular!$J$5:$J$1504<>"İptal")*(ROW(Randevular!$A$5:$A$1504)-4)))))) | H13: =IF(SUMPRODUCT(MAX((Randevular!$A$5:$A$1504=H$6)*(ABS(Randevular!$B$5:$B$1504-$A13)<0.0001)*(Randevular!$J$5:$J$1504<>"İptal")*(ROW(Randevular!$A$5:$A$1504)-4)))=0,"",INDEX(Randevular!$E$5:$E$1504,SUMPRODUCT(MAX((Randevular!$A$5:$A$1504=H$6)*(ABS(Randevular!$B$5:$B$1504-$A13)<0.0001)*(Randevular!$J$5:$J$1504<>"İptal")*(ROW(Randevular!$A$5:$A$1504)-4))))&IF(INDEX(Randevular!$H$5:$H$1504,SUMPRODUCT(MAX((Randevular!$A$5:$A$1504=H$6)*(ABS(Randevular!$B$5:$B$1504-$A13)<0.0001)*(Randevular!$J$5:$J$1504<>"İptal")*(ROW(Randevular!$A$5:$A$1504)-4))))="",""," · "&INDEX(Randevular!$H$5:$H$1504,SUMPRODUCT(MAX((Randevular!$A$5:$A$1504=H$6)*(ABS(Randevular!$B$5:$B$1504-$A13)<0.0001)*(Randevular!$J$5:$J$1504<>"İptal")*(ROW(Randevular!$A$5:$A$1504)-4))))))
A14: 0.47916667 | B14: =IF(SUMPRODUCT(MAX((Randevular!$A$5:$A$1504=B$6)*(ABS(Randevular!$B$5:$B$1504-$A14)<0.0001)*(Randevular!$J$5:$J$1504<>"İptal")*(ROW(Randevular!$A$5:$A$1504)-4)))=0,"",INDEX(Randevular!$E$5:$E$1504,SUMPRODUCT(MAX((Randevular!$A$5:$A$1504=B$6)*(ABS(Randevular!$B$5:$B$1504-$A14)<0.0001)*(Randevular!$J$5:$J$1504<>"İptal")*(ROW(Randevular!$A$5:$A$1504)-4))))&IF(INDEX(Randevular!$H$5:$H$1504,SUMPRODUCT(MAX((Randevular!$A$5:$A$1504=B$6)*(ABS(Randevular!$B$5:$B$1504-$A14)<0.0001)*(Randevular!$J$5:$J$1504<>"İptal")*(ROW(Randevular!$A$5:$A$1504)-4))))="",""," · "&INDEX(Randevular!$H$5:$H$1504,SUMPRODUCT(MAX((Randevular!$A$5:$A$1504=B$6)*(ABS(Randevular!$B$5:$B$1504-$A14)<0.0001)*(Randevular!$J$5:$J$1504<>"İptal")*(ROW(Randevular!$A$5:$A$1504)-4)))))) | C14: =IF(SUMPRODUCT(MAX((Randevular!$A$5:$A$1504=C$6)*(ABS(Randevular!$B$5:$B$1504-$A14)<0.0001)*(Randevular!$J$5:$J$1504<>"İptal")*(ROW(Randevular!$A$5:$A$1504)-4)))=0,"",INDEX(Randevular!$E$5:$E$1504,SUMPRODUCT(MAX((Randevular!$A$5:$A$1504=C$6)*(ABS(Randevular!$B$5:$B$1504-$A14)<0.0001)*(Randevular!$J$5:$J$1504<>"İptal")*(ROW(Randevular!$A$5:$A$1504)-4))))&IF(INDEX(Randevular!$H$5:$H$1504,SUMPRODUCT(MAX((Randevular!$A$5:$A$1504=C$6)*(ABS(Randevular!$B$5:$B$1504-$A14)<0.0001)*(Randevular!$J$5:$J$1504<>"İptal")*(ROW(Randevular!$A$5:$A$1504)-4))))="",""," · "&INDEX(Randevular!$H$5:$H$1504,SUMPRODUCT(MAX((Randevular!$A$5:$A$1504=C$6)*(ABS(Randevular!$B$5:$B$1504-$A14)<0.0001)*(Randevular!$J$5:$J$1504<>"İptal")*(ROW(Randevular!$A$5:$A$1504)-4)))))) | D14: =IF(SUMPRODUCT(MAX((Randevular!$A$5:$A$1504=D$6)*(ABS(Randevular!$B$5:$B$1504-$A14)<0.0001)*(Randevular!$J$5:$J$1504<>"İptal")*(ROW(Randevular!$A$5:$A$1504)-4)))=0,"",INDEX(Randevular!$E$5:$E$1504,SUMPRODUCT(MAX((Randevular!$A$5:$A$1504=D$6)*(ABS(Randevular!$B$5:$B$1504-$A14)<0.0001)*(Randevular!$J$5:$J$1504<>"İptal")*(ROW(Randevular!$A$5:$A$1504)-4))))&IF(INDEX(Randevular!$H$5:$H$1504,SUMPRODUCT(MAX((Randevular!$A$5:$A$1504=D$6)*(ABS(Randevular!$B$5:$B$1504-$A14)<0.0001)*(Randevular!$J$5:$J$1504<>"İptal")*(ROW(Randevular!$A$5:$A$1504)-4))))="",""," · "&INDEX(Randevular!$H$5:$H$1504,SUMPRODUCT(MAX((Randevular!$A$5:$A$1504=D$6)*(ABS(Randevular!$B$5:$B$1504-$A14)<0.0001)*(Randevular!$J$5:$J$1504<>"İptal")*(ROW(Randevular!$A$5:$A$1504)-4)))))) | E14: =IF(SUMPRODUCT(MAX((Randevular!$A$5:$A$1504=E$6)*(ABS(Randevular!$B$5:$B$1504-$A14)<0.0001)*(Randevular!$J$5:$J$1504<>"İptal")*(ROW(Randevular!$A$5:$A$1504)-4)))=0,"",INDEX(Randevular!$E$5:$E$1504,SUMPRODUCT(MAX((Randevular!$A$5:$A$1504=E$6)*(ABS(Randevular!$B$5:$B$1504-$A14)<0.0001)*(Randevular!$J$5:$J$1504<>"İptal")*(ROW(Randevular!$A$5:$A$1504)-4))))&IF(INDEX(Randevular!$H$5:$H$1504,SUMPRODUCT(MAX((Randevular!$A$5:$A$1504=E$6)*(ABS(Randevular!$B$5:$B$1504-$A14)<0.0001)*(Randevular!$J$5:$J$1504<>"İptal")*(ROW(Randevular!$A$5:$A$1504)-4))))="",""," · "&INDEX(Randevular!$H$5:$H$1504,SUMPRODUCT(MAX((Randevular!$A$5:$A$1504=E$6)*(ABS(Randevular!$B$5:$B$1504-$A14)<0.0001)*(Randevular!$J$5:$J$1504<>"İptal")*(ROW(Randevular!$A$5:$A$1504)-4)))))) | F14: =IF(SUMPRODUCT(MAX((Randevular!$A$5:$A$1504=F$6)*(ABS(Randevular!$B$5:$B$1504-$A14)<0.0001)*(Randevular!$J$5:$J$1504<>"İptal")*(ROW(Randevular!$A$5:$A$1504)-4)))=0,"",INDEX(Randevular!$E$5:$E$1504,SUMPRODUCT(MAX((Randevular!$A$5:$A$1504=F$6)*(ABS(Randevular!$B$5:$B$1504-$A14)<0.0001)*(Randevular!$J$5:$J$1504<>"İptal")*(ROW(Randevular!$A$5:$A$1504)-4))))&IF(INDEX(Randevular!$H$5:$H$1504,SUMPRODUCT(MAX((Randevular!$A$5:$A$1504=F$6)*(ABS(Randevular!$B$5:$B$1504-$A14)<0.0001)*(Randevular!$J$5:$J$1504<>"İptal")*(ROW(Randevular!$A$5:$A$1504)-4))))="",""," · "&INDEX(Randevular!$H$5:$H$1504,SUMPRODUCT(MAX((Randevular!$A$5:$A$1504=F$6)*(ABS(Randevular!$B$5:$B$1504-$A14)<0.0001)*(Randevular!$J$5:$J$1504<>"İptal")*(ROW(Randevular!$A$5:$A$1504)-4)))))) | G14: =IF(SUMPRODUCT(MAX((Randevular!$A$5:$A$1504=G$6)*(ABS(Randevular!$B$5:$B$1504-$A14)<0.0001)*(Randevular!$J$5:$J$1504<>"İptal")*(ROW(Randevular!$A$5:$A$1504)-4)))=0,"",INDEX(Randevular!$E$5:$E$1504,SUMPRODUCT(MAX((Randevular!$A$5:$A$1504=G$6)*(ABS(Randevular!$B$5:$B$1504-$A14)<0.0001)*(Randevular!$J$5:$J$1504<>"İptal")*(ROW(Randevular!$A$5:$A$1504)-4))))&IF(INDEX(Randevular!$H$5:$H$1504,SUMPRODUCT(MAX((Randevular!$A$5:$A$1504=G$6)*(ABS(Randevular!$B$5:$B$1504-$A14)<0.0001)*(Randevular!$J$5:$J$1504<>"İptal")*(ROW(Randevular!$A$5:$A$1504)-4))))="",""," · "&INDEX(Randevular!$H$5:$H$1504,SUMPRODUCT(MAX((Randevular!$A$5:$A$1504=G$6)*(ABS(Randevular!$B$5:$B$1504-$A14)<0.0001)*(Randevular!$J$5:$J$1504<>"İptal")*(ROW(Randevular!$A$5:$A$1504)-4)))))) | H14: =IF(SUMPRODUCT(MAX((Randevular!$A$5:$A$1504=H$6)*(ABS(Randevular!$B$5:$B$1504-$A14)<0.0001)*(Randevular!$J$5:$J$1504<>"İptal")*(ROW(Randevular!$A$5:$A$1504)-4)))=0,"",INDEX(Randevular!$E$5:$E$1504,SUMPRODUCT(MAX((Randevular!$A$5:$A$1504=H$6)*(ABS(Randevular!$B$5:$B$1504-$A14)<0.0001)*(Randevular!$J$5:$J$1504<>"İptal")*(ROW(Randevular!$A$5:$A$1504)-4))))&IF(INDEX(Randevular!$H$5:$H$1504,SUMPRODUCT(MAX((Randevular!$A$5:$A$1504=H$6)*(ABS(Randevular!$B$5:$B$1504-$A14)<0.0001)*(Randevular!$J$5:$J$1504<>"İptal")*(ROW(Randevular!$A$5:$A$1504)-4))))="",""," · "&INDEX(Randevular!$H$5:$H$1504,SUMPRODUCT(MAX((Randevular!$A$5:$A$1504=H$6)*(ABS(Randevular!$B$5:$B$1504-$A14)<0.0001)*(Randevular!$J$5:$J$1504<>"İptal")*(ROW(Randevular!$A$5:$A$1504)-4))))))
A15: 0.5 | B15: =IF(SUMPRODUCT(MAX((Randevular!$A$5:$A$1504=B$6)*(ABS(Randevular!$B$5:$B$1504-$A15)<0.0001)*(Randevular!$J$5:$J$1504<>"İptal")*(ROW(Randevular!$A$5:$A$1504)-4)))=0,"",INDEX(Randevular!$E$5:$E$1504,SUMPRODUCT(MAX((Randevular!$A$5:$A$1504=B$6)*(ABS(Randevular!$B$5:$B$1504-$A15)<0.0001)*(Randevular!$J$5:$J$1504<>"İptal")*(ROW(Randevular!$A$5:$A$1504)-4))))&IF(INDEX(Randevular!$H$5:$H$1504,SUMPRODUCT(MAX((Randevular!$A$5:$A$1504=B$6)*(ABS(Randevular!$B$5:$B$1504-$A15)<0.0001)*(Randevular!$J$5:$J$1504<>"İptal")*(ROW(Randevular!$A$5:$A$1504)-4))))="",""," · "&INDEX(Randevular!$H$5:$H$1504,SUMPRODUCT(MAX((Randevular!$A$5:$A$1504=B$6)*(ABS(Randevular!$B$5:$B$1504-$A15)<0.0001)*(Randevular!$J$5:$J$1504<>"İptal")*(ROW(Randevular!$A$5:$A$1504)-4)))))) | C15: =IF(SUMPRODUCT(MAX((Randevular!$A$5:$A$1504=C$6)*(ABS(Randevular!$B$5:$B$1504-$A15)<0.0001)*(Randevular!$J$5:$J$1504<>"İptal")*(ROW(Randevular!$A$5:$A$1504)-4)))=0,"",INDEX(Randevular!$E$5:$E$1504,SUMPRODUCT(MAX((Randevular!$A$5:$A$1504=C$6)*(ABS(Randevular!$B$5:$B$1504-$A15)<0.0001)*(Randevular!$J$5:$J$1504<>"İptal")*(ROW(Randevular!$A$5:$A$1504)-4))))&IF(INDEX(Randevular!$H$5:$H$1504,SUMPRODUCT(MAX((Randevular!$A$5:$A$1504=C$6)*(ABS(Randevular!$B$5:$B$1504-$A15)<0.0001)*(Randevular!$J$5:$J$1504<>"İptal")*(ROW(Randevular!$A$5:$A$1504)-4))))="",""," · "&INDEX(Randevular!$H$5:$H$1504,SUMPRODUCT(MAX((Randevular!$A$5:$A$1504=C$6)*(ABS(Randevular!$B$5:$B$1504-$A15)<0.0001)*(Randevular!$J$5:$J$1504<>"İptal")*(ROW(Randevular!$A$5:$A$1504)-4)))))) | D15: =IF(SUMPRODUCT(MAX((Randevular!$A$5:$A$1504=D$6)*(ABS(Randevular!$B$5:$B$1504-$A15)<0.0001)*(Randevular!$J$5:$J$1504<>"İptal")*(ROW(Randevular!$A$5:$A$1504)-4)))=0,"",INDEX(Randevular!$E$5:$E$1504,SUMPRODUCT(MAX((Randevular!$A$5:$A$1504=D$6)*(ABS(Randevular!$B$5:$B$1504-$A15)<0.0001)*(Randevular!$J$5:$J$1504<>"İptal")*(ROW(Randevular!$A$5:$A$1504)-4))))&IF(INDEX(Randevular!$H$5:$H$1504,SUMPRODUCT(MAX((Randevular!$A$5:$A$1504=D$6)*(ABS(Randevular!$B$5:$B$1504-$A15)<0.0001)*(Randevular!$J$5:$J$1504<>"İptal")*(ROW(Randevular!$A$5:$A$1504)-4))))="",""," · "&INDEX(Randevular!$H$5:$H$1504,SUMPRODUCT(MAX((Randevular!$A$5:$A$1504=D$6)*(ABS(Randevular!$B$5:$B$1504-$A15)<0.0001)*(Randevular!$J$5:$J$1504<>"İptal")*(ROW(Randevular!$A$5:$A$1504)-4)))))) | E15: =IF(SUMPRODUCT(MAX((Randevular!$A$5:$A$1504=E$6)*(ABS(Randevular!$B$5:$B$1504-$A15)<0.0001)*(Randevular!$J$5:$J$1504<>"İptal")*(ROW(Randevular!$A$5:$A$1504)-4)))=0,"",INDEX(Randevular!$E$5:$E$1504,SUMPRODUCT(MAX((Randevular!$A$5:$A$1504=E$6)*(ABS(Randevular!$B$5:$B$1504-$A15)<0.0001)*(Randevular!$J$5:$J$1504<>"İptal")*(ROW(Randevular!$A$5:$A$1504)-4))))&IF(INDEX(Randevular!$H$5:$H$1504,SUMPRODUCT(MAX((Randevular!$A$5:$A$1504=E$6)*(ABS(Randevular!$B$5:$B$1504-$A15)<0.0001)*(Randevular!$J$5:$J$1504<>"İptal")*(ROW(Randevular!$A$5:$A$1504)-4))))="",""," · "&INDEX(Randevular!$H$5:$H$1504,SUMPRODUCT(MAX((Randevular!$A$5:$A$1504=E$6)*(ABS(Randevular!$B$5:$B$1504-$A15)<0.0001)*(Randevular!$J$5:$J$1504<>"İptal")*(ROW(Randevular!$A$5:$A$1504)-4)))))) | F15: =IF(SUMPRODUCT(MAX((Randevular!$A$5:$A$1504=F$6)*(ABS(Randevular!$B$5:$B$1504-$A15)<0.0001)*(Randevular!$J$5:$J$1504<>"İptal")*(ROW(Randevular!$A$5:$A$1504)-4)))=0,"",INDEX(Randevular!$E$5:$E$1504,SUMPRODUCT(MAX((Randevular!$A$5:$A$1504=F$6)*(ABS(Randevular!$B$5:$B$1504-$A15)<0.0001)*(Randevular!$J$5:$J$1504<>"İptal")*(ROW(Randevular!$A$5:$A$1504)-4))))&IF(INDEX(Randevular!$H$5:$H$1504,SUMPRODUCT(MAX((Randevular!$A$5:$A$1504=F$6)*(ABS(Randevular!$B$5:$B$1504-$A15)<0.0001)*(Randevular!$J$5:$J$1504<>"İptal")*(ROW(Randevular!$A$5:$A$1504)-4))))="",""," · "&INDEX(Randevular!$H$5:$H$1504,SUMPRODUCT(MAX((Randevular!$A$5:$A$1504=F$6)*(ABS(Randevular!$B$5:$B$1504-$A15)<0.0001)*(Randevular!$J$5:$J$1504<>"İptal")*(ROW(Randevular!$A$5:$A$1504)-4)))))) | G15: =IF(SUMPRODUCT(MAX((Randevular!$A$5:$A$1504=G$6)*(ABS(Randevular!$B$5:$B$1504-$A15)<0.0001)*(Randevular!$J$5:$J$1504<>"İptal")*(ROW(Randevular!$A$5:$A$1504)-4)))=0,"",INDEX(Randevular!$E$5:$E$1504,SUMPRODUCT(MAX((Randevular!$A$5:$A$1504=G$6)*(ABS(Randevular!$B$5:$B$1504-$A15)<0.0001)*(Randevular!$J$5:$J$1504<>"İptal")*(ROW(Randevular!$A$5:$A$1504)-4))))&IF(INDEX(Randevular!$H$5:$H$1504,SUMPRODUCT(MAX((Randevular!$A$5:$A$1504=G$6)*(ABS(Randevular!$B$5:$B$1504-$A15)<0.0001)*(Randevular!$J$5:$J$1504<>"İptal")*(ROW(Randevular!$A$5:$A$1504)-4))))="",""," · "&INDEX(Randevular!$H$5:$H$1504,SUMPRODUCT(MAX((Randevular!$A$5:$A$1504=G$6)*(ABS(Randevular!$B$5:$B$1504-$A15)<0.0001)*(Randevular!$J$5:$J$1504<>"İptal")*(ROW(Randevular!$A$5:$A$1504)-4)))))) | H15: =IF(SUMPRODUCT(MAX((Randevular!$A$5:$A$1504=H$6)*(ABS(Randevular!$B$5:$B$1504-$A15)<0.0001)*(Randevular!$J$5:$J$1504<>"İptal")*(ROW(Randevular!$A$5:$A$1504)-4)))=0,"",INDEX(Randevular!$E$5:$E$1504,SUMPRODUCT(MAX((Randevular!$A$5:$A$1504=H$6)*(ABS(Randevular!$B$5:$B$1504-$A15)<0.0001)*(Randevular!$J$5:$J$1504<>"İptal")*(ROW(Randevular!$A$5:$A$1504)-4))))&IF(INDEX(Randevular!$H$5:$H$1504,SUMPRODUCT(MAX((Randevular!$A$5:$A$1504=H$6)*(ABS(Randevular!$B$5:$B$1504-$A15)<0.0001)*(Randevular!$J$5:$J$1504<>"İptal")*(ROW(Randevular!$A$5:$A$1504)-4))))="",""," · "&INDEX(Randevular!$H$5:$H$1504,SUMPRODUCT(MAX((Randevular!$A$5:$A$1504=H$6)*(ABS(Randevular!$B$5:$B$1504-$A15)<0.0001)*(Randevular!$J$5:$J$1504<>"İptal")*(ROW(Randevular!$A$5:$A$1504)-4))))))
A16: 0.52083333 | B16: =IF(SUMPRODUCT(MAX((Randevular!$A$5:$A$1504=B$6)*(ABS(Randevular!$B$5:$B$1504-$A16)<0.0001)*(Randevular!$J$5:$J$1504<>"İptal")*(ROW(Randevular!$A$5:$A$1504)-4)))=0,"",INDEX(Randevular!$E$5:$E$1504,SUMPRODUCT(MAX((Randevular!$A$5:$A$1504=B$6)*(ABS(Randevular!$B$5:$B$1504-$A16)<0.0001)*(Randevular!$J$5:$J$1504<>"İptal")*(ROW(Randevular!$A$5:$A$1504)-4))))&IF(INDEX(Randevular!$H$5:$H$1504,SUMPRODUCT(MAX((Randevular!$A$5:$A$1504=B$6)*(ABS(Randevular!$B$5:$B$1504-$A16)<0.0001)*(Randevular!$J$5:$J$1504<>"İptal")*(ROW(Randevular!$A$5:$A$1504)-4))))="",""," · "&INDEX(Randevular!$H$5:$H$1504,SUMPRODUCT(MAX((Randevular!$A$5:$A$1504=B$6)*(ABS(Randevular!$B$5:$B$1504-$A16)<0.0001)*(Randevular!$J$5:$J$1504<>"İptal")*(ROW(Randevular!$A$5:$A$1504)-4)))))) | C16: =IF(SUMPRODUCT(MAX((Randevular!$A$5:$A$1504=C$6)*(ABS(Randevular!$B$5:$B$1504-$A16)<0.0001)*(Randevular!$J$5:$J$1504<>"İptal")*(ROW(Randevular!$A$5:$A$1504)-4)))=0,"",INDEX(Randevular!$E$5:$E$1504,SUMPRODUCT(MAX((Randevular!$A$5:$A$1504=C$6)*(ABS(Randevular!$B$5:$B$1504-$A16)<0.0001)*(Randevular!$J$5:$J$1504<>"İptal")*(ROW(Randevular!$A$5:$A$1504)-4))))&IF(INDEX(Randevular!$H$5:$H$1504,SUMPRODUCT(MAX((Randevular!$A$5:$A$1504=C$6)*(ABS(Randevular!$B$5:$B$1504-$A16)<0.0001)*(Randevular!$J$5:$J$1504<>"İptal")*(ROW(Randevular!$A$5:$A$1504)-4))))="",""," · "&INDEX(Randevular!$H$5:$H$1504,SUMPRODUCT(MAX((Randevular!$A$5:$A$1504=C$6)*(ABS(Randevular!$B$5:$B$1504-$A16)<0.0001)*(Randevular!$J$5:$J$1504<>"İptal")*(ROW(Randevular!$A$5:$A$1504)-4)))))) | D16: =IF(SUMPRODUCT(MAX((Randevular!$A$5:$A$1504=D$6)*(ABS(Randevular!$B$5:$B$1504-$A16)<0.0001)*(Randevular!$J$5:$J$1504<>"İptal")*(ROW(Randevular!$A$5:$A$1504)-4)))=0,"",INDEX(Randevular!$E$5:$E$1504,SUMPRODUCT(MAX((Randevular!$A$5:$A$1504=D$6)*(ABS(Randevular!$B$5:$B$1504-$A16)<0.0001)*(Randevular!$J$5:$J$1504<>"İptal")*(ROW(Randevular!$A$5:$A$1504)-4))))&IF(INDEX(Randevular!$H$5:$H$1504,SUMPRODUCT(MAX((Randevular!$A$5:$A$1504=D$6)*(ABS(Randevular!$B$5:$B$1504-$A16)<0.0001)*(Randevular!$J$5:$J$1504<>"İptal")*(ROW(Randevular!$A$5:$A$1504)-4))))="",""," · "&INDEX(Randevular!$H$5:$H$1504,SUMPRODUCT(MAX((Randevular!$A$5:$A$1504=D$6)*(ABS(Randevular!$B$5:$B$1504-$A16)<0.0001)*(Randevular!$J$5:$J$1504<>"İptal")*(ROW(Randevular!$A$5:$A$1504)-4)))))) | E16: =IF(SUMPRODUCT(MAX((Randevular!$A$5:$A$1504=E$6)*(ABS(Randevular!$B$5:$B$1504-$A16)<0.0001)*(Randevular!$J$5:$J$1504<>"İptal")*(ROW(Randevular!$A$5:$A$1504)-4)))=0,"",INDEX(Randevular!$E$5:$E$1504,SUMPRODUCT(MAX((Randevular!$A$5:$A$1504=E$6)*(ABS(Randevular!$B$5:$B$1504-$A16)<0.0001)*(Randevular!$J$5:$J$1504<>"İptal")*(ROW(Randevular!$A$5:$A$1504)-4))))&IF(INDEX(Randevular!$H$5:$H$1504,SUMPRODUCT(MAX((Randevular!$A$5:$A$1504=E$6)*(ABS(Randevular!$B$5:$B$1504-$A16)<0.0001)*(Randevular!$J$5:$J$1504<>"İptal")*(ROW(Randevular!$A$5:$A$1504)-4))))="",""," · "&INDEX(Randevular!$H$5:$H$1504,SUMPRODUCT(MAX((Randevular!$A$5:$A$1504=E$6)*(ABS(Randevular!$B$5:$B$1504-$A16)<0.0001)*(Randevular!$J$5:$J$1504<>"İptal")*(ROW(Randevular!$A$5:$A$1504)-4)))))) | F16: =IF(SUMPRODUCT(MAX((Randevular!$A$5:$A$1504=F$6)*(ABS(Randevular!$B$5:$B$1504-$A16)<0.0001)*(Randevular!$J$5:$J$1504<>"İptal")*(ROW(Randevular!$A$5:$A$1504)-4)))=0,"",INDEX(Randevular!$E$5:$E$1504,SUMPRODUCT(MAX((Randevular!$A$5:$A$1504=F$6)*(ABS(Randevular!$B$5:$B$1504-$A16)<0.0001)*(Randevular!$J$5:$J$1504<>"İptal")*(ROW(Randevular!$A$5:$A$1504)-4))))&IF(INDEX(Randevular!$H$5:$H$1504,SUMPRODUCT(MAX((Randevular!$A$5:$A$1504=F$6)*(ABS(Randevular!$B$5:$B$1504-$A16)<0.0001)*(Randevular!$J$5:$J$1504<>"İptal")*(ROW(Randevular!$A$5:$A$1504)-4))))="",""," · "&INDEX(Randevular!$H$5:$H$1504,SUMPRODUCT(MAX((Randevular!$A$5:$A$1504=F$6)*(ABS(Randevular!$B$5:$B$1504-$A16)<0.0001)*(Randevular!$J$5:$J$1504<>"İptal")*(ROW(Randevular!$A$5:$A$1504)-4)))))) | G16: =IF(SUMPRODUCT(MAX((Randevular!$A$5:$A$1504=G$6)*(ABS(Randevular!$B$5:$B$1504-$A16)<0.0001)*(Randevular!$J$5:$J$1504<>"İptal")*(ROW(Randevular!$A$5:$A$1504)-4)))=0,"",INDEX(Randevular!$E$5:$E$1504,SUMPRODUCT(MAX((Randevular!$A$5:$A$1504=G$6)*(ABS(Randevular!$B$5:$B$1504-$A16)<0.0001)*(Randevular!$J$5:$J$1504<>"İptal")*(ROW(Randevular!$A$5:$A$1504)-4))))&IF(INDEX(Randevular!$H$5:$H$1504,SUMPRODUCT(MAX((Randevular!$A$5:$A$1504=G$6)*(ABS(Randevular!$B$5:$B$1504-$A16)<0.0001)*(Randevular!$J$5:$J$1504<>"İptal")*(ROW(Randevular!$A$5:$A$1504)-4))))="",""," · "&INDEX(Randevular!$H$5:$H$1504,SUMPRODUCT(MAX((Randevular!$A$5:$A$1504=G$6)*(ABS(Randevular!$B$5:$B$1504-$A16)<0.0001)*(Randevular!$J$5:$J$1504<>"İptal")*(ROW(Randevular!$A$5:$A$1504)-4)))))) | H16: =IF(SUMPRODUCT(MAX((Randevular!$A$5:$A$1504=H$6)*(ABS(Randevular!$B$5:$B$1504-$A16)<0.0001)*(Randevular!$J$5:$J$1504<>"İptal")*(ROW(Randevular!$A$5:$A$1504)-4)))=0,"",INDEX(Randevular!$E$5:$E$1504,SUMPRODUCT(MAX((Randevular!$A$5:$A$1504=H$6)*(ABS(Randevular!$B$5:$B$1504-$A16)<0.0001)*(Randevular!$J$5:$J$1504<>"İptal")*(ROW(Randevular!$A$5:$A$1504)-4))))&IF(INDEX(Randevular!$H$5:$H$1504,SUMPRODUCT(MAX((Randevular!$A$5:$A$1504=H$6)*(ABS(Randevular!$B$5:$B$1504-$A16)<0.0001)*(Randevular!$J$5:$J$1504<>"İptal")*(ROW(Randevular!$A$5:$A$1504)-4))))="",""," · "&INDEX(Randevular!$H$5:$H$1504,SUMPRODUCT(MAX((Randevular!$A$5:$A$1504=H$6)*(ABS(Randevular!$B$5:$B$1504-$A16)<0.0001)*(Randevular!$J$5:$J$1504<>"İptal")*(ROW(Randevular!$A$5:$A$1504)-4))))))
A17: 0.54166667 | B17: =IF(SUMPRODUCT(MAX((Randevular!$A$5:$A$1504=B$6)*(ABS(Randevular!$B$5:$B$1504-$A17)<0.0001)*(Randevular!$J$5:$J$1504<>"İptal")*(ROW(Randevular!$A$5:$A$1504)-4)))=0,"",INDEX(Randevular!$E$5:$E$1504,SUMPRODUCT(MAX((Randevular!$A$5:$A$1504=B$6)*(ABS(Randevular!$B$5:$B$1504-$A17)<0.0001)*(Randevular!$J$5:$J$1504<>"İptal")*(ROW(Randevular!$A$5:$A$1504)-4))))&IF(INDEX(Randevular!$H$5:$H$1504,SUMPRODUCT(MAX((Randevular!$A$5:$A$1504=B$6)*(ABS(Randevular!$B$5:$B$1504-$A17)<0.0001)*(Randevular!$J$5:$J$1504<>"İptal")*(ROW(Randevular!$A$5:$A$1504)-4))))="",""," · "&INDEX(Randevular!$H$5:$H$1504,SUMPRODUCT(MAX((Randevular!$A$5:$A$1504=B$6)*(ABS(Randevular!$B$5:$B$1504-$A17)<0.0001)*(Randevular!$J$5:$J$1504<>"İptal")*(ROW(Randevular!$A$5:$A$1504)-4)))))) | C17: =IF(SUMPRODUCT(MAX((Randevular!$A$5:$A$1504=C$6)*(ABS(Randevular!$B$5:$B$1504-$A17)<0.0001)*(Randevular!$J$5:$J$1504<>"İptal")*(ROW(Randevular!$A$5:$A$1504)-4)))=0,"",INDEX(Randevular!$E$5:$E$1504,SUMPRODUCT(MAX((Randevular!$A$5:$A$1504=C$6)*(ABS(Randevular!$B$5:$B$1504-$A17)<0.0001)*(Randevular!$J$5:$J$1504<>"İptal")*(ROW(Randevular!$A$5:$A$1504)-4))))&IF(INDEX(Randevular!$H$5:$H$1504,SUMPRODUCT(MAX((Randevular!$A$5:$A$1504=C$6)*(ABS(Randevular!$B$5:$B$1504-$A17)<0.0001)*(Randevular!$J$5:$J$1504<>"İptal")*(ROW(Randevular!$A$5:$A$1504)-4))))="",""," · "&INDEX(Randevular!$H$5:$H$1504,SUMPRODUCT(MAX((Randevular!$A$5:$A$1504=C$6)*(ABS(Randevular!$B$5:$B$1504-$A17)<0.0001)*(Randevular!$J$5:$J$1504<>"İptal")*(ROW(Randevular!$A$5:$A$1504)-4)))))) | D17: =IF(SUMPRODUCT(MAX((Randevular!$A$5:$A$1504=D$6)*(ABS(Randevular!$B$5:$B$1504-$A17)<0.0001)*(Randevular!$J$5:$J$1504<>"İptal")*(ROW(Randevular!$A$5:$A$1504)-4)))=0,"",INDEX(Randevular!$E$5:$E$1504,SUMPRODUCT(MAX((Randevular!$A$5:$A$1504=D$6)*(ABS(Randevular!$B$5:$B$1504-$A17)<0.0001)*(Randevular!$J$5:$J$1504<>"İptal")*(ROW(Randevular!$A$5:$A$1504)-4))))&IF(INDEX(Randevular!$H$5:$H$1504,SUMPRODUCT(MAX((Randevular!$A$5:$A$1504=D$6)*(ABS(Randevular!$B$5:$B$1504-$A17)<0.0001)*(Randevular!$J$5:$J$1504<>"İptal")*(ROW(Randevular!$A$5:$A$1504)-4))))="",""," · "&INDEX(Randevular!$H$5:$H$1504,SUMPRODUCT(MAX((Randevular!$A$5:$A$1504=D$6)*(ABS(Randevular!$B$5:$B$1504-$A17)<0.0001)*(Randevular!$J$5:$J$1504<>"İptal")*(ROW(Randevular!$A$5:$A$1504)-4)))))) | E17: =IF(SUMPRODUCT(MAX((Randevular!$A$5:$A$1504=E$6)*(ABS(Randevular!$B$5:$B$1504-$A17)<0.0001)*(Randevular!$J$5:$J$1504<>"İptal")*(ROW(Randevular!$A$5:$A$1504)-4)))=0,"",INDEX(Randevular!$E$5:$E$1504,SUMPRODUCT(MAX((Randevular!$A$5:$A$1504=E$6)*(ABS(Randevular!$B$5:$B$1504-$A17)<0.0001)*(Randevular!$J$5:$J$1504<>"İptal")*(ROW(Randevular!$A$5:$A$1504)-4))))&IF(INDEX(Randevular!$H$5:$H$1504,SUMPRODUCT(MAX((Randevular!$A$5:$A$1504=E$6)*(ABS(Randevular!$B$5:$B$1504-$A17)<0.0001)*(Randevular!$J$5:$J$1504<>"İptal")*(ROW(Randevular!$A$5:$A$1504)-4))))="",""," · "&INDEX(Randevular!$H$5:$H$1504,SUMPRODUCT(MAX((Randevular!$A$5:$A$1504=E$6)*(ABS(Randevular!$B$5:$B$1504-$A17)<0.0001)*(Randevular!$J$5:$J$1504<>"İptal")*(ROW(Randevular!$A$5:$A$1504)-4)))))) | F17: =IF(SUMPRODUCT(MAX((Randevular!$A$5:$A$1504=F$6)*(ABS(Randevular!$B$5:$B$1504-$A17)<0.0001)*(Randevular!$J$5:$J$1504<>"İptal")*(ROW(Randevular!$A$5:$A$1504)-4)))=0,"",INDEX(Randevular!$E$5:$E$1504,SUMPRODUCT(MAX((Randevular!$A$5:$A$1504=F$6)*(ABS(Randevular!$B$5:$B$1504-$A17)<0.0001)*(Randevular!$J$5:$J$1504<>"İptal")*(ROW(Randevular!$A$5:$A$1504)-4))))&IF(INDEX(Randevular!$H$5:$H$1504,SUMPRODUCT(MAX((Randevular!$A$5:$A$1504=F$6)*(ABS(Randevular!$B$5:$B$1504-$A17)<0.0001)*(Randevular!$J$5:$J$1504<>"İptal")*(ROW(Randevular!$A$5:$A$1504)-4))))="",""," · "&INDEX(Randevular!$H$5:$H$1504,SUMPRODUCT(MAX((Randevular!$A$5:$A$1504=F$6)*(ABS(Randevular!$B$5:$B$1504-$A17)<0.0001)*(Randevular!$J$5:$J$1504<>"İptal")*(ROW(Randevular!$A$5:$A$1504)-4)))))) | G17: =IF(SUMPRODUCT(MAX((Randevular!$A$5:$A$1504=G$6)*(ABS(Randevular!$B$5:$B$1504-$A17)<0.0001)*(Randevular!$J$5:$J$1504<>"İptal")*(ROW(Randevular!$A$5:$A$1504)-4)))=0,"",INDEX(Randevular!$E$5:$E$1504,SUMPRODUCT(MAX((Randevular!$A$5:$A$1504=G$6)*(ABS(Randevular!$B$5:$B$1504-$A17)<0.0001)*(Randevular!$J$5:$J$1504<>"İptal")*(ROW(Randevular!$A$5:$A$1504)-4))))&IF(INDEX(Randevular!$H$5:$H$1504,SUMPRODUCT(MAX((Randevular!$A$5:$A$1504=G$6)*(ABS(Randevular!$B$5:$B$1504-$A17)<0.0001)*(Randevular!$J$5:$J$1504<>"İptal")*(ROW(Randevular!$A$5:$A$1504)-4))))="",""," · "&INDEX(Randevular!$H$5:$H$1504,SUMPRODUCT(MAX((Randevular!$A$5:$A$1504=G$6)*(ABS(Randevular!$B$5:$B$1504-$A17)<0.0001)*(Randevular!$J$5:$J$1504<>"İptal")*(ROW(Randevular!$A$5:$A$1504)-4)))))) | H17: =IF(SUMPRODUCT(MAX((Randevular!$A$5:$A$1504=H$6)*(ABS(Randevular!$B$5:$B$1504-$A17)<0.0001)*(Randevular!$J$5:$J$1504<>"İptal")*(ROW(Randevular!$A$5:$A$1504)-4)))=0,"",INDEX(Randevular!$E$5:$E$1504,SUMPRODUCT(MAX((Randevular!$A$5:$A$1504=H$6)*(ABS(Randevular!$B$5:$B$1504-$A17)<0.0001)*(Randevular!$J$5:$J$1504<>"İptal")*(ROW(Randevular!$A$5:$A$1504)-4))))&IF(INDEX(Randevular!$H$5:$H$1504,SUMPRODUCT(MAX((Randevular!$A$5:$A$1504=H$6)*(ABS(Randevular!$B$5:$B$1504-$A17)<0.0001)*(Randevular!$J$5:$J$1504<>"İptal")*(ROW(Randevular!$A$5:$A$1504)-4))))="",""," · "&INDEX(Randevular!$H$5:$H$1504,SUMPRODUCT(MAX((Randevular!$A$5:$A$1504=H$6)*(ABS(Randevular!$B$5:$B$1504-$A17)<0.0001)*(Randevular!$J$5:$J$1504<>"İptal")*(ROW(Randevular!$A$5:$A$1504)-4))))))
A18: 0.5625 | B18: =IF(SUMPRODUCT(MAX((Randevular!$A$5:$A$1504=B$6)*(ABS(Randevular!$B$5:$B$1504-$A18)<0.0001)*(Randevular!$J$5:$J$1504<>"İptal")*(ROW(Randevular!$A$5:$A$1504)-4)))=0,"",INDEX(Randevular!$E$5:$E$1504,SUMPRODUCT(MAX((Randevular!$A$5:$A$1504=B$6)*(ABS(Randevular!$B$5:$B$1504-$A18)<0.0001)*(Randevular!$J$5:$J$1504<>"İptal")*(ROW(Randevular!$A$5:$A$1504)-4))))&IF(INDEX(Randevular!$H$5:$H$1504,SUMPRODUCT(MAX((Randevular!$A$5:$A$1504=B$6)*(ABS(Randevular!$B$5:$B$1504-$A18)<0.0001)*(Randevular!$J$5:$J$1504<>"İptal")*(ROW(Randevular!$A$5:$A$1504)-4))))="",""," · "&INDEX(Randevular!$H$5:$H$1504,SUMPRODUCT(MAX((Randevular!$A$5:$A$1504=B$6)*(ABS(Randevular!$B$5:$B$1504-$A18)<0.0001)*(Randevular!$J$5:$J$1504<>"İptal")*(ROW(Randevular!$A$5:$A$1504)-4)))))) | C18: =IF(SUMPRODUCT(MAX((Randevular!$A$5:$A$1504=C$6)*(ABS(Randevular!$B$5:$B$1504-$A18)<0.0001)*(Randevular!$J$5:$J$1504<>"İptal")*(ROW(Randevular!$A$5:$A$1504)-4)))=0,"",INDEX(Randevular!$E$5:$E$1504,SUMPRODUCT(MAX((Randevular!$A$5:$A$1504=C$6)*(ABS(Randevular!$B$5:$B$1504-$A18)<0.0001)*(Randevular!$J$5:$J$1504<>"İptal")*(ROW(Randevular!$A$5:$A$1504)-4))))&IF(INDEX(Randevular!$H$5:$H$1504,SUMPRODUCT(MAX((Randevular!$A$5:$A$1504=C$6)*(ABS(Randevular!$B$5:$B$1504-$A18)<0.0001)*(Randevular!$J$5:$J$1504<>"İptal")*(ROW(Randevular!$A$5:$A$1504)-4))))="",""," · "&INDEX(Randevular!$H$5:$H$1504,SUMPRODUCT(MAX((Randevular!$A$5:$A$1504=C$6)*(ABS(Randevular!$B$5:$B$1504-$A18)<0.0001)*(Randevular!$J$5:$J$1504<>"İptal")*(ROW(Randevular!$A$5:$A$1504)-4)))))) | D18: =IF(SUMPRODUCT(MAX((Randevular!$A$5:$A$1504=D$6)*(ABS(Randevular!$B$5:$B$1504-$A18)<0.0001)*(Randevular!$J$5:$J$1504<>"İptal")*(ROW(Randevular!$A$5:$A$1504)-4)))=0,"",INDEX(Randevular!$E$5:$E$1504,SUMPRODUCT(MAX((Randevular!$A$5:$A$1504=D$6)*(ABS(Randevular!$B$5:$B$1504-$A18)<0.0001)*(Randevular!$J$5:$J$1504<>"İptal")*(ROW(Randevular!$A$5:$A$1504)-4))))&IF(INDEX(Randevular!$H$5:$H$1504,SUMPRODUCT(MAX((Randevular!$A$5:$A$1504=D$6)*(ABS(Randevular!$B$5:$B$1504-$A18)<0.0001)*(Randevular!$J$5:$J$1504<>"İptal")*(ROW(Randevular!$A$5:$A$1504)-4))))="",""," · "&INDEX(Randevular!$H$5:$H$1504,SUMPRODUCT(MAX((Randevular!$A$5:$A$1504=D$6)*(ABS(Randevular!$B$5:$B$1504-$A18)<0.0001)*(Randevular!$J$5:$J$1504<>"İptal")*(ROW(Randevular!$A$5:$A$1504)-4)))))) | E18: =IF(SUMPRODUCT(MAX((Randevular!$A$5:$A$1504=E$6)*(ABS(Randevular!$B$5:$B$1504-$A18)<0.0001)*(Randevular!$J$5:$J$1504<>"İptal")*(ROW(Randevular!$A$5:$A$1504)-4)))=0,"",INDEX(Randevular!$E$5:$E$1504,SUMPRODUCT(MAX((Randevular!$A$5:$A$1504=E$6)*(ABS(Randevular!$B$5:$B$1504-$A18)<0.0001)*(Randevular!$J$5:$J$1504<>"İptal")*(ROW(Randevular!$A$5:$A$1504)-4))))&IF(INDEX(Randevular!$H$5:$H$1504,SUMPRODUCT(MAX((Randevular!$A$5:$A$1504=E$6)*(ABS(Randevular!$B$5:$B$1504-$A18)<0.0001)*(Randevular!$J$5:$J$1504<>"İptal")*(ROW(Randevular!$A$5:$A$1504)-4))))="",""," · "&INDEX(Randevular!$H$5:$H$1504,SUMPRODUCT(MAX((Randevular!$A$5:$A$1504=E$6)*(ABS(Randevular!$B$5:$B$1504-$A18)<0.0001)*(Randevular!$J$5:$J$1504<>"İptal")*(ROW(Randevular!$A$5:$A$1504)-4)))))) | F18: =IF(SUMPRODUCT(MAX((Randevular!$A$5:$A$1504=F$6)*(ABS(Randevular!$B$5:$B$1504-$A18)<0.0001)*(Randevular!$J$5:$J$1504<>"İptal")*(ROW(Randevular!$A$5:$A$1504)-4)))=0,"",INDEX(Randevular!$E$5:$E$1504,SUMPRODUCT(MAX((Randevular!$A$5:$A$1504=F$6)*(ABS(Randevular!$B$5:$B$1504-$A18)<0.0001)*(Randevular!$J$5:$J$1504<>"İptal")*(ROW(Randevular!$A$5:$A$1504)-4))))&IF(INDEX(Randevular!$H$5:$H$1504,SUMPRODUCT(MAX((Randevular!$A$5:$A$1504=F$6)*(ABS(Randevular!$B$5:$B$1504-$A18)<0.0001)*(Randevular!$J$5:$J$1504<>"İptal")*(ROW(Randevular!$A$5:$A$1504)-4))))="",""," · "&INDEX(Randevular!$H$5:$H$1504,SUMPRODUCT(MAX((Randevular!$A$5:$A$1504=F$6)*(ABS(Randevular!$B$5:$B$1504-$A18)<0.0001)*(Randevular!$J$5:$J$1504<>"İptal")*(ROW(Randevular!$A$5:$A$1504)-4)))))) | G18: =IF(SUMPRODUCT(MAX((Randevular!$A$5:$A$1504=G$6)*(ABS(Randevular!$B$5:$B$1504-$A18)<0.0001)*(Randevular!$J$5:$J$1504<>"İptal")*(ROW(Randevular!$A$5:$A$1504)-4)))=0,"",INDEX(Randevular!$E$5:$E$1504,SUMPRODUCT(MAX((Randevular!$A$5:$A$1504=G$6)*(ABS(Randevular!$B$5:$B$1504-$A18)<0.0001)*(Randevular!$J$5:$J$1504<>"İptal")*(ROW(Randevular!$A$5:$A$1504)-4))))&IF(INDEX(Randevular!$H$5:$H$1504,SUMPRODUCT(MAX((Randevular!$A$5:$A$1504=G$6)*(ABS(Randevular!$B$5:$B$1504-$A18)<0.0001)*(Randevular!$J$5:$J$1504<>"İptal")*(ROW(Randevular!$A$5:$A$1504)-4))))="",""," · "&INDEX(Randevular!$H$5:$H$1504,SUMPRODUCT(MAX((Randevular!$A$5:$A$1504=G$6)*(ABS(Randevular!$B$5:$B$1504-$A18)<0.0001)*(Randevular!$J$5:$J$1504<>"İptal")*(ROW(Randevular!$A$5:$A$1504)-4)))))) | H18: =IF(SUMPRODUCT(MAX((Randevular!$A$5:$A$1504=H$6)*(ABS(Randevular!$B$5:$B$1504-$A18)<0.0001)*(Randevular!$J$5:$J$1504<>"İptal")*(ROW(Randevular!$A$5:$A$1504)-4)))=0,"",INDEX(Randevular!$E$5:$E$1504,SUMPRODUCT(MAX((Randevular!$A$5:$A$1504=H$6)*(ABS(Randevular!$B$5:$B$1504-$A18)<0.0001)*(Randevular!$J$5:$J$1504<>"İptal")*(ROW(Randevular!$A$5:$A$1504)-4))))&IF(INDEX(Randevular!$H$5:$H$1504,SUMPRODUCT(MAX((Randevular!$A$5:$A$1504=H$6)*(ABS(Randevular!$B$5:$B$1504-$A18)<0.0001)*(Randevular!$J$5:$J$1504<>"İptal")*(ROW(Randevular!$A$5:$A$1504)-4))))="",""," · "&INDEX(Randevular!$H$5:$H$1504,SUMPRODUCT(MAX((Randevular!$A$5:$A$1504=H$6)*(ABS(Randevular!$B$5:$B$1504-$A18)<0.0001)*(Randevular!$J$5:$J$1504<>"İptal")*(ROW(Randevular!$A$5:$A$1504)-4))))))
... A34: 0.89583333 | B34: =IF(SUMPRODUCT(MAX((Randevular!$A$5:$A$1504=B$6)*(ABS(Randevular!$B$5:$B$1504-$A34)<0.0001)*(Randevular!$J$5:$J$1504<>"İptal")*(ROW(Randevular!$A$5:$A$1504)-4)))=0,"",INDEX(Randevular!$E$5:$E$1504,SUMPRODUCT(MAX((Randevular!$A$5:$A$1504=B$6)*(ABS(Randevular!$B$5:$B$1504-$A34)<0.0001)*(Randevular!$J$5:$J$1504<>"İptal")*(ROW(Randevular!$A$5:$A$1504)-4))))&IF(INDEX(Randevular!$H$5:$H$1504,SUMPRODUCT(MAX((Randevular!$A$5:$A$1504=B$6)*(ABS(Randevular!$B$5:$B$1504-$A34)<0.0001)*(Randevular!$J$5:$J$1504<>"İptal")*(ROW(Randevular!$A$5:$A$1504)-4))))="",""," · "&INDEX(Randevular!$H$5:$H$1504,SUMPRODUCT(MAX((Randevular!$A$5:$A$1504=B$6)*(ABS(Randevular!$B$5:$B$1504-$A34)<0.0001)*(Randevular!$J$5:$J$1504<>"İptal")*(ROW(Randevular!$A$5:$A$1504)-4)))))) | C34: =IF(SUMPRODUCT(MAX((Randevular!$A$5:$A$1504=C$6)*(ABS(Randevular!$B$5:$B$1504-$A34)<0.0001)*(Randevular!$J$5:$J$1504<>"İptal")*(ROW(Randevular!$A$5:$A$1504)-4)))=0,"",INDEX(Randevular!$E$5:$E$1504,SUMPRODUCT(MAX((Randevular!$A$5:$A$1504=C$6)*(ABS(Randevular!$B$5:$B$1504-$A34)<0.0001)*(Randevular!$J$5:$J$1504<>"İptal")*(ROW(Randevular!$A$5:$A$1504)-4))))&IF(INDEX(Randevular!$H$5:$H$1504,SUMPRODUCT(MAX((Randevular!$A$5:$A$1504=C$6)*(ABS(Randevular!$B$5:$B$1504-$A34)<0.0001)*(Randevular!$J$5:$J$1504<>"İptal")*(ROW(Randevular!$A$5:$A$1504)-4))))="",""," · "&INDEX(Randevular!$H$5:$H$1504,SUMPRODUCT(MAX((Randevular!$A$5:$A$1504=C$6)*(ABS(Randevular!$B$5:$B$1504-$A34)<0.0001)*(Randevular!$J$5:$J$1504<>"İptal")*(ROW(Randevular!$A$5:$A$1504)-4)))))) | D34: =IF(SUMPRODUCT(MAX((Randevular!$A$5:$A$1504=D$6)*(ABS(Randevular!$B$5:$B$1504-$A34)<0.0001)*(Randevular!$J$5:$J$1504<>"İptal")*(ROW(Randevular!$A$5:$A$1504)-4)))=0,"",INDEX(Randevular!$E$5:$E$1504,SUMPRODUCT(MAX((Randevular!$A$5:$A$1504=D$6)*(ABS(Randevular!$B$5:$B$1504-$A34)<0.0001)*(Randevular!$J$5:$J$1504<>"İptal")*(ROW(Randevular!$A$5:$A$1504)-4))))&IF(INDEX(Randevular!$H$5:$H$1504,SUMPRODUCT(MAX((Randevular!$A$5:$A$1504=D$6)*(ABS(Randevular!$B$5:$B$1504-$A34)<0.0001)*(Randevular!$J$5:$J$1504<>"İptal")*(ROW(Randevular!$A$5:$A$1504)-4))))="",""," · "&INDEX(Randevular!$H$5:$H$1504,SUMPRODUCT(MAX((Randevular!$A$5:$A$1504=D$6)*(ABS(Randevular!$B$5:$B$1504-$A34)<0.0001)*(Randevular!$J$5:$J$1504<>"İptal")*(ROW(Randevular!$A$5:$A$1504)-4)))))) | E34: =IF(SUMPRODUCT(MAX((Randevular!$A$5:$A$1504=E$6)*(ABS(Randevular!$B$5:$B$1504-$A34)<0.0001)*(Randevular!$J$5:$J$1504<>"İptal")*(ROW(Randevular!$A$5:$A$1504)-4)))=0,"",INDEX(Randevular!$E$5:$E$1504,SUMPRODUCT(MAX((Randevular!$A$5:$A$1504=E$6)*(ABS(Randevular!$B$5:$B$1504-$A34)<0.0001)*(Randevular!$J$5:$J$1504<>"İptal")*(ROW(Randevular!$A$5:$A$1504)-4))))&IF(INDEX(Randevular!$H$5:$H$1504,SUMPRODUCT(MAX((Randevular!$A$5:$A$1504=E$6)*(ABS(Randevular!$B$5:$B$1504-$A34)<0.0001)*(Randevular!$J$5:$J$1504<>"İptal")*(ROW(Randevular!$A$5:$A$1504)-4))))="",""," · "&INDEX(Randevular!$H$5:$H$1504,SUMPRODUCT(MAX((Randevular!$A$5:$A$1504=E$6)*(ABS(Randevular!$B$5:$B$1504-$A34)<0.0001)*(Randevular!$J$5:$J$1504<>"İptal")*(ROW(Randevular!$A$5:$A$1504)-4)))))) | F34: =IF(SUMPRODUCT(MAX((Randevular!$A$5:$A$1504=F$6)*(ABS(Randevular!$B$5:$B$1504-$A34)<0.0001)*(Randevular!$J$5:$J$1504<>"İptal")*(ROW(Randevular!$A$5:$A$1504)-4)))=0,"",INDEX(Randevular!$E$5:$E$1504,SUMPRODUCT(MAX((Randevular!$A$5:$A$1504=F$6)*(ABS(Randevular!$B$5:$B$1504-$A34)<0.0001)*(Randevular!$J$5:$J$1504<>"İptal")*(ROW(Randevular!$A$5:$A$1504)-4))))&IF(INDEX(Randevular!$H$5:$H$1504,SUMPRODUCT(MAX((Randevular!$A$5:$A$1504=F$6)*(ABS(Randevular!$B$5:$B$1504-$A34)<0.0001)*(Randevular!$J$5:$J$1504<>"İptal")*(ROW(Randevular!$A$5:$A$1504)-4))))="",""," · "&INDEX(Randevular!$H$5:$H$1504,SUMPRODUCT(MAX((Randevular!$A$5:$A$1504=F$6)*(ABS(Randevular!$B$5:$B$1504-$A34)<0.0001)*(Randevular!$J$5:$J$1504<>"İptal")*(ROW(Randevular!$A$5:$A$1504)-4)))))) | G34: =IF(SUMPRODUCT(MAX((Randevular!$A$5:$A$1504=G$6)*(ABS(Randevular!$B$5:$B$1504-$A34)<0.0001)*(Randevular!$J$5:$J$1504<>"İptal")*(ROW(Randevular!$A$5:$A$1504)-4)))=0,"",INDEX(Randevular!$E$5:$E$1504,SUMPRODUCT(MAX((Randevular!$A$5:$A$1504=G$6)*(ABS(Randevular!$B$5:$B$1504-$A34)<0.0001)*(Randevular!$J$5:$J$1504<>"İptal")*(ROW(Randevular!$A$5:$A$1504)-4))))&IF(INDEX(Randevular!$H$5:$H$1504,SUMPRODUCT(MAX((Randevular!$A$5:$A$1504=G$6)*(ABS(Randevular!$B$5:$B$1504-$A34)<0.0001)*(Randevular!$J$5:$J$1504<>"İptal")*(ROW(Randevular!$A$5:$A$1504)-4))))="",""," · "&INDEX(Randevular!$H$5:$H$1504,SUMPRODUCT(MAX((Randevular!$A$5:$A$1504=G$6)*(ABS(Randevular!$B$5:$B$1504-$A34)<0.0001)*(Randevular!$J$5:$J$1504<>"İptal")*(ROW(Randevular!$A$5:$A$1504)-4)))))) | H34: =IF(SUMPRODUCT(MAX((Randevular!$A$5:$A$1504=H$6)*(ABS(Randevular!$B$5:$B$1504-$A34)<0.0001)*(Randevular!$J$5:$J$1504<>"İptal")*(ROW(Randevular!$A$5:$A$1504)-4)))=0,"",INDEX(Randevular!$E$5:$E$1504,SUMPRODUCT(MAX((Randevular!$A$5:$A$1504=H$6)*(ABS(Randevular!$B$5:$B$1504-$A34)<0.0001)*(Randevular!$J$5:$J$1504<>"İptal")*(ROW(Randevular!$A$5:$A$1504)-4))))&IF(INDEX(Randevular!$H$5:$H$1504,SUMPRODUCT(MAX((Randevular!$A$5:$A$1504=H$6)*(ABS(Randevular!$B$5:$B$1504-$A34)<0.0001)*(Randevular!$J$5:$J$1504<>"İptal")*(ROW(Randevular!$A$5:$A$1504)-4))))="",""," · "&INDEX(Randevular!$H$5:$H$1504,SUMPRODUCT(MAX((Randevular!$A$5:$A$1504=H$6)*(ABS(Randevular!$B$5:$B$1504-$A34)<0.0001)*(Randevular!$J$5:$J$1504<>"İptal")*(ROW(Randevular!$A$5:$A$1504)-4))))))

Sheet Özet
A1: Randevu Defteri — Özet
A2: Ücretsiz şablon · İşletme Yönetim · isletmeyonetim.com — Programda tutmak için tıklayın (250 kayıt ücretsiz)
A3: Ay (1–12) → | B3: 9
A4: Yıl → | B4: 2026
A6: Toplam randevu (iptal hariç) | B6: =SUMPRODUCT((MONTH(Randevular!$A$5:$A$1504)=$B$3)*(YEAR(Randevular!$A$5:$A$1504)=$B$4)*(Randevular!$J$5:$J$1504<>"İptal")*(Randevular!$A$5:$A$1504<>""))
A7: Gelen | B7: =SUMPRODUCT((MONTH(Randevular!$A$5:$A$1504)=$B$3)*(YEAR(Randevular!$A$5:$A$1504)=$B$4)*(Randevular!$J$5:$J$1504="Geldi"))
A8: Gelmeyen | B8: =SUMPRODUCT((MONTH(Randevular!$A$5:$A$1504)=$B$3)*(YEAR(Randevular!$A$5:$A$1504)=$B$4)*(Randevular!$J$5:$J$1504="Gelmedi"))
A9: İptal / ertelenen | B9: =SUMPRODUCT((MONTH(Randevular!$A$5:$A$1504)=$B$3)*(YEAR(Randevular!$A$5:$A$1504)=$B$4)*((Randevular!$J$5:$J$1504="İptal")+(Randevular!$J$5:$J$1504="Ertelendi")))
A10: Gelmeme oranı | B10: =IF(B7+B8=0,"",B8/(B7+B8))
A11: Hatırlatma gönderilenlerde gelmeme | B11: =IFERROR(SUMPRODUCT((MONTH(Randevular!$A$5:$A$1504)=$B$3)*(YEAR(Randevular!$A$5:$A$1504)=$B$4)*(Randevular!$J$5:$J$1504="Gelmedi")*(Randevular!$K$5:$K$1504="Evet"))/SUMPRODUCT((MONTH(Randevular!$A$5:$A$1504)=$B$3)*(YEAR(Randevular!$A$5:$A$1504)=$B$4)*((Randevular!$J$5:$J$1504="Geldi")+(Randevular!$J$5:$J$1504="Gelmedi"))*(Randevular!$K$5:$K$1504="Evet")),"")
A12: Hatırlatma gönderilmeyenlerde gelmeme | B12: =IFERROR(SUMPRODUCT((MONTH(Randevular!$A$5:$A$1504)=$B$3)*(YEAR(Randevular!$A$5:$A$1504)=$B$4)*(Randevular!$J$5:$J$1504="Gelmedi")*(Randevular!$K$5:$K$1504<>"Evet"))/SUMPRODUCT((MONTH(Randevular!$A$5:$A$1504)=$B$3)*(YEAR(Randevular!$A$5:$A$1504)=$B$4)*((Randevular!$J$5:$J$1504="Geldi")+(Randevular!$J$5:$J$1504="Gelmedi"))*(Randevular!$K$5:$K$1504<>"Evet")),"")
A13: Gelen randevulardan ciro ₺ | B13: =SUMPRODUCT((MONTH(Randevular!$A$5:$A$1504)=$B$3)*(YEAR(Randevular!$A$5:$A$1504)=$B$4)*(Randevular!$J$5:$J$1504="Geldi")*Randevular!$I$5:$I$1504)
A14: Gelmeyenler yüzünden boş kalan ₺ | B14: =SUMPRODUCT((MONTH(Randevular!$A$5:$A$1504)=$B$3)*(YEAR(Randevular!$A$5:$A$1504)=$B$4)*(Randevular!$J$5:$J$1504="Gelmedi")*Randevular!$I$5:$I$1504)
A16: Hatırlatma gönderilen ve gönderilmeyen randevulardaki gelmeme oranını karşılaştırın: fark, hatırlatmanın size kazandırdığıdır.

Sheet Randevular
A1: Randevu Defteri
A2: Ücretsiz şablon · İşletme Yönetim · isletmeyonetim.com — Programda tutmak için tıklayın (250 kayıt ücretsiz)
A3: Saati 14:30 biçiminde yazın. Bitiş kendiliğinden hesaplanır; aynı personelde saatler çakışırsa 'ÇAKIŞMA' yazar ve satır turuncuya döner.
A4: Tarih | B4: Başlangıç | C4: Süre (dk) | D4: Bitiş | E4: Müşteri | F4: Telefon | G4: Hizmet | H4: Personel | I4: Ücret ₺ | J4: Durum | K4: Hatırlatma gönderildi | L4: Not | M4: Uyarı
A5: 46286 | B5: 0.41666667 | C5: 45 | D5: =IF(OR(B5="",C5=""),"",B5+C5/1440) | E5: Ayşe Kaya | F5: 0532 000 00 11 | G5: Saç kesimi | H5: Elif | I5: 450 | J5: Geldi | K5: Evet | L5: ÖRNEK | M5: =IF(OR(A5="",B5="",H5="",J5="İptal"),"",IF(COUNTIFS($A$5:$A$1504,A5,$H$5:$H$1504,H5,$B$5:$B$1504,"<"&D5,$D$5:$D$1504,">"&B5,$J$5:$J$1504,"<>İptal")>1,"ÇAKIŞMA",""))
A6: 46286 | B6: 0.4375 | C6: 60 | D6: =IF(OR(B6="",C6=""),"",B6+C6/1440) | E6: Zeynep Arslan | F6: 0532 000 00 12 | G6: Boya | H6: Elif | I6: 1200 | J6: Bekliyor | K6: Evet | L6: ÖRNEK — çakışma örneği | M6: =IF(OR(A6="",B6="",H6="",J6="İptal"),"",IF(COUNTIFS($A$5:$A$1504,A6,$H$5:$H$1504,H6,$B$5:$B$1504,"<"&D6,$D$5:$D$1504,">"&B6,$J$5:$J$1504,"<>İptal")>1,"ÇAKIŞMA",""))
A7: 46286 | B7: 0.45833333 | C7: 30 | D7: =IF(OR(B7="",C7=""),"",B7+C7/1440) | E7: Mehmet Demir | F7: 0532 000 00 13 | G7: Sakal tıraşı | H7: Can | I7: 250 | J7: Gelmedi | K7: Hayır | L7: ÖRNEK | M7: =IF(OR(A7="",B7="",H7="",J7="İptal"),"",IF(COUNTIFS($A$5:$A$1504,A7,$H$5:$H$1504,H7,$B$5:$B$1504,"<"&D7,$D$5:$D$1504,">"&B7,$J$5:$J$1504,"<>İptal")>1,"ÇAKIŞMA",""))
A8: 46288 | B8: 0.58333333 | C8: 90 | D8: =IF(OR(B8="",C8=""),"",B8+C8/1440) | E8: Selin Öz | F8: 0532 000 00 14 | G8: Manikür + pedikür | H8: Elif | I8: 800 | J8: Bekliyor | K8: Hayır | L8: ÖRNEK | M8: =IF(OR(A8="",B8="",H8="",J8="İptal"),"",IF(COUNTIFS($A$5:$A$1504,A8,$H$5:$H$1504,H8,$B$5:$B$1504,"<"&D8,$D$5:$D$1504,">"&B8,$J$5:$J$1504,"<>İptal")>1,"ÇAKIŞMA",""))
D9: =IF(OR(B9="",C9=""),"",B9+C9/1440) | M9: =IF(OR(A9="",B9="",H9="",J9="İptal"),"",IF(COUNTIFS($A$5:$A$1504,A9,$H$5:$H$1504,H9,$B$5:$B$1504,"<"&D9,$D$5:$D$1504,">"&B9,$J$5:$J$1504,"<>İptal")>1,"ÇAKIŞMA",""))
D10: =IF(OR(B10="",C10=""),"",B10+C10/1440) | M10: =IF(OR(A10="",B10="",H10="",J10="İptal"),"",IF(COUNTIFS($A$5:$A$1504,A10,$H$5:$H$1504,H10,$B$5:$B$1504,"<"&D10,$D$5:$D$1504,">"&B10,$J$5:$J$1504,"<>İptal")>1,"ÇAKIŞMA",""))
D11: =IF(OR(B11="",C11=""),"",B11+C11/1440) | M11: =IF(OR(A11="",B11="",H11="",J11="İptal"),"",IF(COUNTIFS($A$5:$A$1504,A11,$H$5:$H$1504,H11,$B$5:$B$1504,"<"&D11,$D$5:$D$1504,">"&B11,$J$5:$J$1504,"<>İptal")>1,"ÇAKIŞMA",""))
D12: =IF(OR(B12="",C12=""),"",B12+C12/1440) | M12: =IF(OR(A12="",B12="",H12="",J12="İptal"),"",IF(COUNTIFS($A$5:$A$1504,A12,$H$5:$H$1504,H12,$B$5:$B$1504,"<"&D12,$D$5:$D$1504,">"&B12,$J$5:$J$1504,"<>İptal")>1,"ÇAKIŞMA",""))
D13: =IF(OR(B13="",C13=""),"",B13+C13/1440) | M13: =IF(OR(A13="",B13="",H13="",J13="İptal"),"",IF(COUNTIFS($A$5:$A$1504,A13,$H$5:$H$1504,H13,$B$5:$B$1504,"<"&D13,$D$5:$D$1504,">"&B13,$J$5:$J$1504,"<>İptal")>1,"ÇAKIŞMA",""))
D14: =IF(OR(B14="",C14=""),"",B14+C14/1440) | M14: =IF(OR(A14="",B14="",H14="",J14="İptal"),"",IF(COUNTIFS($A$5:$A$1504,A14,$H$5:$H$1504,H14,$B$5:$B$1504,"<"&D14,$D$5:$D$1504,">"&B14,$J$5:$J$1504,"<>İptal")>1,"ÇAKIŞMA",""))
D15: =IF(OR(B15="",C15=""),"",B15+C15/1440) | M15: =IF(OR(A15="",B15="",H15="",J15="İptal"),"",IF(COUNTIFS($A$5:$A$1504,A15,$H$5:$H$1504,H15,$B$5:$B$1504,"<"&D15,$D$5:$D$1504,">"&B15,$J$5:$J$1504,"<>İptal")>1,"ÇAKIŞMA",""))
D16: =IF(OR(B16="",C16=""),"",B16+C16/1440) | M16: =IF(OR(A16="",B16="",H16="",J16="İptal"),"",IF(COUNTIFS($A$5:$A$1504,A16,$H$5:$H$1504,H16,$B$5:$B$1504,"<"&D16,$D$5:$D$1504,">"&B16,$J$5:$J$1504,"<>İptal")>1,"ÇAKIŞMA",""))
D17: =IF(OR(B17="",C17=""),"",B17+C17/1440) | M17: =IF(OR(A17="",B17="",H17="",J17="İptal"),"",IF(COUNTIFS($A$5:$A$1504,A17,$H$5:$H$1504,H17,$B$5:$B$1504,"<"&D17,$D$5:$D$1504,">"&B17,$J$5:$J$1504,"<>İptal")>1,"ÇAKIŞMA",""))
D18: =IF(OR(B18="",C18=""),"",B18+C18/1440) | M18: =IF(OR(A18="",B18="",H18="",J18="İptal"),"",IF(COUNTIFS($A$5:$A$1504,A18,$H$5:$H$1504,H18,$B$5:$B$1504,"<"&D18,$D$5:$D$1504,">"&B18,$J$5:$J$1504,"<>İptal")>1,"ÇAKIŞMA",""))
D19: =IF(OR(B19="",C19=""),"",B19+C19/1440) | M19: =IF(OR(A19="",B19="",H19="",J19="İptal"),"",IF(COUNTIFS($A$5:$A$1504,A19,$H$5:$H$1504,H19,$B$5:$B$1504,"<"&D19,$D$5:$D$1504,">"&B19,$J$5:$J$1504,"<>İptal")>1,"ÇAKIŞMA",""))
D20: =IF(OR(B20="",C20=""),"",B20+C20/1440) | M20: =IF(OR(A20="",B20="",H20="",J20="İptal"),"",IF(COUNTIFS($A$5:$A$1504,A20,$H$5:$H$1504,H20,$B$5:$B$1504,"<"&D20,$D$5:$D$1504,">"&B20,$J$5:$J$1504,"<>İptal")>1,"ÇAKIŞMA",""))
... D1504: =IF(OR(B1504="",C1504=""),"",B1504+C1504/1440) | M1504: =IF(OR(A1504="",B1504="",H1504="",J1504="İptal"),"",IF(COUNTIFS($A$5:$A$1504,A1504,$H$5:$H$1504,H1504,$B$5:$B$1504,"<"&D1504,$D$5:$D$1504,">"&B1504,$J$5:$J$1504,"<>İptal")>1,"ÇAKIŞMA",""))

Sheet Nasıl kullanılır
A1: Randevu Defteri — Nasıl kullanılır
A3: Dört sayfa
A5: Randevular: her randevu bir satır. Tarih, başlangıç saati (14:30 biçiminde), süre (dakika), müşteri, hizmet ve personel yazılır; bitiş kendiliğinden hesaplanır.
A6: Haftalık Görünüm: B3'e haftanın ilk gününü yazın; 08:00–21:30 arası yarım saatlik dilimlerde dolu saatler renklenir, randevunun başladığı hücrede müşteri ve personel adı yazar.
A7: Özet: ay ve yılı seçin; gelen, gelmeyen, iptal, gelmeme oranı ve gelmeyenler yüzünden boş kalan ciro hesaplanır.
A8: Çakışma
A10: Aynı gün, aynı personelde saatleri üst üste binen iki randevu 'ÇAKIŞMA' yazar ve turuncuya döner. Personel sütununu boş bırakırsanız çakışma kontrolü yapılmaz.
A11: Hatırlatma
A13: Randevudan bir gün önce ve aynı gün sabah kısa bir mesaj gelmeyen sayısını belirgin düşürür. Hatırlatma gönderdiğiniz randevuda 'Hatırlatma gönderildi' sütununa Evet yazın; Özet sayfası farkı gösterir.
A14: Hatırlatma mesajına kampanya ya da tanıtım eklemeyin: tanıtım amaçlı ticari elektronik ileti için alıcının önceden onayı gerekir (6563 sayılı Kanun).
A15: Kişisel veriler
A17: Müşteri adı ve telefonu kişisel veridir; yalnızca randevu için kullanın, dosyayı paylaşılan klasörde ya da herkesin açabildiği bir bilgisayarda açık bırakmayın (6698 sayılı KVKK).
... A22: İşletme Yönetim bir yazılım işletmesidir; avukat ya da mali müşavir değildir. Bu şablon örnek niteliğindedir, ilgili resmî mevzuattan (mevzuat.gov.tr) derlenmiştir ve hukuki danışmanlık yerine geçmez; bağlayıcı olan resmî metindir. Kullanmadan önce kendi işinize göre gözden geçirin, önemli bir uyuşmazlıkta bir avukata kontrol ettirin.
